Workbook

Sheet Respuestas 
A2: Fecha de nacimiento | B2: Segmento | C2: ¿Dónde reside? | D2: ¿En que Municipio realizó su compra? | E2: ¿Dónde suele hacer sus compras? | F2: ¿En que tienda hizo sus compras el día de hoy | G2: De 1 a 5 califique la calidad de los productos ofrecidos en los supermercados Ara, D1 e Ísimo | H2: ¿Qué aspectos de la disposición de la tienda influyen en su decisión de compra? | I2: ¿Cuáles son los principales factores que lo motivan a comprar en Ara o D1 en lugar de en uno tradicional? | J2: De 1 a 5 qué tan importante es la variedad de productos para usted al realizar sus compras en un supermercado? | K2: ¿Cuál es la principal desventaja que encuentra en los supermercados Ara y D1? | L2: De 1 a 5 con cuanto califica la atención al cliente en los supermercados Ara y D1? | M2: ¿Qué incentivos o promociones cree que podrían atraerlo a comprar más en Ara o D1? | N2: ¿Cree que los supermercados tradicionales podrían adoptar algunas prácticas de Ara o D1 para mejorar su oferta y competir mejor? ¿Cuáles? | O2: ¿Considera que los precios en este establecimiento son competitivos en comparación con otros? | P2: ¿Ha aprovechado las ofertas y promociones disponibles en el establecimiento de su preferencia? | Q2: Considera que un aspecto impotante para elegir su teinda es que tenga amplia gama de opciones en diferentes categorias de productos? | R2: De 1 a 5 que tanta importancia le da a la limpieza y organización del establecimiento donde suele mercar | S2: De 1 a 5 califique la comodidad y accesibilidad general del establecimiento donde acaba de mercar | V2: Segmento | W2: Ciudad
A3: 24634 | B3: {=XLOOKUP(D3,'Analisis para entender satisfac'!$B$3:$B$22,'Analisis para entender satisfac'!$A$3:$A$22,)} -> 4 | C3: Sesquilé | D3: Sesquilé | E3: Negocio local | F3: D1 | G3: 1 | H3: Variedad de productos | I3: Precios | J3: 5 | K3: Calidad de los Productos | L3: 1 | M3: Cupones | N3: Precios competitivos | O3: Si | P3: No | Q3: no | R3: 1 | S3: 2 | V3: 4 | W3: Sesquilé
A4: 32797 | B4: {=XLOOKUP(D4,'Analisis para entender satisfac'!$B$3:$B$22,'Analisis para entender satisfac'!$A$3:$A$22,)} -> 4 | C4: Bogotá | D4: Suesca | E4: Cadena de supermercado | F4: D1 | G4: 2 | H4: Disponibilidad del producto | I4: Precios | J4: 4 | K4: Calidad de los Productos | L4: 2 | M4: Descuentos pronto a vencer | N4: Variedad de Productos | O4: Si | P4: Si | Q4: no | R4: 3 | S4: 4 | V4: 4 | W4: Suesca
A5: 30281 | B5: {=XLOOKUP(D5,'Analisis para entender satisfac'!$B$3:$B$22,'Analisis para entender satisfac'!$A$3:$A$22,)} -> 1 | C5: Briceño | D5: Cajicá | E5: Supermercado al por mayor (Makro, Price Smart) | F5: Ara | G5: 4 | H5: Ubicación | I5: Ubicación | J5: 5 | K5: Calidad de los Productos | L5: 4 | M5: Cupones | N5: Ubicación y Accesibilidad | O5: Si | P5: Si | Q5: no | R5: 4 | S5: 4 | V5: 1 | W5: Cajicá
A6: 22756 | B6: {=XLOOKUP(D6,'Analisis para entender satisfac'!$B$3:$B$22,'Analisis para entender satisfac'!$A$3:$A$22,)} -> 2 | C6: Gachancipá | D6: Gachancipá | E6: Negocio local | F6: Ara | G6: 1 | H6: Ubicación | I6: Ubicación | J6: 2 | K6: Compras Impulsivas y Dificultad para Hacer un Mercado Completo | L6: 3 | M6: Descuentos pronto a vencer | N6: Precios competitivos | O6: Si | P6: No | Q6: Si | R6: 1 | S6: 5 | V6: 2 | W6: Gachancipá
A7: 31669 | B7: {=XLOOKUP(D7,'Analisis para entender satisfac'!$B$3:$B$22,'Analisis para entender satisfac'!$A$3:$A$22,)} -> 3 | C7: Cogua | D7: Cogua | E7: Retailer hard discounter (Ara, Isimo, D1) | F7: D1 | G7: 1 | H7: Limpieza/orden | I7: Precios | J7: 2 | K7: Compras Impulsivas y Dificultad para Hacer un Mercado Completo | L7: 3 | M7: Descuentos pronto a vencer | N7: Precios competitivos | O7: Si | P7: No | Q7: no | R7: 1 | S7: 1 | V7: 3 | W7: Cogua
A8: 31298 | B8: {=XLOOKUP(D8,'Analisis para entender satisfac'!$B$3:$B$22,'Analisis para entender satisfac'!$A$3:$A$22,)} -> 2 | C8: Briceño | D8: Briceño | E8: Negocio local | F8: D1 | G8: 1 | H8: Precio | I8: Precios | J8: 1 | K8: Presentación de la Tienda y Productos | L8: 1 | M8: Descuentos pronto a vencer | N8: Precios competitivos | O8: Si | P8: No | Q8: no | R8: 2 | S8: 2 | V8: 2 | W8: Briceño
A9: 29678 | B9: {=XLOOKUP(D9,'Analisis para entender satisfac'!$B$3:$B$22,'Analisis para entender satisfac'!$A$3:$A$22,)} -> 1 | C9: Chía | D9: Chía | E9: Retailer hard discounter (Ara, Isimo, D1) | F9: Ísimo | G9: 2 | H9: Calidad | I9: Ubicación | J9: 2 | K9: Variedad y Disponibilidad de Productos | L9: 2 | M9: Acumulación de puntos | N9: Variedad de Productos | O9: Si | P9: No | Q9: no | R9: 4 | S9: 5 | V9: 1 | W9: Chía
A10: 34809 | B10: {=XLOOKUP(D10,'Analisis para entender satisfac'!$B$3:$B$22,'Analisis para entender satisfac'!$A$3:$A$22,)} -> 6 | C10: Madrid | D10: Madrid | E10: Cadena de supermercado | F10: D1 | G10: 2 | H10: Limpieza/orden | I10: Precios | J10: 3 | K10: Falta de fruver | L10: 4 | M10: Cupones | N10: Atención al cliente | O10: Si | P10: Si | Q10: no | R10: 2 | S10: 5 | V10: 6 | W10: Madrid
A11: 36320 | B11: {=XLOOKUP(D11,'Analisis para entender satisfac'!$B$3:$B$22,'Analisis para entender satisfac'!$A$3:$A$22,)} -> 2 | C11: Gachancipá | D11: Gachancipá | E11: Negocio local | F11: Ara | G11: 3 | H11: Calidad | I11: Precios | J11: 3 | K11: Presentación de la Tienda y Productos | L11: 1 | M11: Promociones de productos | N11: Atención al cliente | O11: Si | P11: No | Q11: Si | R11: 3 | S11: 5 | V11: 5 | W11: Subachoque
A12: 24523 | B12: {=XLOOKUP(D12,'Analisis para entender satisfac'!$B$3:$B$22,'Analisis para entender satisfac'!$A$3:$A$22,)} -> 5 | C12: Bogotá | D12: Subachoque | E12: Cadena de supermercado | F12: Ara | G12: 3 | H12: Ubicación | I12: Ubicación | J12: 4 | K12: Filas y Tiempo de Espera en Caja | L12: 4 | M12: Cupones | N12: Ubicación y Accesibilidad | O12: Si | P12: Si | Q12: no | R12: 2 | S12: 2 | V12: 4 | W12: Nemocón
A13: 29171 | B13: {=XLOOKUP(D13,'Analisis para entender satisfac'!$B$3:$B$22,'Analisis para entender satisfac'!$A$3:$A$22,)} -> 4 | C13: Nemocón | D13: Nemocón | E13: Retailer hard discounter (Ara, Isimo, D1) | F13: Ara | G13: 1 | H13: Tamaño | I13: Precios | J13: 2 | K13: Presentación de la Tienda y Productos | L13: 2 | M13: Promociones de productos | N13: Ubicación y Accesibilidad | O13: Si | P13: No | Q13: Si | R13: 1 | S13: 3 | V13: 6 | W13: Mosquera
A14: 33376 | B14: {=XLOOKUP(D14,'Analisis para entender satisfac'!$B$3:$B$22,'Analisis para entender satisfac'!$A$3:$A$22,)} -> 6 | C14: Funza | D14: Mosquera | E14: Cadena de supermercado | F14: D1 | G14: 2 | H14: Ubicación | I14: Ubicación | J14: 4 | K14: Presentación de la Tienda y Productos | L14: 4 | M14: Acumulación de puntos | N14: Ubicación y Accesibilidad | O14: Si | P14: Si | Q14: no | R14: 1 | S14: 2 | V14: 2 | W14: Tocancipá
... A22: 36561 | B22: {=XLOOKUP(D22,'Analisis para entender satisfac'!$B$3:$B$22,'Analisis para entender satisfac'!$A$3:$A$22,)} -> 4 | C22: Tocaima | D22: Suesca | E22: Negocio local | F22: D1 | G22: 2 | H22: Tamaño | I22: Ubicación | J22: 4 | K22: Domicilios | L22: 5 | M22: Cupones | N22: Ubicación y Accesibilidad | O22: Si | P22: No | Q22: no | R22: 4 | S22: 3 | V22: 5 | W22: Tabio
A23: 24111 | B23: {=XLOOKUP(D23,'Analisis para entender satisfac'!$B$3:$B$22,'Analisis para entender satisfac'!$A$3:$A$22,)} -> 1 | C23: Briceño | D23: Cajicá | E23: Supermercado al por mayor (Makro, Price Smart) | F23: Ara | G23: 1 | H23: Limpieza/orden | I23: Ubicación | J23: 1 | K23: Ubicación y Tamaño de las Tiendas | L23: 5 | M23: Descuentos pronto a vencer | N23: Variedad de Productos | O23: Si | P23: Si | Q23: Si | R23: 3 | S23: 2
A24: 34111 | B24: {=XLOOKUP(D24,'Analisis para entender satisfac'!$B$3:$B$22,'Analisis para entender satisfac'!$A$3:$A$22,)} -> 3 | C24: Cogua | D24: Cogua | E24: Negocio local | F24: D1 | G24: 3 | H24: Disponibilidad del producto | I24: Precios | J24: 1 | K24: Domicilios | L24: 1 | M24: Promociones de productos | N24: Ubicación y Accesibilidad | O24: Si | P24: No | Q24: no | R24: 4 | S24: 4
A25: 34987 | B25: {=XLOOKUP(D25,'Analisis para entender satisfac'!$B$3:$B$22,'Analisis para entender satisfac'!$A$3:$A$22,)} -> 5 | C25: Tenjo | D25: Tenjo | E25: Negocio local | F25: D1 | G25: 2 | H25: Ubicación | I25: Precios | J25: 2 | K25: Compras Impulsivas y Dificultad para Hacer un Mercado Completo | L25: 5 | M25: Promociones de productos | N25: Ubicación y Accesibilidad | O25: Si | P25: No | Q25: no | R25: 1 | S25: 1
A26: 20408 | B26: {=XLOOKUP(D26,'Analisis para entender satisfac'!$B$3:$B$22,'Analisis para entender satisfac'!$A$3:$A$22,)} -> 5 | C26: Tenjo | D26: Tenjo | E26: Cadena de supermercado | F26: D1 | G26: 4 | H26: Tamaño | I26: Productos unicos del retailer | J26: 1 | K26: Atención al Cliente y Servicio | L26: 4 | M26: Promociones de productos | N26: Variedad de Productos | O26: Si | P26: Si | Q26: Si | R26: 5 | S26: 3
A27: 30584 | B27: {=XLOOKUP(D27,'Analisis para entender satisfac'!$B$3:$B$22,'Analisis para entender satisfac'!$A$3:$A$22,)} -> 5 | C27: Bogotá | D27: Subachoque | E27: Cadena de supermercado | F27: Ara | G27: 2 | H27: Parqueadero | I27: Ubicación | J27: 5 | K27: Presentación de la Tienda y Productos | L27: 1 | M27: Promociones de productos | N27: Variedad de Productos | O27: Si | P27: Si | Q27: no | R27: 1 | S27: 1
A28: 28448 | B28: {=XLOOKUP(D28,'Analisis para entender satisfac'!$B$3:$B$22,'Analisis para entender satisfac'!$A$3:$A$22,)} -> 4 | C28: Sesquilé | D28: Sesquilé | E28: Negocio local | F28: D1 | G28: 1 | H28: Precio | I28: Precios | J28: 5 | K28: Filas y Tiempo de Espera en Caja | L28: 2 | M28: Acumulación de puntos | N28: Precios competitivos | O28: Si | P28: No | Q28: Si | R28: 2 | S28: 5
A29: 22756 | B29: {=XLOOKUP(D29,'Analisis para entender satisfac'!$B$3:$B$22,'Analisis para entender satisfac'!$A$3:$A$22,)} -> 2 | C29: Gachancipá | D29: Gachancipá | E29: Retailer hard discounter (Ara, Isimo, D1) | F29: Ara | G29: 3 | H29: Disponibilidad del producto | I29: Variedad | J29: 5 | K29: Filas y Tiempo de Espera en Caja | L29: 4 | M29: Cupones | N29: Ubicación y Accesibilidad | O29: Si | P29: No | Q29: no | R29: 2 | S29: 5
A30: 25071 | B30: {=XLOOKUP(D30,'Analisis para entender satisfac'!$B$3:$B$22,'Analisis para entender satisfac'!$A$3:$A$22,)} -> 3 | C30: Cogua | D30: Cogua | E30: Cadena de supermercado | F30: D1 | G30: 2 | H30: Tamaño | I30: Productos unicos del retailer | J30: 1 | K30: Ubicación y Tamaño de las Tiendas | L30: 1 | M30: Acumulación de puntos | N30: Precios competitivos | O30: Si | P30: Si | Q30: no | R30: 4 | S30: 3
A31: 21013 | B31: {=XLOOKUP(D31,'Analisis para entender satisfac'!$B$3:$B$22,'Analisis para entender satisfac'!$A$3:$A$22,)} -> 6 | C31: Mosquera | D31: Mosquera | E31: Cadena de supermercado | F31: D1 | G31: 1 | H31: Ubicación | I31: Precios | J31: 4 | K31: Calidad de los Productos | L31: 2 | M31: Promociones de productos | N31: Precios competitivos | O31: Si | P31: Si | Q31: Si | R31: 1 | S31: 3
A32: 30798 | B32: {=XLOOKUP(D32,'Analisis para entender satisfac'!$B$3:$B$22,'Analisis para entender satisfac'!$A$3:$A$22,)} -> 6 | C32: Facatativá | D32: Facatativá | E32: Retailer hard discounter (Ara, Isimo, D1) | F32: Ara | G32: 2 | H32: Cercania con el personal | I32: Ubicación | J32: 5 | K32: Atención al Cliente y Servicio | L32: 5 | M32: Promociones de productos | N32: Precios competitivos | O32: Si | P32: No | Q32: no | R32: 2 | S32: 1
A33: 24929 | B33: {=XLOOKUP(D33,'Analisis para entender satisfac'!$B$3:$B$22,'Analisis para entender satisfac'!$A$3:$A$22,)} -> 4 | C33: Nemocón | D33: Nemocón | E33: Negocio local | F33: Ara | G33: 1 | H33: Precio | I33: Ubicación | J33: 5 | K33: Filas y Tiempo de Espera en Caja | L33: 5 | M33: Promociones de productos | N33: Precios competitivos | O33: Si | P33: Si | Q33: Si | R33: 4 | S33: 1
A34: 27700 | B34: {=XLOOKUP(D34,'Analisis para entender satisfac'!$B$3:$B$22,'Analisis para entender satisfac'!$A$3:$A$22,)} -> 6 | C34: Funza | D34: Funza | E34: Retailer hard discounter (Ara, Isimo, D1) | F34: Ara | G34: 4 | H34: Disponibilidad del producto | I34: Precios | J34: 3 | K34: Filas y Tiempo de Espera en Caja | L34: 5 | M34: Cupones | N34: Precios competitivos | O34: Si | P34: No | Q34: Si | R34: 3 | S34: 4
... A101: 25483 | B101: {=XLOOKUP(D101,'Analisis para entender satisfac'!$B$3:$B$22,'Analisis para entender satisfac'!$A$3:$A$22,)} -> 6 | C101: El Rosal | D101: Facatativá | E101: Negocio local | F101: Ara | G101: 3 | H101: Disponibilidad del producto | I101: Ubicación | J101: 3 | K101: Domicilios | L101: 4 | M101: Promociones de productos | N101: Precios competitivos | O101: Si | P101: Si | Q101: no | R101: 2 | S101: 5
A102: 01/21/1986 | B102: {=XLOOKUP(D102,'Analisis para entender satisfac'!$B$3:$B$22,'Analisis para entender satisfac'!$A$3:$A$22,)} -> 5 | C102: Subachoque | D102: Subachoque | E102: Negocio local | F102: Ara | G102: 1 | H102: Precio | I102: Precios | J102: 2 | K102: Filas y Tiempo de Espera en Caja | L102: 4 | M102: Descuentos pronto a vencer | N102: Precios competitivos | O102: Si | P102: Si | Q102: no | R102: 2 | S102: 2
A103: 29805 | B103: {=XLOOKUP(D103,'Analisis para entender satisfac'!$B$3:$B$22,'Analisis para entender satisfac'!$A$3:$A$22,)} -> 5 | C103: Subachoque | D103: Subachoque | E103: Negocio local | F103: Ara | G103: 5 | H103: Calidad | I103: Productos unicos del retailer | J103: 4 | K103: Atención al Cliente y Servicio | L103: 1 | M103: Premios/ rifas | N103: Precios competitivos | O103: No | P103: Si | Q103: no | R103: 4 | S103: 4
A104: 10/16/1972 | B104: {=XLOOKUP(D104,'Analisis para entender satisfac'!$B$3:$B$22,'Analisis para entender satisfac'!$A$3:$A$22,)} -> 3 | C104: Cogua | D104: Zipaquirá | E104: Negocio local | F104: Ísimo | G104: 5 | H104: Disponibilidad del producto | I104: Variedad | J104: 5 | K104: Falta de fruver | L104: 4 | M104: Descuentos pronto a vencer | N104: Variedad de Productos | O104: Si | P104: No | Q104: Si | R104: 2 | S104: 3
A105: 10/29/1959 | B105: {=XLOOKUP(D105,'Analisis para entender satisfac'!$B$3:$B$22,'Analisis para entender satisfac'!$A$3:$A$22,)} -> 5 | C105: Tabio | D105: Tabio | E105: Retailer hard discounter (Ara, Isimo, D1) | F105: Ísimo | G105: 1 | H105: Calidad del servicio | I105: Variedad | J105: 1 | K105: Variedad y Disponibilidad de Productos | L105: 5 | M105: Acumulación de puntos | N105: Atención al cliente | O105: Si | P105: No | Q105: no | R105: 2 | S105: 4
A106: 03/25/1968 | B106: {=XLOOKUP(D106,'Analisis para entender satisfac'!$B$3:$B$22,'Analisis para entender satisfac'!$A$3:$A$22,)} -> 4 | C106: Sesquilé | D106: Sesquilé | E106: Retailer hard discounter (Ara, Isimo, D1) | F106: D1 | G106: 2 | H106: Domicilios | I106: Variedad | J106: 5 | K106: Atención al Cliente y Servicio | L106: 2 | M106: Promociones de productos | N106: Atención al cliente | O106: Si | P106: No | Q106: no | R106: 1 | S106: 5
A107: 27124 | B107: {=XLOOKUP(D107,'Analisis para entender satisfac'!$B$3:$B$22,'Analisis para entender satisfac'!$A$3:$A$22,)} -> 3 | C107: Bogotá | D107: Zipaquirá | E107: Cadena de supermercado | F107: Ísimo | G107: 2 | H107: Calidad | I107: Precios | J107: 5 | K107: Variedad y Disponibilidad de Productos | L107: 5 | M107: Cupones | N107: Variedad de Productos | O107: Si | P107: Si | Q107: no | R107: 1 | S107: 5
A108: 12/18/1978 | B108: {=XLOOKUP(D108,'Analisis para entender satisfac'!$B$3:$B$22,'Analisis para entender satisfac'!$A$3:$A$22,)} -> 1 | C108: Cajicá | D108: Cajicá | E108: Supermercado al por mayor (Makro, Price Smart) | F108: Ara | G108: 2 | H108: Precio | I108: Precios | J108: 4 | K108: Domicilios | L108: 4 | M108: Promociones de productos | N108: Precios competitivos | O108: Si | P108: Si | Q108: no | R108: 1 | S108: 1
A109: 04/30/1985 | B109: {=XLOOKUP(D109,'Analisis para entender satisfac'!$B$3:$B$22,'Analisis para entender satisfac'!$A$3:$A$22,)} -> 1 | C109: Cota | D109: Cota | E109: Retailer hard discounter (Ara, Isimo, D1) | F109: Ara | G109: 3 | H109: Precio | I109: Ubicación | J109: 2 | K109: Ubicación y Tamaño de las Tiendas | L109: 5 | M109: Descuentos pronto a vencer | N109: Precios competitivos | O109: Si | P109: No | Q109: no | R109: 2 | S109: 2
A110: 23536 | B110: {=XLOOKUP(D110,'Analisis para entender satisfac'!$B$3:$B$22,'Analisis para entender satisfac'!$A$3:$A$22,)} -> 5 | C110: Tenjo | D110: Tenjo | E110: Negocio local | F110: D1 | G110: 2 | H110: Calidad | I110: Productos unicos del retailer | J110: 1 | K110: Falta de fruver | L110: 3 | M110: Promociones de productos | N110: Precios competitivos | O110: Si | P110: No | Q110: no | R110: 2 | S110: 4
A111: 24629 | B111: {=XLOOKUP(D111,'Analisis para entender satisfac'!$B$3:$B$22,'Analisis para entender satisfac'!$A$3:$A$22,)} -> 6 | C111: Madrid | D111: Madrid | E111: Retailer hard discounter (Ara, Isimo, D1) | F111: D1 | G111: 3 | H111: Cercania con el personal | I111: Precios | J111: 5 | K111: Presentación de la Tienda y Productos | L111: 4 | M111: Acumulación de puntos | N111: Atención al cliente | O111: Si | P111: No | Q111: no | R111: 1 | S111: 4
A112: 09/23/1987 | B112: {=XLOOKUP(D112,'Analisis para entender satisfac'!$B$3:$B$22,'Analisis para entender satisfac'!$A$3:$A$22,)} -> 4 | C112: Chocontá | D112: Chocontá | E112: Retailer hard discounter (Ara, Isimo, D1) | F112: Ara | G112: 5 | H112: Parqueadero | I112: Precios | J112: 4 | K112: Variedad y Disponibilidad de Productos | L112: 4 | M112: Promociones de productos | N112: Atención al cliente | O112: Si | P112: Si | Q112: Si | R112: 3 | S112: 2
A113: 29133 | B113: {=XLOOKUP(D113,'Analisis para entender satisfac'!$B$3:$B$22,'Analisis para entender satisfac'!$A$3:$A$22,)} -> 3 | C113: Zipaquirá | D113: Zipaquirá | E113: Retailer hard discounter (Ara, Isimo, D1) | F113: Ísimo | G113: 4 | H113: Calidad | I113: Ubicación | J113: 4 | K113: Presentación de la Tienda y Productos | L113: 2 | M113: Promociones de productos | N113: Precios competitivos | O113: Si | P113: No | Q113: Si | R113: 1 | S113: 4
A114: 02/17/1963 | B114: {=XLOOKUP(D114,'Analisis para entender satisfac'!$B$3:$B$22,'Analisis para entender satisfac'!$A$3:$A$22,)} -> 5 | C114: El Rosal | D114: El Rosal | E114: Negocio local | F114: Ara | G114: 4 | H114: Ubicación | I114: Precios | J114: 1 | K114: Compras Impulsivas y Dificultad para Hacer un Mercado Completo | L114: 5 | M114: Cupones | N114: Precios competitivos | O114: No | P114: Si | Q114: Si | R114: 5 | S114: 5
...

Sheet Analisis para entender satisfac
B1: Variable de atención | C1: Calidad del producto | D1: Surtido | E1: Atención del cliente | F1: Pricing | G1: Pricing | H1: Surtido | I1: Características físicas del establecimiento | J1: Características físicas del establecimiento | AB1: Realidad | AC1: Expectativa | AD1: Realidad | AE1: Realidad | AF1: Realidad | AG1: Expectativa | AH1: Expectativa | AI1: Realidad
A2: Segmento | B2: Ciudad donde hizo la compra | C2: De 1 a 5 califique la calidad de los productos ofrecidos en los supermercados Ara, D1 e Ísimo | D2: De 1 a 5 qué tan importante es la variedad de productos para usted al realizar sus compras en un supermercado? | E2: De 1 a 5 con cuanto califica la atención al cliente en los supermercados Ara y D1? | F2: ¿Considera que los precios en este establecimiento son competitivos en comparación con otros? SI HACIA EL HARD DISCOUNTER | G2: ¿Ha aprovechado las ofertas y promociones disponibles en el establecimiento de su preferencia? BIAS AL NO hard discounter y tienda loca | H2: Considera que un aspecto importante para mercar en una tienda hard discounter es que tenga amplia gama de opciones en diferentes categorias de productos? BIAS AL NO en retailers y negocios locales | I2: De 1 a 5 que tanta importancia le da a la limpieza y organización del establecimiento donde suele mercar | J2: De 1 a 5 califique la comodidad y accesibilidad general del establecimiento donde acaba de mercar | AA2: Segmento | AB2: De 1 a 5 califique la calidad de los productos ofrecidos en los supermercados Ara, D1 e Ísimo | AC2: De 1 a 5 qué tan importante es la variedad de productos para usted al realizar sus compras en un supermercado? | AD2: De 1 a 5 con cuanto califica la atención al cliente en los supermercados Ara y D1? | AE2: ¿Considera que los precios en este establecimiento son competitivos en comparación con otros? | AF2: ¿Ha aprovechado las ofertas y promociones disponibles en el establecimiento de su preferencia? | AG2: Considera que un aspecto importante para mercar en una tienda hard discounter es que tenga amplia gama de opciones en diferentes categorias de productos? | AH2: De 1 a 5 que tanta importancia le da a la limpieza y organización del establecimiento donde suele mercar | AI2: De 1 a 5 califique la comodidad y accesibilidad general del establecimiento donde acaba de mercar
A3: 1 | B3: Cajicá | C3: =SUMIF('Respuestas '!$D$3:$D$330,$B3,'Respuestas '!$G$3:$G$330)/(COUNTIF('Respuestas '!$D$3:$D$330,$B3)*5) -> 0.54545455 | D3: =SUMIF('Respuestas '!$D$3:$D$330,$B3,'Respuestas '!$J$3:$J$330)/(COUNTIF('Respuestas '!$D$3:$D$330,$B3)*5) -> 0.73333333 | E3: =SUMIF('Respuestas '!$D$3:$D$330,$B3,'Respuestas '!$L$3:$L$330)/(COUNTIF('Respuestas '!$D$3:$D$330,$B3)*5) -> 0.81212121 | F3: =(COUNTIFS('Respuestas '!$D$3:$D$330,$B3,'Respuestas '!$O$3:$O$330,"si")/COUNTIF('Respuestas '!$D$3:$D$330,$B3)) -> 0.90909091 | G3: =(COUNTIFS('Respuestas '!$D$3:$D$330,$B3,'Respuestas '!$P$3:$P$330,"si")/COUNTIF('Respuestas '!$D$3:$D$330,$B3)) -> 0.72727273 | H3: =(COUNTIFS('Respuestas '!$D$3:$D$330,$B3,'Respuestas '!$Q$3:$Q$330,"si")/COUNTIF('Respuestas '!$D$3:$D$330,$B3)) -> 0.45454545 | I3: =SUMIF('Respuestas '!$D$3:$D$330,$B3,'Respuestas '!$R$3:$R$330)/(COUNTIF('Respuestas '!$D$3:$D$330,$B3)*5) -> 0.46060606 | J3: =SUMIF('Respuestas '!$D$3:$D$330,$B3,'Respuestas '!$S$3:$S$330)/(COUNTIF('Respuestas '!$D$3:$D$330,$B3)*5) -> 0.64848485 | AA3: 1 | AB3: =AVERAGEIF($A$3:$A$22,$AA3,C$3:C$22) -> 0.58310023 | AC3: =AVERAGEIF($A$3:$A$22,$AA3,D$3:D$22) -> 0.66495726 | AD3: =AVERAGEIF($A$3:$A$22,$AA3,E$3:E$22) -> 0.77327117 | AE3: =AVERAGEIF($A$3:$A$22,$AA3,F$3:F$22) -> 0.96969697 | AF3: =AVERAGEIF($A$3:$A$22,$AA3,G$3:G$22) -> 0.42191142 | AG3: =AVERAGEIF($A$3:$A$22,$AA3,H$3:H$22) -> 0.32138695 | AH3: =AVERAGEIF($A$3:$A$22,$AA3,I$3:I$22) -> 0.3971251 | AI3: =AVERAGEIF($A$3:$A$22,$AA3,J$3:J$22) -> 0.67257187
A4: 1 | B4: Chía | C4: =SUMIF('Respuestas '!$D$3:$D$330,B4,'Respuestas '!$G$3:$G$330)/(COUNTIF('Respuestas '!$D$3:$D$330,B4)*5) -> 0.55384615 | D4: =SUMIF('Respuestas '!$D$3:$D$330,$B4,'Respuestas '!$J$3:$J$330)/(COUNTIF('Respuestas '!$D$3:$D$330,$B4)*5) -> 0.66153846 | E4: =SUMIF('Respuestas '!$D$3:$D$330,$B4,'Respuestas '!$L$3:$L$330)/(COUNTIF('Respuestas '!$D$3:$D$330,$B4)*5) -> 0.70769231 | F4: =(COUNTIFS('Respuestas '!$D$3:$D$330,$B4,'Respuestas '!$O$3:$O$330,"si")/COUNTIF('Respuestas '!$D$3:$D$330,$B4)) -> 1 | G4: =(COUNTIFS('Respuestas '!$D$3:$D$330,$B4,'Respuestas '!$P$3:$P$330,"si")/COUNTIF('Respuestas '!$D$3:$D$330,$B4)) -> 0.53846154 | H4: =(COUNTIFS('Respuestas '!$D$3:$D$330,$B4,'Respuestas '!$Q$3:$Q$330,"si")/COUNTIF('Respuestas '!$D$3:$D$330,$B4)) -> 0.38461538 | I4: =SUMIF('Respuestas '!$D$3:$D$330,$B4,'Respuestas '!$R$3:$R$330)/(COUNTIF('Respuestas '!$D$3:$D$330,$B4)*5) -> 0.43076923 | J4: =SUMIF('Respuestas '!$D$3:$D$330,$B4,'Respuestas '!$S$3:$S$330)/(COUNTIF('Respuestas '!$D$3:$D$330,$B4)*5) -> 0.76923077 | AA4: 2 | AB4: =AVERAGEIF($A$3:$A$22,$AA4,C$3:C$22) -> 0.59459707 | AC4: =AVERAGEIF($A$3:$A$22,$AA4,D$3:D$22) -> 0.73328755 | AD4: =AVERAGEIF($A$3:$A$22,$AA4,E$3:E$22) -> 0.75091575 | AE4: =AVERAGEIF($A$3:$A$22,$AA4,F$3:F$22) -> 0.95352564 | AF4: =AVERAGEIF($A$3:$A$22,$AA4,G$3:G$22) -> 0.17742674 | AG4: =AVERAGEIF($A$3:$A$22,$AA4,H$3:H$22) -> 0.3834707 | AH4: =AVERAGEIF($A$3:$A$22,$AA4,I$3:I$22) -> 0.39084249 | AI4: =AVERAGEIF($A$3:$A$22,$AA4,J$3:J$22) -> 0.65572344
A5: 1 | B5: Cota | C5: =SUMIF('Respuestas '!$D$3:$D$330,B5,'Respuestas '!$G$3:$G$330)/(COUNTIF('Respuestas '!$D$3:$D$330,B5)*5) -> 0.65 | D5: =SUMIF('Respuestas '!$D$3:$D$330,$B5,'Respuestas '!$J$3:$J$330)/(COUNTIF('Respuestas '!$D$3:$D$330,$B5)*5) -> 0.6 | E5: =SUMIF('Respuestas '!$D$3:$D$330,$B5,'Respuestas '!$L$3:$L$330)/(COUNTIF('Respuestas '!$D$3:$D$330,$B5)*5) -> 0.8 | F5: =(COUNTIFS('Respuestas '!$D$3:$D$330,$B5,'Respuestas '!$O$3:$O$330,"si")/COUNTIF('Respuestas '!$D$3:$D$330,$B5)) -> 1 | G5: =(COUNTIFS('Respuestas '!$D$3:$D$330,$B5,'Respuestas '!$P$3:$P$330,"si")/COUNTIF('Respuestas '!$D$3:$D$330,$B5)) -> 0 | H5: =(COUNTIFS('Respuestas '!$D$3:$D$330,$B5,'Respuestas '!$Q$3:$Q$330,"si")/COUNTIF('Respuestas '!$D$3:$D$330,$B5)) -> 0.125 | I5: =SUMIF('Respuestas '!$D$3:$D$330,$B5,'Respuestas '!$R$3:$R$330)/(COUNTIF('Respuestas '!$D$3:$D$330,$B5)*5) -> 0.3 | J5: =SUMIF('Respuestas '!$D$3:$D$330,$B5,'Respuestas '!$S$3:$S$330)/(COUNTIF('Respuestas '!$D$3:$D$330,$B5)*5) -> 0.6 | AA5: 3 | AB5: =AVERAGEIF($A$3:$A$22,$AA5,C$3:C$22) -> 0.55844156 | AC5: =AVERAGEIF($A$3:$A$22,$AA5,D$3:D$22) -> 0.68831169 | AD5: =AVERAGEIF($A$3:$A$22,$AA5,E$3:E$22) -> 0.69935065 | AE5: =AVERAGEIF($A$3:$A$22,$AA5,F$3:F$22) -> 0.94155844 | AF5: =AVERAGEIF($A$3:$A$22,$AA5,G$3:G$22) -> 0.21753247 | AG5: =AVERAGEIF($A$3:$A$22,$AA5,H$3:H$22) -> 0.27272727 | AH5: =AVERAGEIF($A$3:$A$22,$AA5,I$3:I$22) -> 0.43376623 | AI5: =AVERAGEIF($A$3:$A$22,$AA5,J$3:J$22) -> 0.64350649
A6: 2 | B6: Gachancipá | C6: =SUMIF('Respuestas '!$D$3:$D$330,B6,'Respuestas '!$G$3:$G$330)/(COUNTIF('Respuestas '!$D$3:$D$330,B6)*5) -> 0.58571429 | D6: =SUMIF('Respuestas '!$D$3:$D$330,$B6,'Respuestas '!$J$3:$J$330)/(COUNTIF('Respuestas '!$D$3:$D$330,$B6)*5) -> 0.71428571 | E6: =SUMIF('Respuestas '!$D$3:$D$330,$B6,'Respuestas '!$L$3:$L$330)/(COUNTIF('Respuestas '!$D$3:$D$330,$B6)*5) -> 0.71428571 | F6: =(COUNTIFS('Respuestas '!$D$3:$D$330,$B6,'Respuestas '!$O$3:$O$330,"si")/COUNTIF('Respuestas '!$D$3:$D$330,$B6)) -> 1 | G6: =(COUNTIFS('Respuestas '!$D$3:$D$330,$B6,'Respuestas '!$P$3:$P$330,"si")/COUNTIF('Respuestas '!$D$3:$D$330,$B6)) -> 0.14285714 | H6: =(COUNTIFS('Respuestas '!$D$3:$D$330,$B6,'Respuestas '!$Q$3:$Q$330,"si")/COUNTIF('Respuestas '!$D$3:$D$330,$B6)) -> 0.35714286 | I6: =SUMIF('Respuestas '!$D$3:$D$330,$B6,'Respuestas '!$R$3:$R$330)/(COUNTIF('Respuestas '!$D$3:$D$330,$B6)*5) -> 0.35714286 | J6: =SUMIF('Respuestas '!$D$3:$D$330,$B6,'Respuestas '!$S$3:$S$330)/(COUNTIF('Respuestas '!$D$3:$D$330,$B6)*5) -> 0.71428571 | AA6: 4 | AB6: =AVERAGEIF($A$3:$A$22,$AA6,C$3:C$22) -> 0.55945398 | AC6: =AVERAGEIF($A$3:$A$22,$AA6,D$3:D$22) -> 0.7017633 | AD6: =AVERAGEIF($A$3:$A$22,$AA6,E$3:E$22) -> 0.76838939 | AE6: =AVERAGEIF($A$3:$A$22,$AA6,F$3:F$22) -> 0.90815508 | AF6: =AVERAGEIF($A$3:$A$22,$AA6,G$3:G$22) -> 0.27483816 | AG6: =AVERAGEIF($A$3:$A$22,$AA6,H$3:H$22) -> 0.37411343 | AH6: =AVERAGEIF($A$3:$A$22,$AA6,I$3:I$22) -> 0.41204686 | AI6: =AVERAGEIF($A$3:$A$22,$AA6,J$3:J$22) -> 0.61811779
A7: 2 | B7: Briceño | C7: =SUMIF('Respuestas '!$D$3:$D$330,B7,'Respuestas '!$G$3:$G$330)/(COUNTIF('Respuestas '!$D$3:$D$330,B7)*5) -> 0.72307692 | D7: =SUMIF('Respuestas '!$D$3:$D$330,$B7,'Respuestas '!$J$3:$J$330)/(COUNTIF('Respuestas '!$D$3:$D$330,$B7)*5) -> 0.72307692 | E7: =SUMIF('Respuestas '!$D$3:$D$330,$B7,'Respuestas '!$L$3:$L$330)/(COUNTIF('Respuestas '!$D$3:$D$330,$B7)*5) -> 0.73846154 | F7: =(COUNTIFS('Respuestas '!$D$3:$D$330,$B7,'Respuestas '!$O$3:$O$330,"si")/COUNTIF('Respuestas '!$D$3:$D$330,$B7)) -> 0.92307692 | G7: =(COUNTIFS('Respuestas '!$D$3:$D$330,$B7,'Respuestas '!$P$3:$P$330,"si")/COUNTIF('Respuestas '!$D$3:$D$330,$B7)) -> 0.076923077 | H7: =(COUNTIFS('Respuestas '!$D$3:$D$330,$B7,'Respuestas '!$Q$3:$Q$330,"si")/COUNTIF('Respuestas '!$D$3:$D$330,$B7)) -> 0.23076923 | I7: =SUMIF('Respuestas '!$D$3:$D$330,$B7,'Respuestas '!$R$3:$R$330)/(COUNTIF('Respuestas '!$D$3:$D$330,$B7)*5) -> 0.41538462 | J7: =SUMIF('Respuestas '!$D$3:$D$330,$B7,'Respuestas '!$S$3:$S$330)/(COUNTIF('Respuestas '!$D$3:$D$330,$B7)*5) -> 0.61538462 | AA7: 5 | AB7: =AVERAGEIF($A$3:$A$22,$AA7,C$3:C$22) -> 0.50959008 | AC7: =AVERAGEIF($A$3:$A$22,$AA7,D$3:D$22) -> 0.66942055 | AD7: =AVERAGEIF($A$3:$A$22,$AA7,E$3:E$22) -> 0.75184717 | AE7: =AVERAGEIF($A$3:$A$22,$AA7,F$3:F$22) -> 0.89802632 | AF7: =AVERAGEIF($A$3:$A$22,$AA7,G$3:G$22) -> 0.37626518 | AG7: =AVERAGEIF($A$3:$A$22,$AA7,H$3:H$22) -> 0.38398279 | AH7: =AVERAGEIF($A$3:$A$22,$AA7,I$3:I$22) -> 0.39181427 | AI7: =AVERAGEIF($A$3:$A$22,$AA7,J$3:J$22) -> 0.65881832
A8: 2 | B8: Tocancipá | C8: =SUMIF('Respuestas '!$D$3:$D$330,B8,'Respuestas '!$G$3:$G$330)/(COUNTIF('Respuestas '!$D$3:$D$330,B8)*5) -> 0.475 | D8: =SUMIF('Respuestas '!$D$3:$D$330,$B8,'Respuestas '!$J$3:$J$330)/(COUNTIF('Respuestas '!$D$3:$D$330,$B8)*5) -> 0.7625 | E8: =SUMIF('Respuestas '!$D$3:$D$330,$B8,'Respuestas '!$L$3:$L$330)/(COUNTIF('Respuestas '!$D$3:$D$330,$B8)*5) -> 0.8 | F8: =(COUNTIFS('Respuestas '!$D$3:$D$330,$B8,'Respuestas '!$O$3:$O$330,"si")/COUNTIF('Respuestas '!$D$3:$D$330,$B8)) -> 0.9375 | G8: =(COUNTIFS('Respuestas '!$D$3:$D$330,$B8,'Respuestas '!$P$3:$P$330,"si")/COUNTIF('Respuestas '!$D$3:$D$330,$B8)) -> 0.3125 | H8: =(COUNTIFS('Respuestas '!$D$3:$D$330,$B8,'Respuestas '!$Q$3:$Q$330,"si")/COUNTIF('Respuestas '!$D$3:$D$330,$B8)) -> 0.5625 | I8: =SUMIF('Respuestas '!$D$3:$D$330,$B8,'Respuestas '!$R$3:$R$330)/(COUNTIF('Respuestas '!$D$3:$D$330,$B8)*5) -> 0.4 | J8: =SUMIF('Respuestas '!$D$3:$D$330,$B8,'Respuestas '!$S$3:$S$330)/(COUNTIF('Respuestas '!$D$3:$D$330,$B8)*5) -> 0.6375 | AA8: 6 | AB8: =AVERAGEIF($A$3:$A$22,$AA8,C$3:C$22) -> 0.54045285 | AC8: =AVERAGEIF($A$3:$A$22,$AA8,D$3:D$22) -> 0.63664799 | AD8: =AVERAGEIF($A$3:$A$22,$AA8,E$3:E$22) -> 0.7736578 | AE8: =AVERAGEIF($A$3:$A$22,$AA8,F$3:F$22) -> 0.91269841 | AF8: =AVERAGEIF($A$3:$A$22,$AA8,G$3:G$22) -> 0.35889356 | AG8: =AVERAGEIF($A$3:$A$22,$AA8,H$3:H$22) -> 0.32767274 | AH8: =AVERAGEIF($A$3:$A$22,$AA8,I$3:I$22) -> 0.41442577 | AI8: =AVERAGEIF($A$3:$A$22,$AA8,J$3:J$22) -> 0.694993
A9: 3 | B9: Cogua | C9: =SUMIF('Respuestas '!$D$3:$D$330,B9,'Respuestas '!$G$3:$G$330)/(COUNTIF('Respuestas '!$D$3:$D$330,B9)*5) -> 0.57142857 | D9: =SUMIF('Respuestas '!$D$3:$D$330,$B9,'Respuestas '!$J$3:$J$330)/(COUNTIF('Respuestas '!$D$3:$D$330,$B9)*5) -> 0.58571429 | E9: =SUMIF('Respuestas '!$D$3:$D$330,$B9,'Respuestas '!$L$3:$L$330)/(COUNTIF('Respuestas '!$D$3:$D$330,$B9)*5) -> 0.67142857 | F9: =(COUNTIFS('Respuestas '!$D$3:$D$330,$B9,'Respuestas '!$O$3:$O$330,"si")/COUNTIF('Respuestas '!$D$3:$D$330,$B9)) -> 0.92857143 | G9: =(COUNTIFS('Respuestas '!$D$3:$D$330,$B9,'Respuestas '!$P$3:$P$330,"si")/COUNTIF('Respuestas '!$D$3:$D$330,$B9)) -> 0.071428571 | H9: =(COUNTIFS('Respuestas '!$D$3:$D$330,$B9,'Respuestas '!$Q$3:$Q$330,"si")/COUNTIF('Respuestas '!$D$3:$D$330,$B9)) -> 0 | I9: =SUMIF('Respuestas '!$D$3:$D$330,$B9,'Respuestas '!$R$3:$R$330)/(COUNTIF('Respuestas '!$D$3:$D$330,$B9)*5) -> 0.38571429 | J9: =SUMIF('Respuestas '!$D$3:$D$330,$B9,'Respuestas '!$S$3:$S$330)/(COUNTIF('Respuestas '!$D$3:$D$330,$B9)*5) -> 0.71428571
A10: 3 | B10: Zipaquirá | C10: =SUMIF('Respuestas '!$D$3:$D$330,B10,'Respuestas '!$G$3:$G$330)/(COUNTIF('Respuestas '!$D$3:$D$330,B10)*5) -> 0.54545455 | D10: =SUMIF('Respuestas '!$D$3:$D$330,$B10,'Respuestas '!$J$3:$J$330)/(COUNTIF('Respuestas '!$D$3:$D$330,$B10)*5) -> 0.79090909 | E10: =SUMIF('Respuestas '!$D$3:$D$330,$B10,'Respuestas '!$L$3:$L$330)/(COUNTIF('Respuestas '!$D$3:$D$330,$B10)*5) -> 0.72727273 | F10: =(COUNTIFS('Respuestas '!$D$3:$D$330,$B10,'Respuestas '!$O$3:$O$330,"si")/COUNTIF('Respuestas '!$D$3:$D$330,$B10)) -> 0.95454545 | G10: =(COUNTIFS('Respuestas '!$D$3:$D$330,$B10,'Respuestas '!$P$3:$P$330,"si")/COUNTIF('Respuestas '!$D$3:$D$330,$B10)) -> 0.36363636 | H10: =(COUNTIFS('Respuestas '!$D$3:$D$330,$B10,'Respuestas '!$Q$3:$Q$330,"si")/COUNTIF('Respuestas '!$D$3:$D$330,$B10)) -> 0.54545455 | I10: =SUMIF('Respuestas '!$D$3:$D$330,$B10,'Respuestas '!$R$3:$R$330)/(COUNTIF('Respuestas '!$D$3:$D$330,$B10)*5) -> 0.48181818 | J10: =SUMIF('Respuestas '!$D$3:$D$330,$B10,'Respuestas '!$S$3:$S$330)/(COUNTIF('Respuestas '!$D$3:$D$330,$B10)*5) -> 0.57272727
A11: 4 | B11: Sesquilé | C11: =SUMIF('Respuestas '!$D$3:$D$330,B11,'Respuestas '!$G$3:$G$330)/(COUNTIF('Respuestas '!$D$3:$D$330,B11)*5) -> 0.52 | D11: =SUMIF('Respuestas '!$D$3:$D$330,$B11,'Respuestas '!$J$3:$J$330)/(COUNTIF('Respuestas '!$D$3:$D$330,$B11)*5) -> 0.82 | E11: =SUMIF('Respuestas '!$D$3:$D$330,$B11,'Respuestas '!$L$3:$L$330)/(COUNTIF('Respuestas '!$D$3:$D$330,$B11)*5) -> 0.75 | F11: =(COUNTIFS('Respuestas '!$D$3:$D$330,$B11,'Respuestas '!$O$3:$O$330,"si")/COUNTIF('Respuestas '!$D$3:$D$330,$B11)) -> 0.9 | G11: =(COUNTIFS('Respuestas '!$D$3:$D$330,$B11,'Respuestas '!$P$3:$P$330,"si")/COUNTIF('Respuestas '!$D$3:$D$330,$B11)) -> 0 | H11: =(COUNTIFS('Respuestas '!$D$3:$D$330,$B11,'Respuestas '!$Q$3:$Q$330,"si")/COUNTIF('Respuestas '!$D$3:$D$330,$B11)) -> 0.3 | I11: =SUMIF('Respuestas '!$D$3:$D$330,$B11,'Respuestas '!$R$3:$R$330)/(COUNTIF('Respuestas '!$D$3:$D$330,$B11)*5) -> 0.37 | J11: =SUMIF('Respuestas '!$D$3:$D$330,$B11,'Respuestas '!$S$3:$S$330)/(COUNTIF('Respuestas '!$D$3:$D$330,$B11)*5) -> 0.73 | AB11: Expextativa | AC11: Realidad | AD11: Satisfacción | AI11: =3/10 -> 0.3
A12: 4 | B12: Suesca | C12: =SUMIF('Respuestas '!$D$3:$D$330,B12,'Respuestas '!$G$3:$G$330)/(COUNTIF('Respuestas '!$D$3:$D$330,B12)*5) -> 0.58947368 | D12: =SUMIF('Respuestas '!$D$3:$D$330,$B12,'Respuestas '!$J$3:$J$330)/(COUNTIF('Respuestas '!$D$3:$D$330,$B12)*5) -> 0.67368421 | E12: =SUMIF('Respuestas '!$D$3:$D$330,$B12,'Respuestas '!$L$3:$L$330)/(COUNTIF('Respuestas '!$D$3:$D$330,$B12)*5) -> 0.83157895 | F12: =(COUNTIFS('Respuestas '!$D$3:$D$330,$B12,'Respuestas '!$O$3:$O$330,"si")/COUNTIF('Respuestas '!$D$3:$D$330,$B12)) -> 1 | G12: =(COUNTIFS('Respuestas '!$D$3:$D$330,$B12,'Respuestas '!$P$3:$P$330,"si")/COUNTIF('Respuestas '!$D$3:$D$330,$B12)) -> 0.47368421 | H12: =(COUNTIFS('Respuestas '!$D$3:$D$330,$B12,'Respuestas '!$Q$3:$Q$330,"si")/COUNTIF('Respuestas '!$D$3:$D$330,$B12)) -> 0.42105263 | I12: =SUMIF('Respuestas '!$D$3:$D$330,$B12,'Respuestas '!$R$3:$R$330)/(COUNTIF('Respuestas '!$D$3:$D$330,$B12)*5) -> 0.52631579 | J12: =SUMIF('Respuestas '!$D$3:$D$330,$B12,'Respuestas '!$S$3:$S$330)/(COUNTIF('Respuestas '!$D$3:$D$330,$B12)*5) -> 0.65263158 | AA12: 1 | AB12: =AVERAGE(AC3,AG3,AH3) -> 0.46115644 | AC12: =AVERAGE(AB3,AD3,AE3,AI3) -> 0.74966006 | AD12: =AC12-AB12 -> 0.28850363
A13: 4 | B13: Nemocón | C13: =SUMIF('Respuestas '!$D$3:$D$330,B13,'Respuestas '!$G$3:$G$330)/(COUNTIF('Respuestas '!$D$3:$D$330,B13)*5) -> 0.56470588 | D13: =SUMIF('Respuestas '!$D$3:$D$330,$B13,'Respuestas '!$J$3:$J$330)/(COUNTIF('Respuestas '!$D$3:$D$330,$B13)*5) -> 0.65882353 | E13: =SUMIF('Respuestas '!$D$3:$D$330,$B13,'Respuestas '!$L$3:$L$330)/(COUNTIF('Respuestas '!$D$3:$D$330,$B13)*5) -> 0.76470588 | F13: =(COUNTIFS('Respuestas '!$D$3:$D$330,$B13,'Respuestas '!$O$3:$O$330,"si")/COUNTIF('Respuestas '!$D$3:$D$330,$B13)) -> 0.82352941 | G13: =(COUNTIFS('Respuestas '!$D$3:$D$330,$B13,'Respuestas '!$P$3:$P$330,"si")/COUNTIF('Respuestas '!$D$3:$D$330,$B13)) -> 0.35294118 | H13: =(COUNTIFS('Respuestas '!$D$3:$D$330,$B13,'Respuestas '!$Q$3:$Q$330,"si")/COUNTIF('Respuestas '!$D$3:$D$330,$B13)) -> 0.41176471 | I13: =SUMIF('Respuestas '!$D$3:$D$330,$B13,'Respuestas '!$R$3:$R$330)/(COUNTIF('Respuestas '!$D$3:$D$330,$B13)*5) -> 0.38823529 | J13: =SUMIF('Respuestas '!$D$3:$D$330,$B13,'Respuestas '!$S$3:$S$330)/(COUNTIF('Respuestas '!$D$3:$D$330,$B13)*5) -> 0.43529412 | AA13: 2 | AB13: =AVERAGE(AC4,AG4,AH4) -> 0.50253358 | AC13: =AVERAGE(AB4,AD4,AE4,AI4) -> 0.73869048 | AD13: =AC13-AB13 -> 0.2361569
A14: 4 | B14: Chocontá | C14: =SUMIF('Respuestas '!$D$3:$D$330,B14,'Respuestas '!$G$3:$G$330)/(COUNTIF('Respuestas '!$D$3:$D$330,B14)*5) -> 0.56363636 | D14: =SUMIF('Respuestas '!$D$3:$D$330,$B14,'Respuestas '!$J$3:$J$330)/(COUNTIF('Respuestas '!$D$3:$D$330,$B14)*5) -> 0.65454545 | E14: =SUMIF('Respuestas '!$D$3:$D$330,$B14,'Respuestas '!$L$3:$L$330)/(COUNTIF('Respuestas '!$D$3:$D$330,$B14)*5) -> 0.72727273 | F14: =(COUNTIFS('Respuestas '!$D$3:$D$330,$B14,'Respuestas '!$O$3:$O$330,"si")/COUNTIF('Respuestas '!$D$3:$D$330,$B14)) -> 0.90909091 | G14: =(COUNTIFS('Respuestas '!$D$3:$D$330,$B14,'Respuestas '!$P$3:$P$330,"si")/COUNTIF('Respuestas '!$D$3:$D$330,$B14)) -> 0.27272727 | H14: =(COUNTIFS('Respuestas '!$D$3:$D$330,$B14,'Respuestas '!$Q$3:$Q$330,"si")/COUNTIF('Respuestas '!$D$3:$D$330,$B14)) -> 0.36363636 | I14: =SUMIF('Respuestas '!$D$3:$D$330,$B14,'Respuestas '!$R$3:$R$330)/(COUNTIF('Respuestas '!$D$3:$D$330,$B14)*5) -> 0.36363636 | J14: =SUMIF('Respuestas '!$D$3:$D$330,$B14,'Respuestas '!$S$3:$S$330)/(COUNTIF('Respuestas '!$D$3:$D$330,$B14)*5) -> 0.65454545 | AA14: 3 | AB14: =AVERAGE(AC5,AG5,AH5) -> 0.46493506 | AC14: =AVERAGE(AB5,AD5,AE5,AI5) -> 0.71071429 | AD14: =AC14-AB14 -> 0.24577922
A15: 5 | B15: Subachoque | C15: =SUMIF('Respuestas '!$D$3:$D$330,B15,'Respuestas '!$G$3:$G$330)/(COUNTIF('Respuestas '!$D$3:$D$330,B15)*5) -> 0.57894737 | D15: =SUMIF('Respuestas '!$D$3:$D$330,$B15,'Respuestas '!$J$3:$J$330)/(COUNTIF('Respuestas '!$D$3:$D$330,$B15)*5) -> 0.72631579 | E15: =SUMIF('Respuestas '!$D$3:$D$330,$B15,'Respuestas '!$L$3:$L$330)/(COUNTIF('Respuestas '!$D$3:$D$330,$B15)*5) -> 0.70526316 | F15: =(COUNTIFS('Respuestas '!$D$3:$D$330,$B15,'Respuestas '!$O$3:$O$330,"si")/COUNTIF('Respuestas '!$D$3:$D$330,$B15)) -> 0.94736842 | G15: =(COUNTIFS('Respuestas '!$D$3:$D$330,$B15,'Respuestas '!$P$3:$P$330,"si")/COUNTIF('Respuestas '!$D$3:$D$330,$B15)) -> 0.52631579 | H15: =(COUNTIFS('Respuestas '!$D$3:$D$330,$B15,'Respuestas '!$Q$3:$Q$330,"si")/COUNTIF('Respuestas '!$D$3:$D$330,$B15)) -> 0.21052632 | I15: =SUMIF('Respuestas '!$D$3:$D$330,$B15,'Respuestas '!$R$3:$R$330)/(COUNTIF('Respuestas '!$D$3:$D$330,$B15)*5) -> 0.37894737 | J15: =SUMIF('Respuestas '!$D$3:$D$330,$B15,'Respuestas '!$S$3:$S$330)/(COUNTIF('Respuestas '!$D$3:$D$330,$B15)*5) -> 0.65263158 | AA15: 4 | AB15: =AVERAGE(AC6,AG6,AH6) -> 0.49597453 | AC15: =AVERAGE(AB6,AD6,AE6,AI6) -> 0.71352906 | AD15: =AC15-AB15 -> 0.21755453
A16: 5 | B16: Tenjo | C16: =SUMIF('Respuestas '!$D$3:$D$330,B16,'Respuestas '!$G$3:$G$330)/(COUNTIF('Respuestas '!$D$3:$D$330,B16)*5) -> 0.44210526 | D16: =SUMIF('Respuestas '!$D$3:$D$330,$B16,'Respuestas '!$J$3:$J$330)/(COUNTIF('Respuestas '!$D$3:$D$330,$B16)*5) -> 0.51578947 | E16: =SUMIF('Respuestas '!$D$3:$D$330,$B16,'Respuestas '!$L$3:$L$330)/(COUNTIF('Respuestas '!$D$3:$D$330,$B16)*5) -> 0.75789474 | F16: =(COUNTIFS('Respuestas '!$D$3:$D$330,$B16,'Respuestas '!$O$3:$O$330,"si")/COUNTIF('Respuestas '!$D$3:$D$330,$B16)) -> 0.89473684 | G16: =(COUNTIFS('Respuestas '!$D$3:$D$330,$B16,'Respuestas '!$P$3:$P$330,"si")/COUNTIF('Respuestas '!$D$3:$D$330,$B16)) -> 0.42105263 | H16: =(COUNTIFS('Respuestas '!$D$3:$D$330,$B16,'Respuestas '!$Q$3:$Q$330,"si")/COUNTIF('Respuestas '!$D$3:$D$330,$B16)) -> 0.31578947 | I16: =SUMIF('Respuestas '!$D$3:$D$330,$B16,'Respuestas '!$R$3:$R$330)/(COUNTIF('Respuestas '!$D$3:$D$330,$B16)*5) -> 0.43157895 | J16: =SUMIF('Respuestas '!$D$3:$D$330,$B16,'Respuestas '!$S$3:$S$330)/(COUNTIF('Respuestas '!$D$3:$D$330,$B16)*5) -> 0.61052632 | AA16: 5 | AB16: =AVERAGE(AC7,AG7,AH7) -> 0.4817392 | AC16: =AVERAGE(AB7,AD7,AE7,AI7) -> 0.70457047 | AD16: =AC16-AB16 -> 0.22283127
A17: 5 | B17: El Rosal | C17: =SUMIF('Respuestas '!$D$3:$D$330,B17,'Respuestas '!$G$3:$G$330)/(COUNTIF('Respuestas '!$D$3:$D$330,B17)*5) -> 0.525 | D17: =SUMIF('Respuestas '!$D$3:$D$330,$B17,'Respuestas '!$J$3:$J$330)/(COUNTIF('Respuestas '!$D$3:$D$330,$B17)*5) -> 0.7125 | E17: =SUMIF('Respuestas '!$D$3:$D$330,$B17,'Respuestas '!$L$3:$L$330)/(COUNTIF('Respuestas '!$D$3:$D$330,$B17)*5) -> 0.775 | F17: =(COUNTIFS('Respuestas '!$D$3:$D$330,$B17,'Respuestas '!$O$3:$O$330,"si")/COUNTIF('Respuestas '!$D$3:$D$330,$B17)) -> 0.75 | G17: =(COUNTIFS('Respuestas '!$D$3:$D$330,$B17,'Respuestas '!$P$3:$P$330,"si")/COUNTIF('Respuestas '!$D$3:$D$330,$B17)) -> 0.25 | H17: =(COUNTIFS('Respuestas '!$D$3:$D$330,$B17,'Respuestas '!$Q$3:$Q$330,"si")/COUNTIF('Respuestas '!$D$3:$D$330,$B17)) -> 0.625 | I17: =SUMIF('Respuestas '!$D$3:$D$330,$B17,'Respuestas '!$R$3:$R$330)/(COUNTIF('Respuestas '!$D$3:$D$330,$B17)*5) -> 0.3875 | J17: =SUMIF('Respuestas '!$D$3:$D$330,$B17,'Respuestas '!$S$3:$S$330)/(COUNTIF('Respuestas '!$D$3:$D$330,$B17)*5) -> 0.5875 | AA17: 6 | AB17: =AVERAGE(AC8,AG8,AH8) -> 0.45958217 | AC17: =AVERAGE(AB8,AD8,AE8,AI8) -> 0.73045051 | AD17: =AC17-AB17 -> 0.27086835
A18: 5 | B18: Tabio | C18: =SUMIF('Respuestas '!$D$3:$D$330,B18,'Respuestas '!$G$3:$G$330)/(COUNTIF('Respuestas '!$D$3:$D$330,B18)*5) -> 0.49230769 | D18: =SUMIF('Respuestas '!$D$3:$D$330,$B18,'Respuestas '!$J$3:$J$330)/(COUNTIF('Respuestas '!$D$3:$D$330,$B18)*5) -> 0.72307692 | E18: =SUMIF('Respuestas '!$D$3:$D$330,$B18,'Respuestas '!$L$3:$L$330)/(COUNTIF('Respuestas '!$D$3:$D$330,$B18)*5) -> 0.76923077 | F18: =(COUNTIFS('Respuestas '!$D$3:$D$330,$B18,'Respuestas '!$O$3:$O$330,"si")/COUNTIF('Respuestas '!$D$3:$D$330,$B18)) -> 1 | G18: =(COUNTIFS('Respuestas '!$D$3:$D$330,$B18,'Respuestas '!$P$3:$P$330,"si")/COUNTIF('Respuestas '!$D$3:$D$330,$B18)) -> 0.30769231 | H18: =(COUNTIFS('Respuestas '!$D$3:$D$330,$B18,'Respuestas '!$Q$3:$Q$330,"si")/COUNTIF('Respuestas '!$D$3:$D$330,$B18)) -> 0.38461538 | I18: =SUMIF('Respuestas '!$D$3:$D$330,$B18,'Respuestas '!$R$3:$R$330)/(COUNTIF('Respuestas '!$D$3:$D$330,$B18)*5) -> 0.36923077 | J18: =SUMIF('Respuestas '!$D$3:$D$330,$B18,'Respuestas '!$S$3:$S$330)/(COUNTIF('Respuestas '!$D$3:$D$330,$B18)*5) -> 0.78461538
A19: 6 | B19: Madrid | C19: =SUMIF('Respuestas '!$D$3:$D$330,B19,'Respuestas '!$G$3:$G$330)/(COUNTIF('Respuestas '!$D$3:$D$330,B19)*5) -> 0.64285714 | D19: =SUMIF('Respuestas '!$D$3:$D$330,$B19,'Respuestas '!$J$3:$J$330)/(COUNTIF('Respuestas '!$D$3:$D$330,$B19)*5) -> 0.67142857 | E19: =SUMIF('Respuestas '!$D$3:$D$330,$B19,'Respuestas '!$L$3:$L$330)/(COUNTIF('Respuestas '!$D$3:$D$330,$B19)*5) -> 0.77142857 | F19: =(COUNTIFS('Respuestas '!$D$3:$D$330,$B19,'Respuestas '!$O$3:$O$330,"si")/COUNTIF('Respuestas '!$D$3:$D$330,$B19)) -> 0.92857143 | G19: =(COUNTIFS('Respuestas '!$D$3:$D$330,$B19,'Respuestas '!$P$3:$P$330,"si")/COUNTIF('Respuestas '!$D$3:$D$330,$B19)) -> 0.35714286 | H19: =(COUNTIFS('Respuestas '!$D$3:$D$330,$B19,'Respuestas '!$Q$3:$Q$330,"si")/COUNTIF('Respuestas '!$D$3:$D$330,$B19)) -> 0.21428571 | I19: =SUMIF('Respuestas '!$D$3:$D$330,$B19,'Respuestas '!$R$3:$R$330)/(COUNTIF('Respuestas '!$D$3:$D$330,$B19)*5) -> 0.47142857 | J19: =SUMIF('Respuestas '!$D$3:$D$330,$B19,'Respuestas '!$S$3:$S$330)/(COUNTIF('Respuestas '!$D$3:$D$330,$B19)*5) -> 0.61428571
A20: 6 | B20: Mosquera | C20: =SUMIF('Respuestas '!$D$3:$D$330,B20,'Respuestas '!$G$3:$G$330)/(COUNTIF('Respuestas '!$D$3:$D$330,B20)*5) -> 0.54117647 | D20: =SUMIF('Respuestas '!$D$3:$D$330,$B20,'Respuestas '!$J$3:$J$330)/(COUNTIF('Respuestas '!$D$3:$D$330,$B20)*5) -> 0.55294118 | E20: =SUMIF('Respuestas '!$D$3:$D$330,$B20,'Respuestas '!$L$3:$L$330)/(COUNTIF('Respuestas '!$D$3:$D$330,$B20)*5) -> 0.71764706 | F20: =(COUNTIFS('Respuestas '!$D$3:$D$330,$B20,'Respuestas '!$O$3:$O$330,"si")/COUNTIF('Respuestas '!$D$3:$D$330,$B20)) -> 1 | G20: =(COUNTIFS('Respuestas '!$D$3:$D$330,$B20,'Respuestas '!$P$3:$P$330,"si")/COUNTIF('Respuestas '!$D$3:$D$330,$B20)) -> 0.41176471 | H20: =(COUNTIFS('Respuestas '!$D$3:$D$330,$B20,'Respuestas '!$Q$3:$Q$330,"si")/COUNTIF('Respuestas '!$D$3:$D$330,$B20)) -> 0.23529412 | I20: =SUMIF('Respuestas '!$D$3:$D$330,$B20,'Respuestas '!$R$3:$R$330)/(COUNTIF('Respuestas '!$D$3:$D$330,$B20)*5) -> 0.35294118 | J20: =SUMIF('Respuestas '!$D$3:$D$330,$B20,'Respuestas '!$S$3:$S$330)/(COUNTIF('Respuestas '!$D$3:$D$330,$B20)*5) -> 0.68235294
A21: 6 | B21: Facatativá | C21: =SUMIF('Respuestas '!$D$3:$D$330,B21,'Respuestas '!$G$3:$G$330)/(COUNTIF('Respuestas '!$D$3:$D$330,B21)*5) -> 0.46666667 | D21: =SUMIF('Respuestas '!$D$3:$D$330,$B21,'Respuestas '!$J$3:$J$330)/(COUNTIF('Respuestas '!$D$3:$D$330,$B21)*5) -> 0.63333333 | E21: =SUMIF('Respuestas '!$D$3:$D$330,$B21,'Respuestas '!$L$3:$L$330)/(COUNTIF('Respuestas '!$D$3:$D$330,$B21)*5) -> 0.78333333 | F21: =(COUNTIFS('Respuestas '!$D$3:$D$330,$B21,'Respuestas '!$O$3:$O$330,"si")/COUNTIF('Respuestas '!$D$3:$D$330,$B21)) -> 1 | G21: =(COUNTIFS('Respuestas '!$D$3:$D$330,$B21,'Respuestas '!$P$3:$P$330,"si")/COUNTIF('Respuestas '!$D$3:$D$330,$B21)) -> 0.5 | H21: =(COUNTIFS('Respuestas '!$D$3:$D$330,$B21,'Respuestas '!$Q$3:$Q$330,"si")/COUNTIF('Respuestas '!$D$3:$D$330,$B21)) -> 0.41666667 | I21: =SUMIF('Respuestas '!$D$3:$D$330,$B21,'Respuestas '!$R$3:$R$330)/(COUNTIF('Respuestas '!$D$3:$D$330,$B21)*5) -> 0.5 | J21: =SUMIF('Respuestas '!$D$3:$D$330,$B21,'Respuestas '!$S$3:$S$330)/(COUNTIF('Respuestas '!$D$3:$D$330,$B21)*5) -> 0.71666667
A22: 6 | B22: Funza | C22: =SUMIF('Respuestas '!$D$3:$D$330,B22,'Respuestas '!$G$3:$G$330)/(COUNTIF('Respuestas '!$D$3:$D$330,B22)*5) -> 0.51111111 | D22: =SUMIF('Respuestas '!$D$3:$D$330,$B22,'Respuestas '!$J$3:$J$330)/(COUNTIF('Respuestas '!$D$3:$D$330,$B22)*5) -> 0.68888889 | E22: =SUMIF('Respuestas '!$D$3:$D$330,$B22,'Respuestas '!$L$3:$L$330)/(COUNTIF('Respuestas '!$D$3:$D$330,$B22)*5) -> 0.82222222 | F22: =(COUNTIFS('Respuestas '!$D$3:$D$330,$B22,'Respuestas '!$O$3:$O$330,"si")/COUNTIF('Respuestas '!$D$3:$D$330,$B22)) -> 0.72222222 | G22: =(COUNTIFS('Respuestas '!$D$3:$D$330,$B22,'Respuestas '!$P$3:$P$330,"si")/COUNTIF('Respuestas '!$D$3:$D$330,$B22)) -> 0.16666667 | H22: =(COUNTIFS('Respuestas '!$D$3:$D$330,$B22,'Respuestas '!$Q$3:$Q$330,"si")/COUNTIF('Respuestas '!$D$3:$D$330,$B22)) -> 0.44444444 | I22: =SUMIF('Respuestas '!$D$3:$D$330,$B22,'Respuestas '!$R$3:$R$330)/(COUNTIF('Respuestas '!$D$3:$D$330,$B22)*5) -> 0.33333333 | J22: =SUMIF('Respuestas '!$D$3:$D$330,$B22,'Respuestas '!$S$3:$S$330)/(COUNTIF('Respuestas '!$D$3:$D$330,$B22)*5) -> 0.76666667
B26: Segmento | C26: 1 | D26: 1 | E26: 1 | F26: 2 | G26: 2 | H26: 2 | I26: 3 | J26: 3 | K26: 4 | L26: 4 | M26: 4 | N26: 4 | O26: 5 | P26: 5 | Q26: 5 | R26: 5 | S26: 6 | T26: 6 | U26: 6 | V26: 6 | AB26: Segmento
B27: ¿Qué aspectos de la disposición de la tienda influyen en su decisión de compra? | C27: Cajicá | D27: Chía | E27: Cota | F27: Gachancipá | G27: Briceño | H27: Tocancipá | I27: Cogua | J27: Zipaquirá | K27: Sesquilé | L27: Suesca | M27: Nemocón | N27: Chocontá | O27: Subachoque | P27: Tenjo | Q27: El Rosal | R27: Tabio | S27: Madrid | T27: Mosquera | U27: Facatativá | V27: Funza | AB27: ¿Qué aspectos de la disposición de la tienda influyen en su decisión de compra? | AC27: 1 | AD27: 2 | AE27: 3 | AF27: 4 | AG27: 5 | AH27: 6
B28: Variedad de productos | C28: =COUNTIFS('Respuestas '!$H$3:$H$330,$B28,'Respuestas '!$D$3:$D$330,C$27)/COUNTIF('Respuestas '!$D$3:$D$330,C$27) -> 0.24242424 | D28: =COUNTIFS('Respuestas '!$H$3:$H$330,$B28,'Respuestas '!$D$3:$D$330,D$27)/COUNTIF('Respuestas '!$D$3:$D$330,D$27) -> 0 | E28: =COUNTIFS('Respuestas '!$H$3:$H$330,$B28,'Respuestas '!$D$3:$D$330,E$27)/COUNTIF('Respuestas '!$D$3:$D$330,E$27) -> 0 | F28: =COUNTIFS('Respuestas '!$H$3:$H$330,$B28,'Respuestas '!$D$3:$D$330,F$27)/COUNTIF('Respuestas '!$D$3:$D$330,F$27) -> 0.071428571 | G28: =COUNTIFS('Respuestas '!$H$3:$H$330,$B28,'Respuestas '!$D$3:$D$330,G$27)/COUNTIF('Respuestas '!$D$3:$D$330,G$27) -> 0 | H28: =COUNTIFS('Respuestas '!$H$3:$H$330,$B28,'Respuestas '!$D$3:$D$330,H$27)/COUNTIF('Respuestas '!$D$3:$D$330,H$27) -> 0.125 | I28: =COUNTIFS('Respuestas '!$H$3:$H$330,$B28,'Respuestas '!$D$3:$D$330,I$27)/COUNTIF('Respuestas '!$D$3:$D$330,I$27) -> 0.071428571 | J28: =COUNTIFS('Respuestas '!$H$3:$H$330,$B28,'Respuestas '!$D$3:$D$330,J$27)/COUNTIF('Respuestas '!$D$3:$D$330,J$27) -> 0.18181818 | ... V28: =COUNTIFS('Respuestas '!$H$3:$H$330,$B28,'Respuestas '!$D$3:$D$330,V$27)/COUNTIF('Respuestas '!$D$3:$D$330,V$27) -> 0.16666667 | AB28: Variedad de productos | AC28: =AVERAGEIF($C$26:$V$26,AC$27,$C28:$V28) -> 0.080808081 | AD28: =AVERAGEIF($C$26:$V$26,AD$27,$C28:$V28) -> 0.06547619 | AE28: =AVERAGEIF($C$26:$V$26,AE$27,$C28:$V28) -> 0.12662338 | AF28: =AVERAGEIF($C$26:$V$26,AF$27,$C28:$V28) -> 0.07559105 | AG28: =AVERAGEIF($C$26:$V$26,AG$27,$C28:$V28) -> 0.077935223 | AH28: =AVERAGEIF($C$26:$V$26,AH$27,$C28:$V28) -> 0.13690476
B29: Disponibilidad del producto | C29: =COUNTIFS('Respuestas '!$H$3:$H$330,$B29,'Respuestas '!$D$3:$D$330,C$27)/COUNTIF('Respuestas '!$D$3:$D$330,C$27) -> 0.12121212 | D29: =COUNTIFS('Respuestas '!$H$3:$H$330,$B29,'Respuestas '!$D$3:$D$330,D$27)/COUNTIF('Respuestas '!$D$3:$D$330,D$27) -> 0.23076923 | E29: =COUNTIFS('Respuestas '!$H$3:$H$330,$B29,'Respuestas '!$D$3:$D$330,E$27)/COUNTIF('Respuestas '!$D$3:$D$330,E$27) -> 0.375 | F29: =COUNTIFS('Respuestas '!$H$3:$H$330,$B29,'Respuestas '!$D$3:$D$330,F$27)/COUNTIF('Respuestas '!$D$3:$D$330,F$27) -> 0.071428571 | G29: =COUNTIFS('Respuestas '!$H$3:$H$330,$B29,'Respuestas '!$D$3:$D$330,G$27)/COUNTIF('Respuestas '!$D$3:$D$330,G$27) -> 0 | H29: =COUNTIFS('Respuestas '!$H$3:$H$330,$B29,'Respuestas '!$D$3:$D$330,H$27)/COUNTIF('Respuestas '!$D$3:$D$330,H$27) -> 0.1875 | I29: =COUNTIFS('Respuestas '!$H$3:$H$330,$B29,'Respuestas '!$D$3:$D$330,I$27)/COUNTIF('Respuestas '!$D$3:$D$330,I$27) -> 0.28571429 | J29: =COUNTIFS('Respuestas '!$H$3:$H$330,$B29,'Respuestas '!$D$3:$D$330,J$27)/COUNTIF('Respuestas '!$D$3:$D$330,J$27) -> 0.22727273 | ... V29: =COUNTIFS('Respuestas '!$H$3:$H$330,$B29,'Respuestas '!$D$3:$D$330,V$27)/COUNTIF('Respuestas '!$D$3:$D$330,V$27) -> 0.22222222 | AB29: Disponibilidad del producto | AC29: =AVERAGEIF($C$26:$V$26,AC$27,$C29:$V29) -> 0.24232712 | AD29: =AVERAGEIF($C$26:$V$26,AD$27,$C29:$V29) -> 0.086309524 | AE29: =AVERAGEIF($C$26:$V$26,AE$27,$C29:$V29) -> 0.25649351 | AF29: =AVERAGEIF($C$26:$V$26,AF$27,$C29:$V29) -> 0.13204334 | AG29: =AVERAGEIF($C$26:$V$26,AG$27,$C29:$V29) -> 0.12696103 | AH29: =AVERAGEIF($C$26:$V$26,AH$27,$C29:$V29) -> 0.16234827
B30: Ubicación | C30: =COUNTIFS('Respuestas '!$H$3:$H$330,$B30,'Respuestas '!$D$3:$D$330,C$27)/COUNTIF('Respuestas '!$D$3:$D$330,C$27) -> 0.15151515 | D30: =COUNTIFS('Respuestas '!$H$3:$H$330,$B30,'Respuestas '!$D$3:$D$330,D$27)/COUNTIF('Respuestas '!$D$3:$D$330,D$27) -> 0.23076923 | E30: =COUNTIFS('Respuestas '!$H$3:$H$330,$B30,'Respuestas '!$D$3:$D$330,E$27)/COUNTIF('Respuestas '!$D$3:$D$330,E$27) -> 0.125 | F30: =COUNTIFS('Respuestas '!$H$3:$H$330,$B30,'Respuestas '!$D$3:$D$330,F$27)/COUNTIF('Respuestas '!$D$3:$D$330,F$27) -> 0.21428571 | G30: =COUNTIFS('Respuestas '!$H$3:$H$330,$B30,'Respuestas '!$D$3:$D$330,G$27)/COUNTIF('Respuestas '!$D$3:$D$330,G$27) -> 0.23076923 | H30: =COUNTIFS('Respuestas '!$H$3:$H$330,$B30,'Respuestas '!$D$3:$D$330,H$27)/COUNTIF('Respuestas '!$D$3:$D$330,H$27) -> 0.0625 | I30: =COUNTIFS('Respuestas '!$H$3:$H$330,$B30,'Respuestas '!$D$3:$D$330,I$27)/COUNTIF('Respuestas '!$D$3:$D$330,I$27) -> 0.071428571 | J30: =COUNTIFS('Respuestas '!$H$3:$H$330,$B30,'Respuestas '!$D$3:$D$330,J$27)/COUNTIF('Respuestas '!$D$3:$D$330,J$27) -> 0.13636364 | ... V30: =COUNTIFS('Respuestas '!$H$3:$H$330,$B30,'Respuestas '!$D$3:$D$330,V$27)/COUNTIF('Respuestas '!$D$3:$D$330,V$27) -> 0.055555556 | AB30: Ubicación | AC30: =AVERAGEIF($C$26:$V$26,AC$27,$C30:$V30) -> 0.16909479 | AD30: =AVERAGEIF($C$26:$V$26,AD$27,$C30:$V30) -> 0.16918498 | AE30: =AVERAGEIF($C$26:$V$26,AE$27,$C30:$V30) -> 0.1038961 | AF30: =AVERAGEIF($C$26:$V$26,AF$27,$C30:$V30) -> 0.10566071 | AG30: =AVERAGEIF($C$26:$V$26,AG$27,$C30:$V30) -> 0.081414474 | AH30: =AVERAGEIF($C$26:$V$26,AH$27,$C30:$V30) -> 0.11455416
B31: Limpieza/orden | C31: =COUNTIFS('Respuestas '!$H$3:$H$330,$B31,'Respuestas '!$D$3:$D$330,C$27)/COUNTIF('Respuestas '!$D$3:$D$330,C$27) -> 0.12121212 | D31: =COUNTIFS('Respuestas '!$H$3:$H$330,$B31,'Respuestas '!$D$3:$D$330,D$27)/COUNTIF('Respuestas '!$D$3:$D$330,D$27) -> 0.076923077 | E31: =COUNTIFS('Respuestas '!$H$3:$H$330,$B31,'Respuestas '!$D$3:$D$330,E$27)/COUNTIF('Respuestas '!$D$3:$D$330,E$27) -> 0 | F31: =COUNTIFS('Respuestas '!$H$3:$H$330,$B31,'Respuestas '!$D$3:$D$330,F$27)/COUNTIF('Respuestas '!$D$3:$D$330,F$27) -> 0.14285714 | G31: =COUNTIFS('Respuestas '!$H$3:$H$330,$B31,'Respuestas '!$D$3:$D$330,G$27)/COUNTIF('Respuestas '!$D$3:$D$330,G$27) -> 0.076923077 | H31: =COUNTIFS('Respuestas '!$H$3:$H$330,$B31,'Respuestas '!$D$3:$D$330,H$27)/COUNTIF('Respuestas '!$D$3:$D$330,H$27) -> 0.0625 | I31: =COUNTIFS('Respuestas '!$H$3:$H$330,$B31,'Respuestas '!$D$3:$D$330,I$27)/COUNTIF('Respuestas '!$D$3:$D$330,I$27) -> 0.14285714 | J31: =COUNTIFS('Respuestas '!$H$3:$H$330,$B31,'Respuestas '!$D$3:$D$330,J$27)/COUNTIF('Respuestas '!$D$3:$D$330,J$27) -> 0.090909091 | ... V31: =COUNTIFS('Respuestas '!$H$3:$H$330,$B31,'Respuestas '!$D$3:$D$330,V$27)/COUNTIF('Respuestas '!$D$3:$D$330,V$27) -> 0 | AB31: Limpieza/orden | AC31: =AVERAGEIF($C$26:$V$26,AC$27,$C31:$V31) -> 0.066045066 | AD31: =AVERAGEIF($C$26:$V$26,AD$27,$C31:$V31) -> 0.094093407 | AE31: =AVERAGEIF($C$26:$V$26,AE$27,$C31:$V31) -> 0.11688312 | AF31: =AVERAGEIF($C$26:$V$26,AF$27,$C31:$V31) -> 0.08361244 | AG31: =AVERAGEIF($C$26:$V$26,AG$27,$C31:$V31) -> 0.048013664 | AH31: =AVERAGEIF($C$26:$V$26,AH$27,$C31:$V31) -> 0.10609244
B32: Precio | C32: =COUNTIFS('Respuestas '!$H$3:$H$330,$B32,'Respuestas '!$D$3:$D$330,C$27)/COUNTIF('Respuestas '!$D$3:$D$330,C$27) -> 0.18181818 | D32: =COUNTIFS('Respuestas '!$H$3:$H$330,$B32,'Respuestas '!$D$3:$D$330,D$27)/COUNTIF('Respuestas '!$D$3:$D$330,D$27) -> 0.076923077 | E32: =COUNTIFS('Respuestas '!$H$3:$H$330,$B32,'Respuestas '!$D$3:$D$330,E$27)/COUNTIF('Respuestas '!$D$3:$D$330,E$27) -> 0.125 | F32: =COUNTIFS('Respuestas '!$H$3:$H$330,$B32,'Respuestas '!$D$3:$D$330,F$27)/COUNTIF('Respuestas '!$D$3:$D$330,F$27) -> 0.28571429 | G32: =COUNTIFS('Respuestas '!$H$3:$H$330,$B32,'Respuestas '!$D$3:$D$330,G$27)/COUNTIF('Respuestas '!$D$3:$D$330,G$27) -> 0.23076923 | H32: =COUNTIFS('Respuestas '!$H$3:$H$330,$B32,'Respuestas '!$D$3:$D$330,H$27)/COUNTIF('Respuestas '!$D$3:$D$330,H$27) -> 0.0625 | I32: =COUNTIFS('Respuestas '!$H$3:$H$330,$B32,'Respuestas '!$D$3:$D$330,I$27)/COUNTIF('Respuestas '!$D$3:$D$330,I$27) -> 0.071428571 | J32: =COUNTIFS('Respuestas '!$H$3:$H$330,$B32,'Respuestas '!$D$3:$D$330,J$27)/COUNTIF('Respuestas '!$D$3:$D$330,J$27) -> 0.090909091 | ... V32: =COUNTIFS('Respuestas '!$H$3:$H$330,$B32,'Respuestas '!$D$3:$D$330,V$27)/COUNTIF('Respuestas '!$D$3:$D$330,V$27) -> 0.055555556 | AB32: Precio | AC32: =AVERAGEIF($C$26:$V$26,AC$27,$C32:$V32) -> 0.12791375 | AD32: =AVERAGEIF($C$26:$V$26,AD$27,$C32:$V32) -> 0.19299451 | AE32: =AVERAGEIF($C$26:$V$26,AE$27,$C32:$V32) -> 0.081168831 | AF32: =AVERAGEIF($C$26:$V$26,AF$27,$C32:$V32) -> 0.17543625 | AG32: =AVERAGEIF($C$26:$V$26,AG$27,$C32:$V32) -> 0.16675101 | AH32: =AVERAGEIF($C$26:$V$26,AH$27,$C32:$V32) -> 0.028594771
B33: Calidad | C33: =COUNTIFS('Respuestas '!$H$3:$H$330,$B33,'Respuestas '!$D$3:$D$330,C$27)/COUNTIF('Respuestas '!$D$3:$D$330,C$27) -> 0.090909091 | D33: =COUNTIFS('Respuestas '!$H$3:$H$330,$B33,'Respuestas '!$D$3:$D$330,D$27)/COUNTIF('Respuestas '!$D$3:$D$330,D$27) -> 0.15384615 | E33: =COUNTIFS('Respuestas '!$H$3:$H$330,$B33,'Respuestas '!$D$3:$D$330,E$27)/COUNTIF('Respuestas '!$D$3:$D$330,E$27) -> 0.25 | F33: =COUNTIFS('Respuestas '!$H$3:$H$330,$B33,'Respuestas '!$D$3:$D$330,F$27)/COUNTIF('Respuestas '!$D$3:$D$330,F$27) -> 0.071428571 | G33: =COUNTIFS('Respuestas '!$H$3:$H$330,$B33,'Respuestas '!$D$3:$D$330,G$27)/COUNTIF('Respuestas '!$D$3:$D$330,G$27) -> 0 | H33: =COUNTIFS('Respuestas '!$H$3:$H$330,$B33,'Respuestas '!$D$3:$D$330,H$27)/COUNTIF('Respuestas '!$D$3:$D$330,H$27) -> 0 | I33: =COUNTIFS('Respuestas '!$H$3:$H$330,$B33,'Respuestas '!$D$3:$D$330,I$27)/COUNTIF('Respuestas '!$D$3:$D$330,I$27) -> 0.071428571 | J33: =COUNTIFS('Respuestas '!$H$3:$H$330,$B33,'Respuestas '!$D$3:$D$330,J$27)/COUNTIF('Respuestas '!$D$3:$D$330,J$27) -> 0.090909091 | ... V33: =COUNTIFS('Respuestas '!$H$3:$H$330,$B33,'Respuestas '!$D$3:$D$330,V$27)/COUNTIF('Respuestas '!$D$3:$D$330,V$27) -> 0.11111111 | AB33: Calidad | AC33: =AVERAGEIF($C$26:$V$26,AC$27,$C33:$V33) -> 0.16491841 | AD33: =AVERAGEIF($C$26:$V$26,AD$27,$C33:$V33) -> 0.023809524 | AE33: =AVERAGEIF($C$26:$V$26,AE$27,$C33:$V33) -> 0.081168831 | AF33: =AVERAGEIF($C$26:$V$26,AF$27,$C33:$V33) -> 0.053521672 | AG33: =AVERAGEIF($C$26:$V$26,AG$27,$C33:$V33) -> 0.12335526 | AH33: =AVERAGEIF($C$26:$V$26,AH$27,$C33:$V33) -> 0.063316993
B34: Tamaño | C34: =COUNTIFS('Respuestas '!$H$3:$H$330,$B34,'Respuestas '!$D$3:$D$330,C$27)/COUNTIF('Respuestas '!$D$3:$D$330,C$27) -> 0 | D34: =COUNTIFS('Respuestas '!$H$3:$H$330,$B34,'Respuestas '!$D$3:$D$330,D$27)/COUNTIF('Respuestas '!$D$3:$D$330,D$27) -> 0.076923077 | E34: =COUNTIFS('Respuestas '!$H$3:$H$330,$B34,'Respuestas '!$D$3:$D$330,E$27)/COUNTIF('Respuestas '!$D$3:$D$330,E$27) -> 0.125 | F34: =COUNTIFS('Respuestas '!$H$3:$H$330,$B34,'Respuestas '!$D$3:$D$330,F$27)/COUNTIF('Respuestas '!$D$3:$D$330,F$27) -> 0.071428571 | G34: =COUNTIFS('Respuestas '!$H$3:$H$330,$B34,'Respuestas '!$D$3:$D$330,G$27)/COUNTIF('Respuestas '!$D$3:$D$330,G$27) -> 0 | H34: =COUNTIFS('Respuestas '!$H$3:$H$330,$B34,'Respuestas '!$D$3:$D$330,H$27)/COUNTIF('Respuestas '!$D$3:$D$330,H$27) -> 0.0625 | I34: =COUNTIFS('Respuestas '!$H$3:$H$330,$B34,'Respuestas '!$D$3:$D$330,I$27)/COUNTIF('Respuestas '!$D$3:$D$330,I$27) -> 0.21428571 | J34: =COUNTIFS('Respuestas '!$H$3:$H$330,$B34,'Respuestas '!$D$3:$D$330,J$27)/COUNTIF('Respuestas '!$D$3:$D$330,J$27) -> 0.045454545 | ... V34: =COUNTIFS('Respuestas '!$H$3:$H$330,$B34,'Respuestas '!$D$3:$D$330,V$27)/COUNTIF('Respuestas '!$D$3:$D$330,V$27) -> 0.055555556 | AB34: Tamaño | AC34: =AVERAGEIF($C$26:$V$26,AC$27,$C34:$V34) -> 0.067307692 | AD34: =AVERAGEIF($C$26:$V$26,AD$27,$C34:$V34) -> 0.044642857 | AE34: =AVERAGEIF($C$26:$V$26,AE$27,$C34:$V34) -> 0.12987013 | AF34: =AVERAGEIF($C$26:$V$26,AF$27,$C34:$V34) -> 0.093227554 | AG34: =AVERAGEIF($C$26:$V$26,AG$27,$C34:$V34) -> 0.048013664 | AH34: =AVERAGEIF($C$26:$V$26,AH$27,$C34:$V34) -> 0.08199113
B35: Calidad del servicio | C35: =COUNTIFS('Respuestas '!$H$3:$H$330,$B35,'Respuestas '!$D$3:$D$330,C$27)/COUNTIF('Respuestas '!$D$3:$D$330,C$27) -> 0.03030303 | D35: =COUNTIFS('Respuestas '!$H$3:$H$330,$B35,'Respuestas '!$D$3:$D$330,D$27)/COUNTIF('Respuestas '!$D$3:$D$330,D$27) -> 0.076923077 | E35: =COUNTIFS('Respuestas '!$H$3:$H$330,$B35,'Respuestas '!$D$3:$D$330,E$27)/COUNTIF('Respuestas '!$D$3:$D$330,E$27) -> 0 | F35: =COUNTIFS('Respuestas '!$H$3:$H$330,$B35,'Respuestas '!$D$3:$D$330,F$27)/COUNTIF('Respuestas '!$D$3:$D$330,F$27) -> 0.071428571 | G35: =COUNTIFS('Respuestas '!$H$3:$H$330,$B35,'Respuestas '!$D$3:$D$330,G$27)/COUNTIF('Respuestas '!$D$3:$D$330,G$27) -> 0.076923077 | H35: =COUNTIFS('Respuestas '!$H$3:$H$330,$B35,'Respuestas '!$D$3:$D$330,H$27)/COUNTIF('Respuestas '!$D$3:$D$330,H$27) -> 0.1875 | I35: =COUNTIFS('Respuestas '!$H$3:$H$330,$B35,'Respuestas '!$D$3:$D$330,I$27)/COUNTIF('Respuestas '!$D$3:$D$330,I$27) -> 0.071428571 | J35: =COUNTIFS('Respuestas '!$H$3:$H$330,$B35,'Respuestas '!$D$3:$D$330,J$27)/COUNTIF('Respuestas '!$D$3:$D$330,J$27) -> 0.045454545 | ... V35: =COUNTIFS('Respuestas '!$H$3:$H$330,$B35,'Respuestas '!$D$3:$D$330,V$27)/COUNTIF('Respuestas '!$D$3:$D$330,V$27) -> 0.16666667 | AB35: Calidad del servicio | AC35: =AVERAGEIF($C$26:$V$26,AC$27,$C35:$V35) -> 0.035742036 | AD35: =AVERAGEIF($C$26:$V$26,AD$27,$C35:$V35) -> 0.11195055 | AE35: =AVERAGEIF($C$26:$V$26,AE$27,$C35:$V35) -> 0.058441558 | AF35: =AVERAGEIF($C$26:$V$26,AF$27,$C35:$V35) -> 0.045454545 | AG35: =AVERAGEIF($C$26:$V$26,AG$27,$C35:$V35) -> 0.098494433 | AH35: =AVERAGEIF($C$26:$V$26,AH$27,$C35:$V35) -> 0.074229692
