Workbook

Sheet Respuestas 
A2: Fecha de nacimiento | B2: Segmento | C2: ¿Dónde reside? | D2: ¿En que Municipio realizó su compra? | E2: ¿Dónde suele hacer sus compras? | F2: ¿En que tienda hizo sus compras el día de hoy | G2: De 1 a 5 califique la calidad de los productos ofrecidos en los supermercados Ara, D1 e Ísimo | H2: ¿Qué aspectos de la disposición de la tienda influyen en su decisión de compra? | I2: ¿Cuáles son los principales factores que lo motivan a comprar en Ara o D1 en lugar de en uno tradicional? | J2: De 1 a 5 qué tan importante es la variedad de productos para usted al realizar sus compras en un supermercado? | K2: ¿Cuál es la principal desventaja que encuentra en los supermercados Ara y D1? | L2: De 1 a 5 con cuanto califica la atención al cliente en los supermercados Ara y D1? | M2: ¿Qué incentivos o promociones cree que podrían atraerlo a comprar más en Ara o D1? | N2: ¿Cree que los supermercados tradicionales podrían adoptar algunas prácticas de Ara o D1 para mejorar su oferta y competir mejor? ¿Cuáles? | O2: ¿Considera que los precios en este establecimiento son competitivos en comparación con otros? | P2: ¿Ha aprovechado las ofertas y promociones disponibles en el establecimiento de su preferencia? | Q2: Considera que un aspecto impotante para elegir su teinda es que tenga amplia gama de opciones en diferentes categorias de productos? | R2: De 1 a 5 que tanta importancia le da a la limpieza y organización del establecimiento donde suele mercar | S2: De 1 a 5 califique la comodidad y accesibilidad general del establecimiento donde acaba de mercar | V2: Segmento | W2: Ciudad
A3: 24634 | B3: {=XLOOKUP(D3,'Analisis para entender satisfac'!$B$3:$B$22,'Analisis para entender satisfac'!$A$3:$A$22,)} -> 4 | C3: Sesquilé | D3: Sesquilé | E3: Negocio local | F3: D1 | G3: 1 | H3: Variedad de productos | I3: Precios | J3: 5 | K3: Calidad de los Productos | L3: 1 | M3: Cupones | N3: Precios competitivos | O3: Si | P3: No | Q3: no | R3: 1 | S3: 2 | V3: 4 | W3: Sesquilé
A4: 32797 | B4: {=XLOOKUP(D4,'Analisis para entender satisfac'!$B$3:$B$22,'Analisis para entender satisfac'!$A$3:$A$22,)} -> 4 | C4: Bogotá | D4: Suesca | E4: Cadena de supermercado | F4: D1 | G4: 2 | H4: Disponibilidad del producto | I4: Precios | J4: 4 | K4: Calidad de los Productos | L4: 2 | M4: Descuentos pronto a vencer | N4: Variedad de Productos | O4: Si | P4: Si | Q4: no | R4: 3 | S4: 4 | V4: 4 | W4: Suesca
A5: 30281 | B5: {=XLOOKUP(D5,'Analisis para entender satisfac'!$B$3:$B$22,'Analisis para entender satisfac'!$A$3:$A$22,)} -> 1 | C5: Briceño | D5: Cajicá | E5: Supermercado al por mayor (Makro, Price Smart) | F5: Ara | G5: 4 | H5: Ubicación | I5: Ubicación | J5: 5 | K5: Calidad de los Productos | L5: 4 | M5: Cupones | N5: Ubicación y Accesibilidad | O5: Si | P5: Si | Q5: no | R5: 4 | S5: 4 | V5: 1 | W5: Cajicá
A6: 22756 | B6: {=XLOOKUP(D6,'Analisis para entender satisfac'!$B$3:$B$22,'Analisis para entender satisfac'!$A$3:$A$22,)} -> 2 | C6: Gachancipá | D6: Gachancipá | E6: Negocio local | F6: Ara | G6: 1 | H6: Ubicación | I6: Ubicación | J6: 2 | K6: Compras Impulsivas y Dificultad para Hacer un Mercado Completo | L6: 3 | M6: Descuentos pronto a vencer | N6: Precios competitivos | O6: Si | P6: No | Q6: Si | R6: 1 | S6: 5 | V6: 2 | W6: Gachancipá
A7: 31669 | B7: {=XLOOKUP(D7,'Analisis para entender satisfac'!$B$3:$B$22,'Analisis para entender satisfac'!$A$3:$A$22,)} -> 3 | C7: Cogua | D7: Cogua | E7: Retailer hard discounter (Ara, Isimo, D1) | F7: D1 | G7: 1 | H7: Limpieza/orden | I7: Precios | J7: 2 | K7: Compras Impulsivas y Dificultad para Hacer un Mercado Completo | L7: 3 | M7: Descuentos pronto a vencer | N7: Precios competitivos | O7: Si | P7: No | Q7: no | R7: 1 | S7: 1 | V7: 3 | W7: Cogua
A8: 31298 | B8: {=XLOOKUP(D8,'Analisis para entender satisfac'!$B$3:$B$22,'Analisis para entender satisfac'!$A$3:$A$22,)} -> 2 | C8: Briceño | D8: Briceño | E8: Negocio local | F8: D1 | G8: 1 | H8: Precio | I8: Precios | J8: 1 | K8: Presentación de la Tienda y Productos | L8: 1 | M8: Descuentos pronto a vencer | N8: Precios competitivos | O8: Si | P8: No | Q8: no | R8: 2 | S8: 2 | V8: 2 | W8: Briceño
A9: 29678 | B9: {=XLOOKUP(D9,'Analisis para entender satisfac'!$B$3:$B$22,'Analisis para entender satisfac'!$A$3:$A$22,)} -> 1 | C9: Chía | D9: Chía | E9: Retailer hard discounter (Ara, Isimo, D1) | F9: Ísimo | G9: 2 | H9: Calidad | I9: Ubicación | J9: 2 | K9: Variedad y Disponibilidad de Productos | L9: 2 | M9: Acumulación de puntos | N9: Variedad de Productos | O9: Si | P9: No | Q9: no | R9: 4 | S9: 5 | V9: 1 | W9: Chía
A10: 34809 | B10: {=XLOOKUP(D10,'Analisis para entender satisfac'!$B$3:$B$22,'Analisis para entender satisfac'!$A$3:$A$22,)} -> 6 | C10: Madrid | D10: Madrid | E10: Cadena de supermercado | F10: D1 | G10: 2 | H10: Limpieza/orden | I10: Precios | J10: 3 | K10: Falta de fruver | L10: 4 | M10: Cupones | N10: Atención al cliente | O10: Si | P10: Si | Q10: no | R10: 2 | S10: 5 | V10: 6 | W10: Madrid
A11: 36320 | B11: {=XLOOKUP(D11,'Analisis para entender satisfac'!$B$3:$B$22,'Analisis para entender satisfac'!$A$3:$A$22,)} -> 2 | C11: Gachancipá | D11: Gachancipá | E11: Negocio local | F11: Ara | G11: 3 | H11: Calidad | I11: Precios | J11: 3 | K11: Presentación de la Tienda y Productos | L11: 1 | M11: Promociones de productos | N11: Atención al cliente | O11: Si | P11: No | Q11: Si | R11: 3 | S11: 5 | V11: 5 | W11: Subachoque
A12: 24523 | B12: {=XLOOKUP(D12,'Analisis para entender satisfac'!$B$3:$B$22,'Analisis para entender satisfac'!$A$3:$A$22,)} -> 5 | C12: Bogotá | D12: Subachoque | E12: Cadena de supermercado | F12: Ara | G12: 3 | H12: Ubicación | I12: Ubicación | J12: 4 | K12: Filas y Tiempo de Espera en Caja | L12: 4 | M12: Cupones | N12: Ubicación y Accesibilidad | O12: Si | P12: Si | Q12: no | R12: 2 | S12: 2 | V12: 4 | W12: Nemocón
A13: 29171 | B13: {=XLOOKUP(D13,'Analisis para entender satisfac'!$B$3:$B$22,'Analisis para entender satisfac'!$A$3:$A$22,)} -> 4 | C13: Nemocón | D13: Nemocón | E13: Retailer hard discounter (Ara, Isimo, D1) | F13: Ara | G13: 1 | H13: Tamaño | I13: Precios | J13: 2 | K13: Presentación de la Tienda y Productos | L13: 2 | M13: Promociones de productos | N13: Ubicación y Accesibilidad | O13: Si | P13: No | Q13: Si | R13: 1 | S13: 3 | V13: 6 | W13: Mosquera
A14: 33376 | B14: {=XLOOKUP(D14,'Analisis para entender satisfac'!$B$3:$B$22,'Analisis para entender satisfac'!$A$3:$A$22,)} -> 6 | C14: Funza | D14: Mosquera | E14: Cadena de supermercado | F14: D1 | G14: 2 | H14: Ubicación | I14: Ubicación | J14: 4 | K14: Presentación de la Tienda y Productos | L14: 4 | M14: Acumulación de puntos | N14: Ubicación y Accesibilidad | O14: Si | P14: Si | Q14: no | R14: 1 | S14: 2 | V14: 2 | W14: Tocancipá
... A22: 36561 | B22: {=XLOOKUP(D22,'Analisis para entender satisfac'!$B$3:$B$22,'Analisis para entender satisfac'!$A$3:$A$22,)} -> 4 | C22: Tocaima | D22: Suesca | E22: Negocio local | F22: D1 | G22: 2 | H22: Tamaño | I22: Ubicación | J22: 4 | K22: Domicilios | L22: 5 | M22: Cupones | N22: Ubicación y Accesibilidad | O22: Si | P22: No | Q22: no | R22: 4 | S22: 3 | V22: 5 | W22: Tabio
A23: 24111 | B23: {=XLOOKUP(D23,'Analisis para entender satisfac'!$B$3:$B$22,'Analisis para entender satisfac'!$A$3:$A$22,)} -> 1 | C23: Briceño | D23: Cajicá | E23: Supermercado al por mayor (Makro, Price Smart) | F23: Ara | G23: 1 | H23: Limpieza/orden | I23: Ubicación | J23: 1 | K23: Ubicación y Tamaño de las Tiendas | L23: 5 | M23: Descuentos pronto a vencer | N23: Variedad de Productos | O23: Si | P23: Si | Q23: Si | R23: 3 | S23: 2
A24: 34111 | B24: {=XLOOKUP(D24,'Analisis para entender satisfac'!$B$3:$B$22,'Analisis para entender satisfac'!$A$3:$A$22,)} -> 3 | C24: Cogua | D24: Cogua | E24: Negocio local | F24: D1 | G24: 3 | H24: Disponibilidad del producto | I24: Precios | J24: 1 | K24: Domicilios | L24: 1 | M24: Promociones de productos | N24: Ubicación y Accesibilidad | O24: Si | P24: No | Q24: no | R24: 4 | S24: 4
A25: 34987 | B25: {=XLOOKUP(D25,'Analisis para entender satisfac'!$B$3:$B$22,'Analisis para entender satisfac'!$A$3:$A$22,)} -> 5 | C25: Tenjo | D25: Tenjo | E25: Negocio local | F25: D1 | G25: 2 | H25: Ubicación | I25: Precios | J25: 2 | K25: Compras Impulsivas y Dificultad para Hacer un Mercado Completo | L25: 5 | M25: Promociones de productos | N25: Ubicación y Accesibilidad | O25: Si | P25: No | Q25: no | R25: 1 | S25: 1
A26: 20408 | B26: {=XLOOKUP(D26,'Analisis para entender satisfac'!$B$3:$B$22,'Analisis para entender satisfac'!$A$3:$A$22,)} -> 5 | C26: Tenjo | D26: Tenjo | E26: Cadena de supermercado | F26: D1 | G26: 4 | H26: Tamaño | I26: Productos unicos del retailer | J26: 1 | K26: Atención al Cliente y Servicio | L26: 4 | M26: Promociones de productos | N26: Variedad de Productos | O26: Si | P26: Si | Q26: Si | R26: 5 | S26: 3
A27: 30584 | B27: {=XLOOKUP(D27,'Analisis para entender satisfac'!$B$3:$B$22,'Analisis para entender satisfac'!$A$3:$A$22,)} -> 5 | C27: Bogotá | D27: Subachoque | E27: Cadena de supermercado | F27: Ara | G27: 2 | H27: Parqueadero | I27: Ubicación | J27: 5 | K27: Presentación de la Tienda y Productos | L27: 1 | M27: Promociones de productos | N27: Variedad de Productos | O27: Si | P27: Si | Q27: no | R27: 1 | S27: 1
A28: 28448 | B28: {=XLOOKUP(D28,'Analisis para entender satisfac'!$B$3:$B$22,'Analisis para entender satisfac'!$A$3:$A$22,)} -> 4 | C28: Sesquilé | D28: Sesquilé | E28: Negocio local | F28: D1 | G28: 1 | H28: Precio | I28: Precios | J28: 5 | K28: Filas y Tiempo de Espera en Caja | L28: 2 | M28: Acumulación de puntos | N28: Precios competitivos | O28: Si | P28: No | Q28: Si | R28: 2 | S28: 5
A29: 22756 | B29: {=XLOOKUP(D29,'Analisis para entender satisfac'!$B$3:$B$22,'Analisis para entender satisfac'!$A$3:$A$22,)} -> 2 | C29: Gachancipá | D29: Gachancipá | E29: Retailer hard discounter (Ara, Isimo, D1) | F29: Ara | G29: 3 | H29: Disponibilidad del producto | I29: Variedad | J29: 5 | K29: Filas y Tiempo de Espera en Caja | L29: 4 | M29: Cupones | N29: Ubicación y Accesibilidad | O29: Si | P29: No | Q29: no | R29: 2 | S29: 5
A30: 25071 | B30: {=XLOOKUP(D30,'Analisis para entender satisfac'!$B$3:$B$22,'Analisis para entender satisfac'!$A$3:$A$22,)} -> 3 | C30: Cogua | D30: Cogua | E30: Cadena de supermercado | F30: D1 | G30: 2 | H30: Tamaño | I30: Productos unicos del retailer | J30: 1 | K30: Ubicación y Tamaño de las Tiendas | L30: 1 | M30: Acumulación de puntos | N30: Precios competitivos | O30: Si | P30: Si | Q30: no | R30: 4 | S30: 3
A31: 21013 | B31: {=XLOOKUP(D31,'Analisis para entender satisfac'!$B$3:$B$22,'Analisis para entender satisfac'!$A$3:$A$22,)} -> 6 | C31: Mosquera | D31: Mosquera | E31: Cadena de supermercado | F31: D1 | G31: 1 | H31: Ubicación | I31: Precios | J31: 4 | K31: Calidad de los Productos | L31: 2 | M31: Promociones de productos | N31: Precios competitivos | O31: Si | P31: Si | Q31: Si | R31: 1 | S31: 3
A32: 30798 | B32: {=XLOOKUP(D32,'Analisis para entender satisfac'!$B$3:$B$22,'Analisis para entender satisfac'!$A$3:$A$22,)} -> 6 | C32: Facatativá | D32: Facatativá | E32: Retailer hard discounter (Ara, Isimo, D1) | F32: Ara | G32: 2 | H32: Cercania con el personal | I32: Ubicación | J32: 5 | K32: Atención al Cliente y Servicio | L32: 5 | M32: Promociones de productos | N32: Precios competitivos | O32: Si | P32: No | Q32: no | R32: 2 | S32: 1
A33: 24929 | B33: {=XLOOKUP(D33,'Analisis para entender satisfac'!$B$3:$B$22,'Analisis para entender satisfac'!$A$3:$A$22,)} -> 4 | C33: Nemocón | D33: Nemocón | E33: Negocio local | F33: Ara | G33: 1 | H33: Precio | I33: Ubicación | J33: 5 | K33: Filas y Tiempo de Espera en Caja | L33: 5 | M33: Promociones de productos | N33: Precios competitivos | O33: Si | P33: Si | Q33: Si | R33: 4 | S33: 1
A34: 27700 | B34: {=XLOOKUP(D34,'Analisis para entender satisfac'!$B$3:$B$22,'Analisis para entender satisfac'!$A$3:$A$22,)} -> 6 | C34: Funza | D34: Funza | E34: Retailer hard discounter (Ara, Isimo, D1) | F34: Ara | G34: 4 | H34: Disponibilidad del producto | I34: Precios | J34: 3 | K34: Filas y Tiempo de Espera en Caja | L34: 5 | M34: Cupones | N34: Precios competitivos | O34: Si | P34: No | Q34: Si | R34: 3 | S34: 4
... A101: 25483 | B101: {=XLOOKUP(D101,'Analisis para entender satisfac'!$B$3:$B$22,'Analisis para entender satisfac'!$A$3:$A$22,)} -> 6 | C101: El Rosal | D101: Facatativá | E101: Negocio local | F101: Ara | G101: 3 | H101: Disponibilidad del producto | I101: Ubicación | J101: 3 | K101: Domicilios | L101: 4 | M101: Promociones de productos | N101: Precios competitivos | O101: Si | P101: Si | Q101: no | R101: 2 | S101: 5
A102: 01/21/1986 | B102: {=XLOOKUP(D102,'Analisis para entender satisfac'!$B$3:$B$22,'Analisis para entender satisfac'!$A$3:$A$22,)} -> 5 | C102: Subachoque | D102: Subachoque | E102: Negocio local | F102: Ara | G102: 1 | H102: Precio | I102: Precios | J102: 2 | K102: Filas y Tiempo de Espera en Caja | L102: 4 | M102: Descuentos pronto a vencer | N102: Precios competitivos | O102: Si | P102: Si | Q102: no | R102: 2 | S102: 2
A103: 29805 | B103: {=XLOOKUP(D103,'Analisis para entender satisfac'!$B$3:$B$22,'Analisis para entender satisfac'!$A$3:$A$22,)} -> 5 | C103: Subachoque | D103: Subachoque | E103: Negocio local | F103: Ara | G103: 5 | H103: Calidad | I103: Productos unicos del retailer | J103: 4 | K103: Atención al Cliente y Servicio | L103: 1 | M103: Premios/ rifas | N103: Precios competitivos | O103: No | P103: Si | Q103: no | R103: 4 | S103: 4
A104: 10/16/1972 | B104: {=XLOOKUP(D104,'Analisis para entender satisfac'!$B$3:$B$22,'Analisis para entender satisfac'!$A$3:$A$22,)} -> 3 | C104: Cogua | D104: Zipaquirá | E104: Negocio local | F104: Ísimo | G104: 5 | H104: Disponibilidad del producto | I104: Variedad | J104: 5 | K104: Falta de fruver | L104: 4 | M104: Descuentos pronto a vencer | N104: Variedad de Productos | O104: Si | P104: No | Q104: Si | R104: 2 | S104: 3
A105: 10/29/1959 | B105: {=XLOOKUP(D105,'Analisis para entender satisfac'!$B$3:$B$22,'Analisis para entender satisfac'!$A$3:$A$22,)} -> 5 | C105: Tabio | D105: Tabio | E105: Retailer hard discounter (Ara, Isimo, D1) | F105: Ísimo | G105: 1 | H105: Calidad del servicio | I105: Variedad | J105: 1 | K105: Variedad y Disponibilidad de Productos | L105: 5 | M105: Acumulación de puntos | N105: Atención al cliente | O105: Si | P105: No | Q105: no | R105: 2 | S105: 4
A106: 03/25/1968 | B106: {=XLOOKUP(D106,'Analisis para entender satisfac'!$B$3:$B$22,'Analisis para entender satisfac'!$A$3:$A$22,)} -> 4 | C106: Sesquilé | D106: Sesquilé | E106: Retailer hard discounter (Ara, Isimo, D1) | F106: D1 | G106: 2 | H106: Domicilios | I106: Variedad | J106: 5 | K106: Atención al Cliente y Servicio | L106: 2 | M106: Promociones de productos | N106: Atención al cliente | O106: Si | P106: No | Q106: no | R106: 1 | S106: 5
A107: 27124 | B107: {=XLOOKUP(D107,'Analisis para entender satisfac'!$B$3:$B$22,'Analisis para entender satisfac'!$A$3:$A$22,)} -> 3 | C107: Bogotá | D107: Zipaquirá | E107: Cadena de supermercado | F107: Ísimo | G107: 2 | H107: Calidad | I107: Precios | J107: 5 | K107: Variedad y Disponibilidad de Productos | L107: 5 | M107: Cupones | N107: Variedad de Productos | O107: Si | P107: Si | Q107: no | R107: 1 | S107: 5
A108: 12/18/1978 | B108: {=XLOOKUP(D108,'Analisis para entender satisfac'!$B$3:$B$22,'Analisis para entender satisfac'!$A$3:$A$22,)} -> 1 | C108: Cajicá | D108: Cajicá | E108: Supermercado al por mayor (Makro, Price Smart) | F108: Ara | G108: 2 | H108: Precio | I108: Precios | J108: 4 | K108: Domicilios | L108: 4 | M108: Promociones de productos | N108: Precios competitivos | O108: Si | P108: Si | Q108: no | R108: 1 | S108: 1
A109: 04/30/1985 | B109: {=XLOOKUP(D109,'Analisis para entender satisfac'!$B$3:$B$22,'Analisis para entender satisfac'!$A$3:$A$22,)} -> 1 | C109: Cota | D109: Cota | E109: Retailer hard discounter (Ara, Isimo, D1) | F109: Ara | G109: 3 | H109: Precio | I109: Ubicación | J109: 2 | K109: Ubicación y Tamaño de las Tiendas | L109: 5 | M109: Descuentos pronto a vencer | N109: Precios competitivos | O109: Si | P109: No | Q109: no | R109: 2 | S109: 2
A110: 23536 | B110: {=XLOOKUP(D110,'Analisis para entender satisfac'!$B$3:$B$22,'Analisis para entender satisfac'!$A$3:$A$22,)} -> 5 | C110: Tenjo | D110: Tenjo | E110: Negocio local | F110: D1 | G110: 2 | H110: Calidad | I110: Productos unicos del retailer | J110: 1 | K110: Falta de fruver | L110: 3 | M110: Promociones de productos | N110: Precios competitivos | O110: Si | P110: No | Q110: no | R110: 2 | S110: 4
A111: 24629 | B111: {=XLOOKUP(D111,'Analisis para entender satisfac'!$B$3:$B$22,'Analisis para entender satisfac'!$A$3:$A$22,)} -> 6 | C111: Madrid | D111: Madrid | E111: Retailer hard discounter (Ara, Isimo, D1) | F111: D1 | G111: 3 | H111: Cercania con el personal | I111: Precios | J111: 5 | K111: Presentación de la Tienda y Productos | L111: 4 | M111: Acumulación de puntos | N111: Atención al cliente | O111: Si | P111: No | Q111: no | R111: 1 | S111: 4
A112: 09/23/1987 | B112: {=XLOOKUP(D112,'Analisis para entender satisfac'!$B$3:$B$22,'Analisis para entender satisfac'!$A$3:$A$22,)} -> 4 | C112: Chocontá | D112: Chocontá | E112: Retailer hard discounter (Ara, Isimo, D1) | F112: Ara | G112: 5 | H112: Parqueadero | I112: Precios | J112: 4 | K112: Variedad y Disponibilidad de Productos | L112: 4 | M112: Promociones de productos | N112: Atención al cliente | O112: Si | P112: Si | Q112: Si | R112: 3 | S112: 2
A113: 29133 | B113: {=XLOOKUP(D113,'Analisis para entender satisfac'!$B$3:$B$22,'Analisis para entender satisfac'!$A$3:$A$22,)} -> 3 | C113: Zipaquirá | D113: Zipaquirá | E113: Retailer hard discounter (Ara, Isimo, D1) | F113: Ísimo | G113: 4 | H113: Calidad | I113: Ubicación | J113: 4 | K113: Presentación de la Tienda y Productos | L113: 2 | M113: Promociones de productos | N113: Precios competitivos | O113: Si | P113: No | Q113: Si | R113: 1 | S113: 4
A114: 02/17/1963 | B114: {=XLOOKUP(D114,'Analisis para entender satisfac'!$B$3:$B$22,'Analisis para entender satisfac'!$A$3:$A$22,)} -> 5 | C114: El Rosal | D114: El Rosal | E114: Negocio local | F114: Ara | G114: 4 | H114: Ubicación | I114: Precios | J114: 1 | K114: Compras Impulsivas y Dificultad para Hacer un Mercado Completo | L114: 5 | M114: Cupones | N114: Precios competitivos | O114: No | P114: Si | Q114: Si | R114: 5 | S114: 5
A115: 05/14/1971 | B115: {=XLOOKUP(D115,'Analisis para entender satisfac'!$B$3:$B$22,'Analisis para entender satisfac'!$A$3:$A$22,)} -> 4 | C115: Sesquilé | D115: Sesquilé | E115: Negocio local | F115: D1 | G115: 3 | H115: Limpieza/orden | I115: Precios | J115: 5 | K115: Variedad y Disponibilidad de Productos | L115: 5 | M115: Cupones | N115: Precios competitivos | O115: Si | P115: No | Q115: no | R115: 4 | S115: 2
A116: 33733 | B116: {=XLOOKUP(D116,'Analisis para entender satisfac'!$B$3:$B$22,'Analisis para entender satisfac'!$A$3:$A$22,)} -> 1 | C116: Briceño | D116: Cajicá | E116: Cadena de supermercado | F116: Ara | G116: 1 | H116: Ubicación | I116: Ubicación | J116: 5 | K116: Falta de fruver | L116: 4 | M116: Cupones | N116: Ubicación y Accesibilidad | O116: Si | P116: No | Q116: Si | R116: 2 | S116: 3
A117: 03/31/1970 | B117: {=XLOOKUP(D117,'Analisis para entender satisfac'!$B$3:$B$22,'Analisis para entender satisfac'!$A$3:$A$22,)} -> 5 | C117: Tabio | D117: Tabio | E117: Retailer hard discounter (Ara, Isimo, D1) | F117: Ísimo | G117: 1 | H117: Precio | I117: Precios | J117: 4 | K117: Domicilios | L117: 4 | M117: Promociones de productos | N117: Precios competitivos | O117: Si | P117: No | Q117: no | R117: 2 | S117: 2
A118: 08/14/1983 | B118: {=XLOOKUP(D118,'Analisis para entender satisfac'!$B$3:$B$22,'Analisis para entender satisfac'!$A$3:$A$22,)} -> 3 | C118: Zipaquirá | D118: Zipaquirá | E118: Retailer hard discounter (Ara, Isimo, D1) | F118: Ísimo | G118: 2 | H118: Limpieza/orden | I118: Ubicación | J118: 5 | K118: Variedad y Disponibilidad de Productos | L118: 5 | M118: Premios/ rifas | N118: Ubicación y Accesibilidad | O118: Si | P118: No | Q118: Si | R118: 2 | S118: 2
A119: 20827 | B119: {=XLOOKUP(D119,'Analisis para entender satisfac'!$B$3:$B$22,'Analisis para entender satisfac'!$A$3:$A$22,)} -> 6 | C119: Facatativá | D119: Facatativá | E119: Retailer hard discounter (Ara, Isimo, D1) | F119: Ara | G119: 3 | H119: Cercania con el personal | I119: Precios | J119: 3 | K119: Presentación de la Tienda y Productos | L119: 4 | M119: Acumulación de puntos | N119: Ubicación y Accesibilidad | O119: Si | P119: Si | Q119: Si | R119: 2 | S119: 5
A120: 37476 | B120: {=XLOOKUP(D120,'Analisis para entender satisfac'!$B$3:$B$22,'Analisis para entender satisfac'!$A$3:$A$22,)} -> 1 | C120: Cota | D120: Cajicá | E120: Cadena de supermercado | F120: Ara | G120: 4 | H120: Variedad de productos | I120: Ubicación | J120: 5 | K120: Variedad y Disponibilidad de Productos | L120: 4 | M120: Promociones de productos | N120: Variedad de Productos | O120: Si | P120: Si | Q120: Si | R120: 3 | S120: 5
A121: 06/13/1969 | B121: {=XLOOKUP(D121,'Analisis para entender satisfac'!$B$3:$B$22,'Analisis para entender satisfac'!$A$3:$A$22,)} -> 4 | C121: Sesquilé | D121: Sesquilé | E121: Retailer hard discounter (Ara, Isimo, D1) | F121: D1 | G121: 4 | H121: Ubicación | I121: Ubicación | J121: 3 | K121: Compras Impulsivas y Dificultad para Hacer un Mercado Completo | L121: 2 | M121: Cupones | N121: Precios competitivos | O121: Si | P121: No | Q121: no | R121: 4 | S121: 4
A122: 33055 | B122: {=XLOOKUP(D122,'Analisis para entender satisfac'!$B$3:$B$22,'Analisis para entender satisfac'!$A$3:$A$22,)} -> 5 | C122: El Rosal | D122: El Rosal | E122: Retailer hard discounter (Ara, Isimo, D1) | F122: Ara | G122: 1 | H122: Domicilios | I122: Precios | J122: 4 | K122: Variedad y Disponibilidad de Productos | L122: 4 | M122: Descuentos pronto a vencer | N122: Precios competitivos | O122: Si | P122: Si | Q122: Si | R122: 1 | S122: 2
A123: 01/27/1962 | B123: {=XLOOKUP(D123,'Analisis para entender satisfac'!$B$3:$B$22,'Analisis para entender satisfac'!$A$3:$A$22,)} -> 1 | C123: Cajicá | D123: Cajicá | E123: Supermercado al por mayor (Makro, Price Smart) | F123: Ara | G123: 1 | H123: Disponibilidad del producto | I123: Precios | J123: 3 | K123: Variedad y Disponibilidad de Productos | L123: 5 | M123: Descuentos pronto a vencer | N123: Precios competitivos | O123: Si | P123: Si | Q123: Si | R123: 1 | S123: 5
A124: 20768 | B124: {=XLOOKUP(D124,'Analisis para entender satisfac'!$B$3:$B$22,'Analisis para entender satisfac'!$A$3:$A$22,)} -> 1 | C124: Cota | D124: Cajicá | E124: Cadena de supermercado | F124: Ara | G124: 5 | H124: Precio | I124: Precios | J124: 1 | K124: Compras Impulsivas y Dificultad para Hacer un Mercado Completo | L124: 4 | M124: Promociones de productos | N124: Precios competitivos | O124: Si | P124: Si | Q124: Si | R124: 1 | S124: 5
A125: 11/13/1975 | B125: {=XLOOKUP(D125,'Analisis para entender satisfac'!$B$3:$B$22,'Analisis para entender satisfac'!$A$3:$A$22,)} -> 1 | C125: Cota | D125: Cota | E125: Retailer hard discounter (Ara, Isimo, D1) | F125: Ara | G125: 5 | H125: Disponibilidad del producto | I125: Ubicación | J125: 2 | K125: Atención al Cliente y Servicio | L125: 1 | M125: Descuentos pronto a vencer | N125: Variedad de Productos | O125: Si | P125: No | Q125: no | R125: 1 | S125: 3
A126: 07/14/1993 | B126: {=XLOOKUP(D126,'Analisis para entender satisfac'!$B$3:$B$22,'Analisis para entender satisfac'!$A$3:$A$22,)} -> 1 | C126: Cota | D126: Chía | E126: Cadena de supermercado | F126: Ísimo | G126: 3 | H126: Domicilios | I126: Variedad | J126: 1 | K126: Ubicación y Tamaño de las Tiendas | L126: 5 | M126: Promociones de productos | N126: Precios competitivos | O126: Si | P126: Si | Q126: no | R126: 1 | S126: 3
A127: 23842 | B127: {=XLOOKUP(D127,'Analisis para entender satisfac'!$B$3:$B$22,'Analisis para entender satisfac'!$A$3:$A$22,)} -> 2 | C127: Tocancipá | D127: Tocancipá | E127: Retailer hard discounter (Ara, Isimo, D1) | F127: D1 | G127: 1 | H127: Limpieza/orden | I127: Precios | J127: 5 | K127: Falta de fruver | L127: 4 | M127: Promociones de productos | N127: Ubicación y Accesibilidad | O127: Si | P127: No | Q127: no | R127: 1 | S127: 3
A128: 29497 | B128: {=XLOOKUP(D128,'Analisis para entender satisfac'!$B$3:$B$22,'Analisis para entender satisfac'!$A$3:$A$22,)} -> 5 | C128: Tenjo | D128: Tenjo | E128: Cadena de supermercado | F128: D1 | G128: 2 | H128: Disponibilidad del producto | I128: Ubicación | J128: 3 | K128: Variedad y Disponibilidad de Productos | L128: 5 | M128: Descuentos pronto a vencer | N128: Variedad de Productos | O128: Si | P128: Si | Q128: Si | R128: 1 | S128: 2
A129: 11/30/1994 | B129: {=XLOOKUP(D129,'Analisis para entender satisfac'!$B$3:$B$22,'Analisis para entender satisfac'!$A$3:$A$22,)} -> 6 | C129: Mosquera | D129: Funza | E129: Cadena de supermercado | F129: Ara | G129: 3 | H129: Parqueadero | I129: Productos unicos del retailer | J129: 3 | K129: Variedad y Disponibilidad de Productos | L129: 5 | M129: Descuentos pronto a vencer | N129: Precios competitivos | O129: No | P129: No | Q129: no | R129: 2 | S129: 2
A130: 26910 | B130: {=XLOOKUP(D130,'Analisis para entender satisfac'!$B$3:$B$22,'Analisis para entender satisfac'!$A$3:$A$22,)} -> 5 | C130: Subachoque | D130: Subachoque | E130: Retailer hard discounter (Ara, Isimo, D1) | F130: Ara | G130: 2 | H130: Precio | I130: Ubicación | J130: 1 | K130: Variedad y Disponibilidad de Productos | L130: 2 | M130: Promociones de productos | N130: Precios competitivos | O130: Si | P130: No | Q130: Si | R130: 1 | S130: 3
A131: 28316 | B131: {=XLOOKUP(D131,'Analisis para entender satisfac'!$B$3:$B$22,'Analisis para entender satisfac'!$A$3:$A$22,)} -> 4 | C131: Nemocón | D131: Nemocón | E131: Retailer hard discounter (Ara, Isimo, D1) | F131: Ara | G131: 4 | H131: Disponibilidad del producto | I131: Precios | J131: 5 | K131: Atención al Cliente y Servicio | L131: 5 | M131: Cupones | N131: Variedad de Productos | O131: Si | P131: Si | Q131: no | R131: 1 | S131: 3
A132: 20251 | B132: {=XLOOKUP(D132,'Analisis para entender satisfac'!$B$3:$B$22,'Analisis para entender satisfac'!$A$3:$A$22,)} -> 3 | C132: Zipaquirá | D132: Zipaquirá | E132: Retailer hard discounter (Ara, Isimo, D1) | F132: Ísimo | G132: 5 | H132: Disponibilidad del producto | I132: Precios | J132: 4 | K132: Variedad y Disponibilidad de Productos | L132: 3 | M132: Acumulación de puntos | N132: Precios competitivos | O132: Si | P132: No | Q132: Si | R132: 3 | S132: 3
A133: 30558 | B133: {=XLOOKUP(D133,'Analisis para entender satisfac'!$B$3:$B$22,'Analisis para entender satisfac'!$A$3:$A$22,)} -> 4 | C133: Tocaima | D133: Suesca | E133: Retailer hard discounter (Ara, Isimo, D1) | F133: D1 | G133: 5 | H133: Ubicación | I133: Ubicación | J133: 5 | K133: Filas y Tiempo de Espera en Caja | L133: 3 | M133: Acumulación de puntos | N133: Ubicación y Accesibilidad | O133: Si | P133: No | Q133: Si | R133: 2 | S133: 2
A134: 32696 | B134: {=XLOOKUP(D134,'Analisis para entender satisfac'!$B$3:$B$22,'Analisis para entender satisfac'!$A$3:$A$22,)} -> 5 | C134: El Rosal | D134: El Rosal | E134: Retailer hard discounter (Ara, Isimo, D1) | F134: D1 | G134: 2 | H134: Calidad del servicio | I134: Precios | J134: 5 | K134: Presentación de la Tienda y Productos | L134: 5 | M134: Descuentos pronto a vencer | N134: Precios competitivos | O134: Si | P134: No | Q134: Si | R134: 2 | S134: 5
A135: 27111 | B135: {=XLOOKUP(D135,'Analisis para entender satisfac'!$B$3:$B$22,'Analisis para entender satisfac'!$A$3:$A$22,)} -> 4 | C135: Chocontá | D135: Chocontá | E135: Retailer hard discounter (Ara, Isimo, D1) | F135: Ara | G135: 2 | H135: Parqueadero | I135: Precios | J135: 5 | K135: Presentación de la Tienda y Productos | L135: 4 | M135: Descuentos pronto a vencer | N135: Atención al cliente | O135: Si | P135: Si | Q135: Si | R135: 1 | S135: 3
A136: 33117 | B136: {=XLOOKUP(D136,'Analisis para entender satisfac'!$B$3:$B$22,'Analisis para entender satisfac'!$A$3:$A$22,)} -> 1 | C136: Briceño | D136: Cajicá | E136: Cadena de supermercado | F136: Ara | G136: 5 | H136: Variedad de productos | I136: Productos unicos del retailer | J136: 5 | K136: Filas y Tiempo de Espera en Caja | L136: 2 | M136: Descuentos pronto a vencer | N136: Variedad de Productos | O136: Si | P136: Si | Q136: Si | R136: 2 | S136: 4
A137: 30871 | B137: {=XLOOKUP(D137,'Analisis para entender satisfac'!$B$3:$B$22,'Analisis para entender satisfac'!$A$3:$A$22,)} -> 6 | C137: Bogotá | D137: Madrid | E137: Retailer hard discounter (Ara, Isimo, D1) | F137: D1 | G137: 4 | H137: Cercania con el personal | I137: Variedad | J137: 4 | K137: Variedad y Disponibilidad de Productos | L137: 5 | M137: Promociones de productos | N137: Ubicación y Accesibilidad | O137: Si | P137: No | Q137: Si | R137: 5 | S137: 2
A138: 27710 | B138: {=XLOOKUP(D138,'Analisis para entender satisfac'!$B$3:$B$22,'Analisis para entender satisfac'!$A$3:$A$22,)} -> 5 | C138: El Rosal | D138: El Rosal | E138: Retailer hard discounter (Ara, Isimo, D1) | F138: D1 | G138: 5 | H138: Cercania con el personal | I138: Precios | J138: 2 | K138: Variedad y Disponibilidad de Productos | L138: 5 | M138: Premios/ rifas | N138: Atención al cliente | O138: Si | P138: No | Q138: Si | R138: 1 | S138: 3
A139: 21142 | B139: {=XLOOKUP(D139,'Analisis para entender satisfac'!$B$3:$B$22,'Analisis para entender satisfac'!$A$3:$A$22,)} -> 1 | C139: Tabio | D139: Chía | E139: Cadena de supermercado | F139: Ísimo | G139: 5 | H139: Ubicación | I139: Ubicación | J139: 3 | K139: Variedad y Disponibilidad de Productos | L139: 4 | M139: Promociones de productos | N139: Ubicación y Accesibilidad | O139: Si | P139: Si | Q139: no | R139: 3 | S139: 4
A140: 28866 | B140: {=XLOOKUP(D140,'Analisis para entender satisfac'!$B$3:$B$22,'Analisis para entender satisfac'!$A$3:$A$22,)} -> 1 | C140: Cota | D140: Chía | E140: Retailer hard discounter (Ara, Isimo, D1) | F140: D1 | G140: 1 | H140: Disponibilidad del producto | I140: Variedad | J140: 3 | K140: Presentación de la Tienda y Productos | L140: 4 | M140: Promociones de productos | N140: Precios competitivos | O140: Si | P140: No | Q140: no | R140: 1 | S140: 5
A141: 33133 | B141: {=XLOOKUP(D141,'Analisis para entender satisfac'!$B$3:$B$22,'Analisis para entender satisfac'!$A$3:$A$22,)} -> 5 | C141: El Rosal | D141: El Rosal | E141: Negocio local | F141: D1 | G141: 1 | H141: Precio | I141: Ubicación | J141: 3 | K141: Filas y Tiempo de Espera en Caja | L141: 4 | M141: Promociones de productos | N141: Ubicación y Accesibilidad | O141: No | P141: No | Q141: Si | R141: 1 | S141: 2
... A330: 18272 | B330: {=XLOOKUP(D330,'Analisis para entender satisfac'!$B$3:$B$22,'Analisis para entender satisfac'!$A$3:$A$22,)} -> 1 | C330: Chía | D330: Cajicá | E330: Supermercado al por mayor (Makro, Price Smart) | F330: D1 | G330: 5 | H330: Calidad | I330: Precios | J330: 5 | K330: Filas y Tiempo de Espera en Caja | L330: 4 | M330: Descuentos pronto a vencer | N330: Precios competitivos | O330: Si | P330: Si | Q330: no | R330: 2 | S330: 5

Sheet Analisis para entender satisfac
B1: Variable de atención | C1: Calidad del producto | D1: Surtido | E1: Atención del cliente | F1: Pricing | G1: Pricing | H1: Surtido | I1: Características físicas del establecimiento | J1: Características físicas del establecimiento | AB1: Realidad | AC1: Expectativa | AD1: Realidad | AE1: Realidad | AF1: Realidad | AG1: Expectativa | AH1: Expectativa | AI1: Realidad
A2: Segmento | B2: Ciudad donde hizo la compra | C2: De 1 a 5 califique la calidad de los productos ofrecidos en los supermercados Ara, D1 e Ísimo | D2: De 1 a 5 qué tan importante es la variedad de productos para usted al realizar sus compras en un supermercado? | E2: De 1 a 5 con cuanto califica la atención al cliente en los supermercados Ara y D1? | F2: ¿Considera que los precios en este establecimiento son competitivos en comparación con otros? SI HACIA EL HARD DISCOUNTER | G2: ¿Ha aprovechado las ofertas y promociones disponibles en el establecimiento de su preferencia? BIAS AL NO hard discounter y tienda loca | H2: Considera que un aspecto importante para mercar en una tienda hard discounter es que tenga amplia gama de opciones en diferentes categorias de productos? BIAS AL NO en retailers y negocios locales | I2: De 1 a 5 que tanta importancia le da a la limpieza y organización del establecimiento donde suele mercar | J2: De 1 a 5 califique la comodidad y accesibilidad general del establecimiento donde acaba de mercar | AA2: Segmento | AB2: De 1 a 5 califique la calidad de los productos ofrecidos en los supermercados Ara, D1 e Ísimo | AC2: De 1 a 5 qué tan importante es la variedad de productos para usted al realizar sus compras en un supermercado? | AD2: De 1 a 5 con cuanto califica la atención al cliente en los supermercados Ara y D1? | AE2: ¿Considera que los precios en este establecimiento son competitivos en comparación con otros? | AF2: ¿Ha aprovechado las ofertas y promociones disponibles en el establecimiento de su preferencia? | AG2: Considera que un aspecto importante para mercar en una tienda hard discounter es que tenga amplia gama de opciones en diferentes categorias de productos? | AH2: De 1 a 5 que tanta importancia le da a la limpieza y organización del establecimiento donde suele mercar | AI2: De 1 a 5 califique la comodidad y accesibilidad general del establecimiento donde acaba de mercar
A3: 1 | B3: Cajicá | C3: =SUMIF('Respuestas '!$D$3:$D$330,$B3,'Respuestas '!$G$3:$G$330)/(COUNTIF('Respuestas '!$D$3:$D$330,$B3)*5) -> 0.54545455 | D3: =SUMIF('Respuestas '!$D$3:$D$330,$B3,'Respuestas '!$J$3:$J$330)/(COUNTIF('Respuestas '!$D$3:$D$330,$B3)*5) -> 0.73333333 | E3: =SUMIF('Respuestas '!$D$3:$D$330,$B3,'Respuestas '!$L$3:$L$330)/(COUNTIF('Respuestas '!$D$3:$D$330,$B3)*5) -> 0.81212121 | F3: =(COUNTIFS('Respuestas '!$D$3:$D$330,$B3,'Respuestas '!$O$3:$O$330,"si")/COUNTIF('Respuestas '!$D$3:$D$330,$B3)) -> 0.90909091 | G3: =(COUNTIFS('Respuestas '!$D$3:$D$330,$B3,'Respuestas '!$P$3:$P$330,"si")/COUNTIF('Respuestas '!$D$3:$D$330,$B3)) -> 0.72727273 | H3: =(COUNTIFS('Respuestas '!$D$3:$D$330,$B3,'Respuestas '!$Q$3:$Q$330,"si")/COUNTIF('Respuestas '!$D$3:$D$330,$B3)) -> 0.45454545 | I3: =SUMIF('Respuestas '!$D$3:$D$330,$B3,'Respuestas '!$R$3:$R$330)/(COUNTIF('Respuestas '!$D$3:$D$330,$B3)*5) -> 0.46060606 | J3: =SUMIF('Respuestas '!$D$3:$D$330,$B3,'Respuestas '!$S$3:$S$330)/(COUNTIF('Respuestas '!$D$3:$D$330,$B3)*5) -> 0.64848485 | AA3: 1 | AB3: =AVERAGEIF($A$3:$A$22,$AA3,C$3:C$22) -> 0.58310023 | AC3: =AVERAGEIF($A$3:$A$22,$AA3,D$3:D$22) -> 0.66495726 | AD3: =AVERAGEIF($A$3:$A$22,$AA3,E$3:E$22) -> 0.77327117 | AE3: =AVERAGEIF($A$3:$A$22,$AA3,F$3:F$22) -> 0.96969697 | AF3: =AVERAGEIF($A$3:$A$22,$AA3,G$3:G$22) -> 0.42191142 | AG3: =AVERAGEIF($A$3:$A$22,$AA3,H$3:H$22) -> 0.32138695 | AH3: =AVERAGEIF($A$3:$A$22,$AA3,I$3:I$22) -> 0.3971251 | AI3: =AVERAGEIF($A$3:$A$22,$AA3,J$3:J$22) -> 0.67257187
A4: 1 | B4: Chía | C4: =SUMIF('Respuestas '!$D$3:$D$330,B4,'Respuestas '!$G$3:$G$330)/(COUNTIF('Respuestas '!$D$3:$D$330,B4)*5) -> 0.55384615 | D4: =SUMIF('Respuestas '!$D$3:$D$330,$B4,'Respuestas '!$J$3:$J$330)/(COUNTIF('Respuestas '!$D$3:$D$330,$B4)*5) -> 0.66153846 | E4: =SUMIF('Respuestas '!$D$3:$D$330,$B4,'Respuestas '!$L$3:$L$330)/(COUNTIF('Respuestas '!$D$3:$D$330,$B4)*5) -> 0.70769231 | F4: =(COUNTIFS('Respuestas '!$D$3:$D$330,$B4,'Respuestas '!$O$3:$O$330,"si")/COUNTIF('Respuestas '!$D$3:$D$330,$B4)) -> 1 | G4: =(COUNTIFS('Respuestas '!$D$3:$D$330,$B4,'Respuestas '!$P$3:$P$330,"si")/COUNTIF('Respuestas '!$D$3:$D$330,$B4)) -> 0.53846154 | H4: =(COUNTIFS('Respuestas '!$D$3:$D$330,$B4,'Respuestas '!$Q$3:$Q$330,"si")/COUNTIF('Respuestas '!$D$3:$D$330,$B4)) -> 0.38461538 | I4: =SUMIF('Respuestas '!$D$3:$D$330,$B4,'Respuestas '!$R$3:$R$330)/(COUNTIF('Respuestas '!$D$3:$D$330,$B4)*5) -> 0.43076923 | J4: =SUMIF('Respuestas '!$D$3:$D$330,$B4,'Respuestas '!$S$3:$S$330)/(COUNTIF('Respuestas '!$D$3:$D$330,$B4)*5) -> 0.76923077 | AA4: 2 | AB4: =AVERAGEIF($A$3:$A$22,$AA4,C$3:C$22) -> 0.59459707 | AC4: =AVERAGEIF($A$3:$A$22,$AA4,D$3:D$22) -> 0.73328755 | AD4: =AVERAGEIF($A$3:$A$22,$AA4,E$3:E$22) -> 0.75091575 | AE4: =AVERAGEIF($A$3:$A$22,$AA4,F$3:F$22) -> 0.95352564 | AF4: =AVERAGEIF($A$3:$A$22,$AA4,G$3:G$22) -> 0.17742674 | AG4: =AVERAGEIF($A$3:$A$22,$AA4,H$3:H$22) -> 0.3834707 | AH4: =AVERAGEIF($A$3:$A$22,$AA4,I$3:I$22) -> 0.39084249 | AI4: =AVERAGEIF($A$3:$A$22,$AA4,J$3:J$22) -> 0.65572344
A5: 1 | B5: Cota | C5: =SUMIF('Respuestas '!$D$3:$D$330,B5,'Respuestas '!$G$3:$G$330)/(COUNTIF('Respuestas '!$D$3:$D$330,B5)*5) -> 0.65 | D5: =SUMIF('Respuestas '!$D$3:$D$330,$B5,'Respuestas '!$J$3:$J$330)/(COUNTIF('Respuestas '!$D$3:$D$330,$B5)*5) -> 0.6 | E5: =SUMIF('Respuestas '!$D$3:$D$330,$B5,'Respuestas '!$L$3:$L$330)/(COUNTIF('Respuestas '!$D$3:$D$330,$B5)*5) -> 0.8 | F5: =(COUNTIFS('Respuestas '!$D$3:$D$330,$B5,'Respuestas '!$O$3:$O$330,"si")/COUNTIF('Respuestas '!$D$3:$D$330,$B5)) -> 1 | G5: =(COUNTIFS('Respuestas '!$D$3:$D$330,$B5,'Respuestas '!$P$3:$P$330,"si")/COUNTIF('Respuestas '!$D$3:$D$330,$B5)) -> 0 | H5: =(COUNTIFS('Respuestas '!$D$3:$D$330,$B5,'Respuestas '!$Q$3:$Q$330,"si")/COUNTIF('Respuestas '!$D$3:$D$330,$B5)) -> 0.125 | I5: =SUMIF('Respuestas '!$D$3:$D$330,$B5,'Respuestas '!$R$3:$R$330)/(COUNTIF('Respuestas '!$D$3:$D$330,$B5)*5) -> 0.3 | J5: =SUMIF('Respuestas '!$D$3:$D$330,$B5,'Respuestas '!$S$3:$S$330)/(COUNTIF('Respuestas '!$D$3:$D$330,$B5)*5) -> 0.6 | AA5: 3 | AB5: =AVERAGEIF($A$3:$A$22,$AA5,C$3:C$22) -> 0.55844156 | AC5: =AVERAGEIF($A$3:$A$22,$AA5,D$3:D$22) -> 0.68831169 | AD5: =AVERAGEIF($A$3:$A$22,$AA5,E$3:E$22) -> 0.69935065 | AE5: =AVERAGEIF($A$3:$A$22,$AA5,F$3:F$22) -> 0.94155844 | AF5: =AVERAGEIF($A$3:$A$22,$AA5,G$3:G$22) -> 0.21753247 | AG5: =AVERAGEIF($A$3:$A$22,$AA5,H$3:H$22) -> 0.27272727 | AH5: =AVERAGEIF($A$3:$A$22,$AA5,I$3:I$22) -> 0.43376623 | AI5: =AVERAGEIF($A$3:$A$22,$AA5,J$3:J$22) -> 0.64350649
A6: 2 | B6: Gachancipá | C6: =SUMIF('Respuestas '!$D$3:$D$330,B6,'Respuestas '!$G$3:$G$330)/(COUNTIF('Respuestas '!$D$3:$D$330,B6)*5) -> 0.58571429 | D6: =SUMIF('Respuestas '!$D$3:$D$330,$B6,'Respuestas '!$J$3:$J$330)/(COUNTIF('Respuestas '!$D$3:$D$330,$B6)*5) -> 0.71428571 | E6: =SUMIF('Respuestas '!$D$3:$D$330,$B6,'Respuestas '!$L$3:$L$330)/(COUNTIF('Respuestas '!$D$3:$D$330,$B6)*5) -> 0.71428571 | F6: =(COUNTIFS('Respuestas '!$D$3:$D$330,$B6,'Respuestas '!$O$3:$O$330,"si")/COUNTIF('Respuestas '!$D$3:$D$330,$B6)) -> 1 | G6: =(COUNTIFS('Respuestas '!$D$3:$D$330,$B6,'Respuestas '!$P$3:$P$330,"si")/COUNTIF('Respuestas '!$D$3:$D$330,$B6)) -> 0.14285714 | H6: =(COUNTIFS('Respuestas '!$D$3:$D$330,$B6,'Respuestas '!$Q$3:$Q$330,"si")/COUNTIF('Respuestas '!$D$3:$D$330,$B6)) -> 0.35714286 | I6: =SUMIF('Respuestas '!$D$3:$D$330,$B6,'Respuestas '!$R$3:$R$330)/(COUNTIF('Respuestas '!$D$3:$D$330,$B6)*5) -> 0.35714286 | J6: =SUMIF('Respuestas '!$D$3:$D$330,$B6,'Respuestas '!$S$3:$S$330)/(COUNTIF('Respuestas '!$D$3:$D$330,$B6)*5) -> 0.71428571 | AA6: 4 | AB6: =AVERAGEIF($A$3:$A$22,$AA6,C$3:C$22) -> 0.55945398 | AC6: =AVERAGEIF($A$3:$A$22,$AA6,D$3:D$22) -> 0.7017633 | AD6: =AVERAGEIF($A$3:$A$22,$AA6,E$3:E$22) -> 0.76838939 | AE6: =AVERAGEIF($A$3:$A$22,$AA6,F$3:F$22) -> 0.90815508 | AF6: =AVERAGEIF($A$3:$A$22,$AA6,G$3:G$22) -> 0.27483816 | AG6: =AVERAGEIF($A$3:$A$22,$AA6,H$3:H$22) -> 0.37411343 | AH6: =AVERAGEIF($A$3:$A$22,$AA6,I$3:I$22) -> 0.41204686 | AI6: =AVERAGEIF($A$3:$A$22,$AA6,J$3:J$22) -> 0.61811779
A7: 2 | B7: Briceño | C7: =SUMIF('Respuestas '!$D$3:$D$330,B7,'Respuestas '!$G$3:$G$330)/(COUNTIF('Respuestas '!$D$3:$D$330,B7)*5) -> 0.72307692 | D7: =SUMIF('Respuestas '!$D$3:$D$330,$B7,'Respuestas '!$J$3:$J$330)/(COUNTIF('Respuestas '!$D$3:$D$330,$B7)*5) -> 0.72307692 | E7: =SUMIF('Respuestas '!$D$3:$D$330,$B7,'Respuestas '!$L$3:$L$330)/(COUNTIF('Respuestas '!$D$3:$D$330,$B7)*5) -> 0.73846154 | F7: =(COUNTIFS('Respuestas '!$D$3:$D$330,$B7,'Respuestas '!$O$3:$O$330,"si")/COUNTIF('Respuestas '!$D$3:$D$330,$B7)) -> 0.92307692 | G7: =(COUNTIFS('Respuestas '!$D$3:$D$330,$B7,'Respuestas '!$P$3:$P$330,"si")/COUNTIF('Respuestas '!$D$3:$D$330,$B7)) -> 0.076923077 | H7: =(COUNTIFS('Respuestas '!$D$3:$D$330,$B7,'Respuestas '!$Q$3:$Q$330,"si")/COUNTIF('Respuestas '!$D$3:$D$330,$B7)) -> 0.23076923 | I7: =SUMIF('Respuestas '!$D$3:$D$330,$B7,'Respuestas '!$R$3:$R$330)/(COUNTIF('Respuestas '!$D$3:$D$330,$B7)*5) -> 0.41538462 | J7: =SUMIF('Respuestas '!$D$3:$D$330,$B7,'Respuestas '!$S$3:$S$330)/(COUNTIF('Respuestas '!$D$3:$D$330,$B7)*5) -> 0.61538462 | AA7: 5 | AB7: =AVERAGEIF($A$3:$A$22,$AA7,C$3:C$22) -> 0.50959008 | AC7: =AVERAGEIF($A$3:$A$22,$AA7,D$3:D$22) -> 0.66942055 | AD7: =AVERAGEIF($A$3:$A$22,$AA7,E$3:E$22) -> 0.75184717 | AE7: =AVERAGEIF($A$3:$A$22,$AA7,F$3:F$22) -> 0.89802632 | AF7: =AVERAGEIF($A$3:$A$22,$AA7,G$3:G$22) -> 0.37626518 | AG7: =AVERAGEIF($A$3:$A$22,$AA7,H$3:H$22) -> 0.38398279 | AH7: =AVERAGEIF($A$3:$A$22,$AA7,I$3:I$22) -> 0.39181427 | AI7: =AVERAGEIF($A$3:$A$22,$AA7,J$3:J$22) -> 0.65881832
A8: 2 | B8: Tocancipá | C8: =SUMIF('Respuestas '!$D$3:$D$330,B8,'Respuestas '!$G$3:$G$330)/(COUNTIF('Respuestas '!$D$3:$D$330,B8)*5) -> 0.475 | D8: =SUMIF('Respuestas '!$D$3:$D$330,$B8,'Respuestas '!$J$3:$J$330)/(COUNTIF('Respuestas '!$D$3:$D$330,$B8)*5) -> 0.7625 | E8: =SUMIF('Respuestas '!$D$3:$D$330,$B8,'Respuestas '!$L$3:$L$330)/(COUNTIF('Respuestas '!$D$3:$D$330,$B8)*5) -> 0.8 | F8: =(COUNTIFS('Respuestas '!$D$3:$D$330,$B8,'Respuestas '!$O$3:$O$330,"si")/COUNTIF('Respuestas '!$D$3:$D$330,$B8)) -> 0.9375 | G8: =(COUNTIFS('Respuestas '!$D$3:$D$330,$B8,'Respuestas '!$P$3:$P$330,"si")/COUNTIF('Respuestas '!$D$3:$D$330,$B8)) -> 0.3125 | H8: =(COUNTIFS('Respuestas '!$D$3:$D$330,$B8,'Respuestas '!$Q$3:$Q$330,"si")/COUNTIF('Respuestas '!$D$3:$D$330,$B8)) -> 0.5625 | I8: =SUMIF('Respuestas '!$D$3:$D$330,$B8,'Respuestas '!$R$3:$R$330)/(COUNTIF('Respuestas '!$D$3:$D$330,$B8)*5) -> 0.4 | J8: =SUMIF('Respuestas '!$D$3:$D$330,$B8,'Respuestas '!$S$3:$S$330)/(COUNTIF('Respuestas '!$D$3:$D$330,$B8)*5) -> 0.6375 | AA8: 6 | AB8: =AVERAGEIF($A$3:$A$22,$AA8,C$3:C$22) -> 0.54045285 | AC8: =AVERAGEIF($A$3:$A$22,$AA8,D$3:D$22) -> 0.63664799 | AD8: =AVERAGEIF($A$3:$A$22,$AA8,E$3:E$22) -> 0.7736578 | AE8: =AVERAGEIF($A$3:$A$22,$AA8,F$3:F$22) -> 0.91269841 | AF8: =AVERAGEIF($A$3:$A$22,$AA8,G$3:G$22) -> 0.35889356 | AG8: =AVERAGEIF($A$3:$A$22,$AA8,H$3:H$22) -> 0.32767274 | AH8: =AVERAGEIF($A$3:$A$22,$AA8,I$3:I$22) -> 0.41442577 | AI8: =AVERAGEIF($A$3:$A$22,$AA8,J$3:J$22) -> 0.694993
A9: 3 | B9: Cogua | C9: =SUMIF('Respuestas '!$D$3:$D$330,B9,'Respuestas '!$G$3:$G$330)/(COUNTIF('Respuestas '!$D$3:$D$330,B9)*5) -> 0.57142857 | D9: =SUMIF('Respuestas '!$D$3:$D$330,$B9,'Respuestas '!$J$3:$J$330)/(COUNTIF('Respuestas '!$D$3:$D$330,$B9)*5) -> 0.58571429 | E9: =SUMIF('Respuestas '!$D$3:$D$330,$B9,'Respuestas '!$L$3:$L$330)/(COUNTIF('Respuestas '!$D$3:$D$330,$B9)*5) -> 0.67142857 | F9: =(COUNTIFS('Respuestas '!$D$3:$D$330,$B9,'Respuestas '!$O$3:$O$330,"si")/COUNTIF('Respuestas '!$D$3:$D$330,$B9)) -> 0.92857143 | G9: =(COUNTIFS('Respuestas '!$D$3:$D$330,$B9,'Respuestas '!$P$3:$P$330,"si")/COUNTIF('Respuestas '!$D$3:$D$330,$B9)) -> 0.071428571 | H9: =(COUNTIFS('Respuestas '!$D$3:$D$330,$B9,'Respuestas '!$Q$3:$Q$330,"si")/COUNTIF('Respuestas '!$D$3:$D$330,$B9)) -> 0 | I9: =SUMIF('Respuestas '!$D$3:$D$330,$B9,'Respuestas '!$R$3:$R$330)/(COUNTIF('Respuestas '!$D$3:$D$330,$B9)*5) -> 0.38571429 | J9: =SUMIF('Respuestas '!$D$3:$D$330,$B9,'Respuestas '!$S$3:$S$330)/(COUNTIF('Respuestas '!$D$3:$D$330,$B9)*5) -> 0.71428571
A10: 3 | B10: Zipaquirá | C10: =SUMIF('Respuestas '!$D$3:$D$330,B10,'Respuestas '!$G$3:$G$330)/(COUNTIF('Respuestas '!$D$3:$D$330,B10)*5) -> 0.54545455 | D10: =SUMIF('Respuestas '!$D$3:$D$330,$B10,'Respuestas '!$J$3:$J$330)/(COUNTIF('Respuestas '!$D$3:$D$330,$B10)*5) -> 0.79090909 | E10: =SUMIF('Respuestas '!$D$3:$D$330,$B10,'Respuestas '!$L$3:$L$330)/(COUNTIF('Respuestas '!$D$3:$D$330,$B10)*5) -> 0.72727273 | F10: =(COUNTIFS('Respuestas '!$D$3:$D$330,$B10,'Respuestas '!$O$3:$O$330,"si")/COUNTIF('Respuestas '!$D$3:$D$330,$B10)) -> 0.95454545 | G10: =(COUNTIFS('Respuestas '!$D$3:$D$330,$B10,'Respuestas '!$P$3:$P$330,"si")/COUNTIF('Respuestas '!$D$3:$D$330,$B10)) -> 0.36363636 | H10: =(COUNTIFS('Respuestas '!$D$3:$D$330,$B10,'Respuestas '!$Q$3:$Q$330,"si")/COUNTIF('Respuestas '!$D$3:$D$330,$B10)) -> 0.54545455 | I10: =SUMIF('Respuestas '!$D$3:$D$330,$B10,'Respuestas '!$R$3:$R$330)/(COUNTIF('Respuestas '!$D$3:$D$330,$B10)*5) -> 0.48181818 | J10: =SUMIF('Respuestas '!$D$3:$D$330,$B10,'Respuestas '!$S$3:$S$330)/(COUNTIF('Respuestas '!$D$3:$D$330,$B10)*5) -> 0.57272727
A11: 4 | B11: Sesquilé | C11: =SUMIF('Respuestas '!$D$3:$D$330,B11,'Respuestas '!$G$3:$G$330)/(COUNTIF('Respuestas '!$D$3:$D$330,B11)*5) -> 0.52 | D11: =SUMIF('Respuestas '!$D$3:$D$330,$B11,'Respuestas '!$J$3:$J$330)/(COUNTIF('Respuestas '!$D$3:$D$330,$B11)*5) -> 0.82 | E11: =SUMIF('Respuestas '!$D$3:$D$330,$B11,'Respuestas '!$L$3:$L$330)/(COUNTIF('Respuestas '!$D$3:$D$330,$B11)*5) -> 0.75 | F11: =(COUNTIFS('Respuestas '!$D$3:$D$330,$B11,'Respuestas '!$O$3:$O$330,"si")/COUNTIF('Respuestas '!$D$3:$D$330,$B11)) -> 0.9 | G11: =(COUNTIFS('Respuestas '!$D$3:$D$330,$B11,'Respuestas '!$P$3:$P$330,"si")/COUNTIF('Respuestas '!$D$3:$D$330,$B11)) -> 0 | H11: =(COUNTIFS('Respuestas '!$D$3:$D$330,$B11,'Respuestas '!$Q$3:$Q$330,"si")/COUNTIF('Respuestas '!$D$3:$D$330,$B11)) -> 0.3 | I11: =SUMIF('Respuestas '!$D$3:$D$330,$B11,'Respuestas '!$R$3:$R$330)/(COUNTIF('Respuestas '!$D$3:$D$330,$B11)*5) -> 0.37 | J11: =SUMIF('Respuestas '!$D$3:$D$330,$B11,'Respuestas '!$S$3:$S$330)/(COUNTIF('Respuestas '!$D$3:$D$330,$B11)*5) -> 0.73 | AB11: Expextativa | AC11: Realidad | AD11: Satisfacción | AI11: =3/10 -> 0.3
A12: 4 | B12: Suesca | C12: =SUMIF('Respuestas '!$D$3:$D$330,B12,'Respuestas '!$G$3:$G$330)/(COUNTIF('Respuestas '!$D$3:$D$330,B12)*5) -> 0.58947368 | D12: =SUMIF('Respuestas '!$D$3:$D$330,$B12,'Respuestas '!$J$3:$J$330)/(COUNTIF('Respuestas '!$D$3:$D$330,$B12)*5) -> 0.67368421 | E12: =SUMIF('Respuestas '!$D$3:$D$330,$B12,'Respuestas '!$L$3:$L$330)/(COUNTIF('Respuestas '!$D$3:$D$330,$B12)*5) -> 0.83157895 | F12: =(COUNTIFS('Respuestas '!$D$3:$D$330,$B12,'Respuestas '!$O$3:$O$330,"si")/COUNTIF('Respuestas '!$D$3:$D$330,$B12)) -> 1 | G12: =(COUNTIFS('Respuestas '!$D$3:$D$330,$B12,'Respuestas '!$P$3:$P$330,"si")/COUNTIF('Respuestas '!$D$3:$D$330,$B12)) -> 0.47368421 | H12: =(COUNTIFS('Respuestas '!$D$3:$D$330,$B12,'Respuestas '!$Q$3:$Q$330,"si")/COUNTIF('Respuestas '!$D$3:$D$330,$B12)) -> 0.42105263 | I12: =SUMIF('Respuestas '!$D$3:$D$330,$B12,'Respuestas '!$R$3:$R$330)/(COUNTIF('Respuestas '!$D$3:$D$330,$B12)*5) -> 0.52631579 | J12: =SUMIF('Respuestas '!$D$3:$D$330,$B12,'Respuestas '!$S$3:$S$330)/(COUNTIF('Respuestas '!$D$3:$D$330,$B12)*5) -> 0.65263158 | AA12: 1 | AB12: =AVERAGE(AC3,AG3,AH3) -> 0.46115644 | AC12: =AVERAGE(AB3,AD3,AE3,AI3) -> 0.74966006 | AD12: =AC12-AB12 -> 0.28850363
A13: 4 | B13: Nemocón | C13: =SUMIF('Respuestas '!$D$3:$D$330,B13,'Respuestas '!$G$3:$G$330)/(COUNTIF('Respuestas '!$D$3:$D$330,B13)*5) -> 0.56470588 | D13: =SUMIF('Respuestas '!$D$3:$D$330,$B13,'Respuestas '!$J$3:$J$330)/(COUNTIF('Respuestas '!$D$3:$D$330,$B13)*5) -> 0.65882353 | E13: =SUMIF('Respuestas '!$D$3:$D$330,$B13,'Respuestas '!$L$3:$L$330)/(COUNTIF('Respuestas '!$D$3:$D$330,$B13)*5) -> 0.76470588 | F13: =(COUNTIFS('Respuestas '!$D$3:$D$330,$B13,'Respuestas '!$O$3:$O$330,"si")/COUNTIF('Respuestas '!$D$3:$D$330,$B13)) -> 0.82352941 | G13: =(COUNTIFS('Respuestas '!$D$3:$D$330,$B13,'Respuestas '!$P$3:$P$330,"si")/COUNTIF('Respuestas '!$D$3:$D$330,$B13)) -> 0.35294118 | H13: =(COUNTIFS('Respuestas '!$D$3:$D$330,$B13,'Respuestas '!$Q$3:$Q$330,"si")/COUNTIF('Respuestas '!$D$3:$D$330,$B13)) -> 0.41176471 | I13: =SUMIF('Respuestas '!$D$3:$D$330,$B13,'Respuestas '!$R$3:$R$330)/(COUNTIF('Respuestas '!$D$3:$D$330,$B13)*5) -> 0.38823529 | J13: =SUMIF('Respuestas '!$D$3:$D$330,$B13,'Respuestas '!$S$3:$S$330)/(COUNTIF('Respuestas '!$D$3:$D$330,$B13)*5) -> 0.43529412 | AA13: 2 | AB13: =AVERAGE(AC4,AG4,AH4) -> 0.50253358 | AC13: =AVERAGE(AB4,AD4,AE4,AI4) -> 0.73869048 | AD13: =AC13-AB13 -> 0.2361569
A14: 4 | B14: Chocontá | C14: =SUMIF('Respuestas '!$D$3:$D$330,B14,'Respuestas '!$G$3:$G$330)/(COUNTIF('Respuestas '!$D$3:$D$330,B14)*5) -> 0.56363636 | D14: =SUMIF('Respuestas '!$D$3:$D$330,$B14,'Respuestas '!$J$3:$J$330)/(COUNTIF('Respuestas '!$D$3:$D$330,$B14)*5) -> 0.65454545 | E14: =SUMIF('Respuestas '!$D$3:$D$330,$B14,'Respuestas '!$L$3:$L$330)/(COUNTIF('Respuestas '!$D$3:$D$330,$B14)*5) -> 0.72727273 | F14: =(COUNTIFS('Respuestas '!$D$3:$D$330,$B14,'Respuestas '!$O$3:$O$330,"si")/COUNTIF('Respuestas '!$D$3:$D$330,$B14)) -> 0.90909091 | G14: =(COUNTIFS('Respuestas '!$D$3:$D$330,$B14,'Respuestas '!$P$3:$P$330,"si")/COUNTIF('Respuestas '!$D$3:$D$330,$B14)) -> 0.27272727 | H14: =(COUNTIFS('Respuestas '!$D$3:$D$330,$B14,'Respuestas '!$Q$3:$Q$330,"si")/COUNTIF('Respuestas '!$D$3:$D$330,$B14)) -> 0.36363636 | I14: =SUMIF('Respuestas '!$D$3:$D$330,$B14,'Respuestas '!$R$3:$R$330)/(COUNTIF('Respuestas '!$D$3:$D$330,$B14)*5) -> 0.36363636 | J14: =SUMIF('Respuestas '!$D$3:$D$330,$B14,'Respuestas '!$S$3:$S$330)/(COUNTIF('Respuestas '!$D$3:$D$330,$B14)*5) -> 0.65454545 | AA14: 3 | AB14: =AVERAGE(AC5,AG5,AH5) -> 0.46493506 | AC14: =AVERAGE(AB5,AD5,AE5,AI5) -> 0.71071429 | AD14: =AC14-AB14 -> 0.24577922
A15: 5 | B15: Subachoque | C15: =SUMIF('Respuestas '!$D$3:$D$330,B15,'Respuestas '!$G$3:$G$330)/(COUNTIF('Respuestas '!$D$3:$D$330,B15)*5) -> 0.57894737 | D15: =SUMIF('Respuestas '!$D$3:$D$330,$B15,'Respuestas '!$J$3:$J$330)/(COUNTIF('Respuestas '!$D$3:$D$330,$B15)*5) -> 0.72631579 | E15: =SUMIF('Respuestas '!$D$3:$D$330,$B15,'Respuestas '!$L$3:$L$330)/(COUNTIF('Respuestas '!$D$3:$D$330,$B15)*5) -> 0.70526316 | F15: =(COUNTIFS('Respuestas '!$D$3:$D$330,$B15,'Respuestas '!$O$3:$O$330,"si")/COUNTIF('Respuestas '!$D$3:$D$330,$B15)) -> 0.94736842 | G15: =(COUNTIFS('Respuestas '!$D$3:$D$330,$B15,'Respuestas '!$P$3:$P$330,"si")/COUNTIF('Respuestas '!$D$3:$D$330,$B15)) -> 0.52631579 | H15: =(COUNTIFS('Respuestas '!$D$3:$D$330,$B15,'Respuestas '!$Q$3:$Q$330,"si")/COUNTIF('Respuestas '!$D$3:$D$330,$B15)) -> 0.21052632 | I15: =SUMIF('Respuestas '!$D$3:$D$330,$B15,'Respuestas '!$R$3:$R$330)/(COUNTIF('Respuestas '!$D$3:$D$330,$B15)*5) -> 0.37894737 | J15: =SUMIF('Respuestas '!$D$3:$D$330,$B15,'Respuestas '!$S$3:$S$330)/(COUNTIF('Respuestas '!$D$3:$D$330,$B15)*5) -> 0.65263158 | AA15: 4 | AB15: =AVERAGE(AC6,AG6,AH6) -> 0.49597453 | AC15: =AVERAGE(AB6,AD6,AE6,AI6) -> 0.71352906 | AD15: =AC15-AB15 -> 0.21755453
A16: 5 | B16: Tenjo | C16: =SUMIF('Respuestas '!$D$3:$D$330,B16,'Respuestas '!$G$3:$G$330)/(COUNTIF('Respuestas '!$D$3:$D$330,B16)*5) -> 0.44210526 | D16: =SUMIF('Respuestas '!$D$3:$D$330,$B16,'Respuestas '!$J$3:$J$330)/(COUNTIF('Respuestas '!$D$3:$D$330,$B16)*5) -> 0.51578947 | E16: =SUMIF('Respuestas '!$D$3:$D$330,$B16,'Respuestas '!$L$3:$L$330)/(COUNTIF('Respuestas '!$D$3:$D$330,$B16)*5) -> 0.75789474 | F16: =(COUNTIFS('Respuestas '!$D$3:$D$330,$B16,'Respuestas '!$O$3:$O$330,"si")/COUNTIF('Respuestas '!$D$3:$D$330,$B16)) -> 0.89473684 | G16: =(COUNTIFS('Respuestas '!$D$3:$D$330,$B16,'Respuestas '!$P$3:$P$330,"si")/COUNTIF('Respuestas '!$D$3:$D$330,$B16)) -> 0.42105263 | H16: =(COUNTIFS('Respuestas '!$D$3:$D$330,$B16,'Respuestas '!$Q$3:$Q$330,"si")/COUNTIF('Respuestas '!$D$3:$D$330,$B16)) -> 0.31578947 | I16: =SUMIF('Respuestas '!$D$3:$D$330,$B16,'Respuestas '!$R$3:$R$330)/(COUNTIF('Respuestas '!$D$3:$D$330,$B16)*5) -> 0.43157895 | J16: =SUMIF('Respuestas '!$D$3:$D$330,$B16,'Respuestas '!$S$3:$S$330)/(COUNTIF('Respuestas '!$D$3:$D$330,$B16)*5) -> 0.61052632 | AA16: 5 | AB16: =AVERAGE(AC7,AG7,AH7) -> 0.4817392 | AC16: =AVERAGE(AB7,AD7,AE7,AI7) -> 0.70457047 | AD16: =AC16-AB16 -> 0.22283127
A17: 5 | B17: El Rosal | C17: =SUMIF('Respuestas '!$D$3:$D$330,B17,'Respuestas '!$G$3:$G$330)/(COUNTIF('Respuestas '!$D$3:$D$330,B17)*5) -> 0.525 | D17: =SUMIF('Respuestas '!$D$3:$D$330,$B17,'Respuestas '!$J$3:$J$330)/(COUNTIF('Respuestas '!$D$3:$D$330,$B17)*5) -> 0.7125 | E17: =SUMIF('Respuestas '!$D$3:$D$330,$B17,'Respuestas '!$L$3:$L$330)/(COUNTIF('Respuestas '!$D$3:$D$330,$B17)*5) -> 0.775 | F17: =(COUNTIFS('Respuestas '!$D$3:$D$330,$B17,'Respuestas '!$O$3:$O$330,"si")/COUNTIF('Respuestas '!$D$3:$D$330,$B17)) -> 0.75 | G17: =(COUNTIFS('Respuestas '!$D$3:$D$330,$B17,'Respuestas '!$P$3:$P$330,"si")/COUNTIF('Respuestas '!$D$3:$D$330,$B17)) -> 0.25 | H17: =(COUNTIFS('Respuestas '!$D$3:$D$330,$B17,'Respuestas '!$Q$3:$Q$330,"si")/COUNTIF('Respuestas '!$D$3:$D$330,$B17)) -> 0.625 | I17: =SUMIF('Respuestas '!$D$3:$D$330,$B17,'Respuestas '!$R$3:$R$330)/(COUNTIF('Respuestas '!$D$3:$D$330,$B17)*5) -> 0.3875 | J17: =SUMIF('Respuestas '!$D$3:$D$330,$B17,'Respuestas '!$S$3:$S$330)/(COUNTIF('Respuestas '!$D$3:$D$330,$B17)*5) -> 0.5875 | AA17: 6 | AB17: =AVERAGE(AC8,AG8,AH8) -> 0.45958217 | AC17: =AVERAGE(AB8,AD8,AE8,AI8) -> 0.73045051 | AD17: =AC17-AB17 -> 0.27086835
A18: 5 | B18: Tabio | C18: =SUMIF('Respuestas '!$D$3:$D$330,B18,'Respuestas '!$G$3:$G$330)/(COUNTIF('Respuestas '!$D$3:$D$330,B18)*5) -> 0.49230769 | D18: =SUMIF('Respuestas '!$D$3:$D$330,$B18,'Respuestas '!$J$3:$J$330)/(COUNTIF('Respuestas '!$D$3:$D$330,$B18)*5) -> 0.72307692 | E18: =SUMIF('Respuestas '!$D$3:$D$330,$B18,'Respuestas '!$L$3:$L$330)/(COUNTIF('Respuestas '!$D$3:$D$330,$B18)*5) -> 0.76923077 | F18: =(COUNTIFS('Respuestas '!$D$3:$D$330,$B18,'Respuestas '!$O$3:$O$330,"si")/COUNTIF('Respuestas '!$D$3:$D$330,$B18)) -> 1 | G18: =(COUNTIFS('Respuestas '!$D$3:$D$330,$B18,'Respuestas '!$P$3:$P$330,"si")/COUNTIF('Respuestas '!$D$3:$D$330,$B18)) -> 0.30769231 | H18: =(COUNTIFS('Respuestas '!$D$3:$D$330,$B18,'Respuestas '!$Q$3:$Q$330,"si")/COUNTIF('Respuestas '!$D$3:$D$330,$B18)) -> 0.38461538 | I18: =SUMIF('Respuestas '!$D$3:$D$330,$B18,'Respuestas '!$R$3:$R$330)/(COUNTIF('Respuestas '!$D$3:$D$330,$B18)*5) -> 0.36923077 | J18: =SUMIF('Respuestas '!$D$3:$D$330,$B18,'Respuestas '!$S$3:$S$330)/(COUNTIF('Respuestas '!$D$3:$D$330,$B18)*5) -> 0.78461538
A19: 6 | B19: Madrid | C19: =SUMIF('Respuestas '!$D$3:$D$330,B19,'Respuestas '!$G$3:$G$330)/(COUNTIF('Respuestas '!$D$3:$D$330,B19)*5) -> 0.64285714 | D19: =SUMIF('Respuestas '!$D$3:$D$330,$B19,'Respuestas '!$J$3:$J$330)/(COUNTIF('Respuestas '!$D$3:$D$330,$B19)*5) -> 0.67142857 | E19: =SUMIF('Respuestas '!$D$3:$D$330,$B19,'Respuestas '!$L$3:$L$330)/(COUNTIF('Respuestas '!$D$3:$D$330,$B19)*5) -> 0.77142857 | F19: =(COUNTIFS('Respuestas '!$D$3:$D$330,$B19,'Respuestas '!$O$3:$O$330,"si")/COUNTIF('Respuestas '!$D$3:$D$330,$B19)) -> 0.92857143 | G19: =(COUNTIFS('Respuestas '!$D$3:$D$330,$B19,'Respuestas '!$P$3:$P$330,"si")/COUNTIF('Respuestas '!$D$3:$D$330,$B19)) -> 0.35714286 | H19: =(COUNTIFS('Respuestas '!$D$3:$D$330,$B19,'Respuestas '!$Q$3:$Q$330,"si")/COUNTIF('Respuestas '!$D$3:$D$330,$B19)) -> 0.21428571 | I19: =SUMIF('Respuestas '!$D$3:$D$330,$B19,'Respuestas '!$R$3:$R$330)/(COUNTIF('Respuestas '!$D$3:$D$330,$B19)*5) -> 0.47142857 | J19: =SUMIF('Respuestas '!$D$3:$D$330,$B19,'Respuestas '!$S$3:$S$330)/(COUNTIF('Respuestas '!$D$3:$D$330,$B19)*5) -> 0.61428571
A20: 6 | B20: Mosquera | C20: =SUMIF('Respuestas '!$D$3:$D$330,B20,'Respuestas '!$G$3:$G$330)/(COUNTIF('Respuestas '!$D$3:$D$330,B20)*5) -> 0.54117647 | D20: =SUMIF('Respuestas '!$D$3:$D$330,$B20,'Respuestas '!$J$3:$J$330)/(COUNTIF('Respuestas '!$D$3:$D$330,$B20)*5) -> 0.55294118 | E20: =SUMIF('Respuestas '!$D$3:$D$330,$B20,'Respuestas '!$L$3:$L$330)/(COUNTIF('Respuestas '!$D$3:$D$330,$B20)*5) -> 0.71764706 | F20: =(COUNTIFS('Respuestas '!$D$3:$D$330,$B20,'Respuestas '!$O$3:$O$330,"si")/COUNTIF('Respuestas '!$D$3:$D$330,$B20)) -> 1 | G20: =(COUNTIFS('Respuestas '!$D$3:$D$330,$B20,'Respuestas '!$P$3:$P$330,"si")/COUNTIF('Respuestas '!$D$3:$D$330,$B20)) -> 0.41176471 | H20: =(COUNTIFS('Respuestas '!$D$3:$D$330,$B20,'Respuestas '!$Q$3:$Q$330,"si")/COUNTIF('Respuestas '!$D$3:$D$330,$B20)) -> 0.23529412 | I20: =SUMIF('Respuestas '!$D$3:$D$330,$B20,'Respuestas '!$R$3:$R$330)/(COUNTIF('Respuestas '!$D$3:$D$330,$B20)*5) -> 0.35294118 | J20: =SUMIF('Respuestas '!$D$3:$D$330,$B20,'Respuestas '!$S$3:$S$330)/(COUNTIF('Respuestas '!$D$3:$D$330,$B20)*5) -> 0.68235294
A21: 6 | B21: Facatativá | C21: =SUMIF('Respuestas '!$D$3:$D$330,B21,'Respuestas '!$G$3:$G$330)/(COUNTIF('Respuestas '!$D$3:$D$330,B21)*5) -> 0.46666667 | D21: =SUMIF('Respuestas '!$D$3:$D$330,$B21,'Respuestas '!$J$3:$J$330)/(COUNTIF('Respuestas '!$D$3:$D$330,$B21)*5) -> 0.63333333 | E21: =SUMIF('Respuestas '!$D$3:$D$330,$B21,'Respuestas '!$L$3:$L$330)/(COUNTIF('Respuestas '!$D$3:$D$330,$B21)*5) -> 0.78333333 | F21: =(COUNTIFS('Respuestas '!$D$3:$D$330,$B21,'Respuestas '!$O$3:$O$330,"si")/COUNTIF('Respuestas '!$D$3:$D$330,$B21)) -> 1 | G21: =(COUNTIFS('Respuestas '!$D$3:$D$330,$B21,'Respuestas '!$P$3:$P$330,"si")/COUNTIF('Respuestas '!$D$3:$D$330,$B21)) -> 0.5 | H21: =(COUNTIFS('Respuestas '!$D$3:$D$330,$B21,'Respuestas '!$Q$3:$Q$330,"si")/COUNTIF('Respuestas '!$D$3:$D$330,$B21)) -> 0.41666667 | I21: =SUMIF('Respuestas '!$D$3:$D$330,$B21,'Respuestas '!$R$3:$R$330)/(COUNTIF('Respuestas '!$D$3:$D$330,$B21)*5) -> 0.5 | J21: =SUMIF('Respuestas '!$D$3:$D$330,$B21,'Respuestas '!$S$3:$S$330)/(COUNTIF('Respuestas '!$D$3:$D$330,$B21)*5) -> 0.71666667
A22: 6 | B22: Funza | C22: =SUMIF('Respuestas '!$D$3:$D$330,B22,'Respuestas '!$G$3:$G$330)/(COUNTIF('Respuestas '!$D$3:$D$330,B22)*5) -> 0.51111111 | D22: =SUMIF('Respuestas '!$D$3:$D$330,$B22,'Respuestas '!$J$3:$J$330)/(COUNTIF('Respuestas '!$D$3:$D$330,$B22)*5) -> 0.68888889 | E22: =SUMIF('Respuestas '!$D$3:$D$330,$B22,'Respuestas '!$L$3:$L$330)/(COUNTIF('Respuestas '!$D$3:$D$330,$B22)*5) -> 0.82222222 | F22: =(COUNTIFS('Respuestas '!$D$3:$D$330,$B22,'Respuestas '!$O$3:$O$330,"si")/COUNTIF('Respuestas '!$D$3:$D$330,$B22)) -> 0.72222222 | G22: =(COUNTIFS('Respuestas '!$D$3:$D$330,$B22,'Respuestas '!$P$3:$P$330,"si")/COUNTIF('Respuestas '!$D$3:$D$330,$B22)) -> 0.16666667 | H22: =(COUNTIFS('Respuestas '!$D$3:$D$330,$B22,'Respuestas '!$Q$3:$Q$330,"si")/COUNTIF('Respuestas '!$D$3:$D$330,$B22)) -> 0.44444444 | I22: =SUMIF('Respuestas '!$D$3:$D$330,$B22,'Respuestas '!$R$3:$R$330)/(COUNTIF('Respuestas '!$D$3:$D$330,$B22)*5) -> 0.33333333 | J22: =SUMIF('Respuestas '!$D$3:$D$330,$B22,'Respuestas '!$S$3:$S$330)/(COUNTIF('Respuestas '!$D$3:$D$330,$B22)*5) -> 0.76666667
B26: Segmento | C26: 1 | D26: 1 | E26: 1 | F26: 2 | G26: 2 | H26: 2 | I26: 3 | J26: 3 | K26: 4 | L26: 4 | M26: 4 | N26: 4 | O26: 5 | P26: 5 | Q26: 5 | R26: 5 | S26: 6 | T26: 6 | U26: 6 | V26: 6 | AB26: Segmento
B27: ¿Qué aspectos de la disposición de la tienda influyen en su decisión de compra? | C27: Cajicá | D27: Chía | E27: Cota | F27: Gachancipá | G27: Briceño | H27: Tocancipá | I27: Cogua | J27: Zipaquirá | K27: Sesquilé | L27: Suesca | M27: Nemocón | N27: Chocontá | O27: Subachoque | P27: Tenjo | Q27: El Rosal | R27: Tabio | S27: Madrid | T27: Mosquera | U27: Facatativá | V27: Funza | AB27: ¿Qué aspectos de la disposición de la tienda influyen en su decisión de compra? | AC27: 1 | AD27: 2 | AE27: 3 | AF27: 4 | AG27: 5 | AH27: 6
B28: Variedad de productos | C28: =COUNTIFS('Respuestas '!$H$3:$H$330,$B28,'Respuestas '!$D$3:$D$330,C$27)/COUNTIF('Respuestas '!$D$3:$D$330,C$27) -> 0.24242424 | D28: =COUNTIFS('Respuestas '!$H$3:$H$330,$B28,'Respuestas '!$D$3:$D$330,D$27)/COUNTIF('Respuestas '!$D$3:$D$330,D$27) -> 0 | E28: =COUNTIFS('Respuestas '!$H$3:$H$330,$B28,'Respuestas '!$D$3:$D$330,E$27)/COUNTIF('Respuestas '!$D$3:$D$330,E$27) -> 0 | F28: =COUNTIFS('Respuestas '!$H$3:$H$330,$B28,'Respuestas '!$D$3:$D$330,F$27)/COUNTIF('Respuestas '!$D$3:$D$330,F$27) -> 0.071428571 | G28: =COUNTIFS('Respuestas '!$H$3:$H$330,$B28,'Respuestas '!$D$3:$D$330,G$27)/COUNTIF('Respuestas '!$D$3:$D$330,G$27) -> 0 | H28: =COUNTIFS('Respuestas '!$H$3:$H$330,$B28,'Respuestas '!$D$3:$D$330,H$27)/COUNTIF('Respuestas '!$D$3:$D$330,H$27) -> 0.125 | I28: =COUNTIFS('Respuestas '!$H$3:$H$330,$B28,'Respuestas '!$D$3:$D$330,I$27)/COUNTIF('Respuestas '!$D$3:$D$330,I$27) -> 0.071428571 | J28: =COUNTIFS('Respuestas '!$H$3:$H$330,$B28,'Respuestas '!$D$3:$D$330,J$27)/COUNTIF('Respuestas '!$D$3:$D$330,J$27) -> 0.18181818 | ... V28: =COUNTIFS('Respuestas '!$H$3:$H$330,$B28,'Respuestas '!$D$3:$D$330,V$27)/COUNTIF('Respuestas '!$D$3:$D$330,V$27) -> 0.16666667 | AB28: Variedad de productos | AC28: =AVERAGEIF($C$26:$V$26,AC$27,$C28:$V28) -> 0.080808081 | AD28: =AVERAGEIF($C$26:$V$26,AD$27,$C28:$V28) -> 0.06547619 | AE28: =AVERAGEIF($C$26:$V$26,AE$27,$C28:$V28) -> 0.12662338 | AF28: =AVERAGEIF($C$26:$V$26,AF$27,$C28:$V28) -> 0.07559105 | AG28: =AVERAGEIF($C$26:$V$26,AG$27,$C28:$V28) -> 0.077935223 | AH28: =AVERAGEIF($C$26:$V$26,AH$27,$C28:$V28) -> 0.13690476
B29: Disponibilidad del producto | C29: =COUNTIFS('Respuestas '!$H$3:$H$330,$B29,'Respuestas '!$D$3:$D$330,C$27)/COUNTIF('Respuestas '!$D$3:$D$330,C$27) -> 0.12121212 | D29: =COUNTIFS('Respuestas '!$H$3:$H$330,$B29,'Respuestas '!$D$3:$D$330,D$27)/COUNTIF('Respuestas '!$D$3:$D$330,D$27) -> 0.23076923 | E29: =COUNTIFS('Respuestas '!$H$3:$H$330,$B29,'Respuestas '!$D$3:$D$330,E$27)/COUNTIF('Respuestas '!$D$3:$D$330,E$27) -> 0.375 | F29: =COUNTIFS('Respuestas '!$H$3:$H$330,$B29,'Respuestas '!$D$3:$D$330,F$27)/COUNTIF('Respuestas '!$D$3:$D$330,F$27) -> 0.071428571 | G29: =COUNTIFS('Respuestas '!$H$3:$H$330,$B29,'Respuestas '!$D$3:$D$330,G$27)/COUNTIF('Respuestas '!$D$3:$D$330,G$27) -> 0 | H29: =COUNTIFS('Respuestas '!$H$3:$H$330,$B29,'Respuestas '!$D$3:$D$330,H$27)/COUNTIF('Respuestas '!$D$3:$D$330,H$27) -> 0.1875 | I29: =COUNTIFS('Respuestas '!$H$3:$H$330,$B29,'Respuestas '!$D$3:$D$330,I$27)/COUNTIF('Respuestas '!$D$3:$D$330,I$27) -> 0.28571429 | J29: =COUNTIFS('Respuestas '!$H$3:$H$330,$B29,'Respuestas '!$D$3:$D$330,J$27)/COUNTIF('Respuestas '!$D$3:$D$330,J$27) -> 0.22727273 | ... V29: =COUNTIFS('Respuestas '!$H$3:$H$330,$B29,'Respuestas '!$D$3:$D$330,V$27)/COUNTIF('Respuestas '!$D$3:$D$330,V$27) -> 0.22222222 | AB29: Disponibilidad del producto | AC29: =AVERAGEIF($C$26:$V$26,AC$27,$C29:$V29) -> 0.24232712 | AD29: =AVERAGEIF($C$26:$V$26,AD$27,$C29:$V29) -> 0.086309524 | AE29: =AVERAGEIF($C$26:$V$26,AE$27,$C29:$V29) -> 0.25649351 | AF29: =AVERAGEIF($C$26:$V$26,AF$27,$C29:$V29) -> 0.13204334 | AG29: =AVERAGEIF($C$26:$V$26,AG$27,$C29:$V29) -> 0.12696103 | AH29: =AVERAGEIF($C$26:$V$26,AH$27,$C29:$V29) -> 0.16234827
B30: Ubicación | C30: =COUNTIFS('Respuestas '!$H$3:$H$330,$B30,'Respuestas '!$D$3:$D$330,C$27)/COUNTIF('Respuestas '!$D$3:$D$330,C$27) -> 0.15151515 | D30: =COUNTIFS('Respuestas '!$H$3:$H$330,$B30,'Respuestas '!$D$3:$D$330,D$27)/COUNTIF('Respuestas '!$D$3:$D$330,D$27) -> 0.23076923 | E30: =COUNTIFS('Respuestas '!$H$3:$H$330,$B30,'Respuestas '!$D$3:$D$330,E$27)/COUNTIF('Respuestas '!$D$3:$D$330,E$27) -> 0.125 | F30: =COUNTIFS('Respuestas '!$H$3:$H$330,$B30,'Respuestas '!$D$3:$D$330,F$27)/COUNTIF('Respuestas '!$D$3:$D$330,F$27) -> 0.21428571 | G30: =COUNTIFS('Respuestas '!$H$3:$H$330,$B30,'Respuestas '!$D$3:$D$330,G$27)/COUNTIF('Respuestas '!$D$3:$D$330,G$27) -> 0.23076923 | H30: =COUNTIFS('Respuestas '!$H$3:$H$330,$B30,'Respuestas '!$D$3:$D$330,H$27)/COUNTIF('Respuestas '!$D$3:$D$330,H$27) -> 0.0625 | I30: =COUNTIFS('Respuestas '!$H$3:$H$330,$B30,'Respuestas '!$D$3:$D$330,I$27)/COUNTIF('Respuestas '!$D$3:$D$330,I$27) -> 0.071428571 | J30: =COUNTIFS('Respuestas '!$H$3:$H$330,$B30,'Respuestas '!$D$3:$D$330,J$27)/COUNTIF('Respuestas '!$D$3:$D$330,J$27) -> 0.13636364 | ... V30: =COUNTIFS('Respuestas '!$H$3:$H$330,$B30,'Respuestas '!$D$3:$D$330,V$27)/COUNTIF('Respuestas '!$D$3:$D$330,V$27) -> 0.055555556 | AB30: Ubicación | AC30: =AVERAGEIF($C$26:$V$26,AC$27,$C30:$V30) -> 0.16909479 | AD30: =AVERAGEIF($C$26:$V$26,AD$27,$C30:$V30) -> 0.16918498 | AE30: =AVERAGEIF($C$26:$V$26,AE$27,$C30:$V30) -> 0.1038961 | AF30: =AVERAGEIF($C$26:$V$26,AF$27,$C30:$V30) -> 0.10566071 | AG30: =AVERAGEIF($C$26:$V$26,AG$27,$C30:$V30) -> 0.081414474 | AH30: =AVERAGEIF($C$26:$V$26,AH$27,$C30:$V30) -> 0.11455416
B31: Limpieza/orden | C31: =COUNTIFS('Respuestas '!$H$3:$H$330,$B31,'Respuestas '!$D$3:$D$330,C$27)/COUNTIF('Respuestas '!$D$3:$D$330,C$27) -> 0.12121212 | D31: =COUNTIFS('Respuestas '!$H$3:$H$330,$B31,'Respuestas '!$D$3:$D$330,D$27)/COUNTIF('Respuestas '!$D$3:$D$330,D$27) -> 0.076923077 | E31: =COUNTIFS('Respuestas '!$H$3:$H$330,$B31,'Respuestas '!$D$3:$D$330,E$27)/COUNTIF('Respuestas '!$D$3:$D$330,E$27) -> 0 | F31: =COUNTIFS('Respuestas '!$H$3:$H$330,$B31,'Respuestas '!$D$3:$D$330,F$27)/COUNTIF('Respuestas '!$D$3:$D$330,F$27) -> 0.14285714 | G31: =COUNTIFS('Respuestas '!$H$3:$H$330,$B31,'Respuestas '!$D$3:$D$330,G$27)/COUNTIF('Respuestas '!$D$3:$D$330,G$27) -> 0.076923077 | H31: =COUNTIFS('Respuestas '!$H$3:$H$330,$B31,'Respuestas '!$D$3:$D$330,H$27)/COUNTIF('Respuestas '!$D$3:$D$330,H$27) -> 0.0625 | I31: =COUNTIFS('Respuestas '!$H$3:$H$330,$B31,'Respuestas '!$D$3:$D$330,I$27)/COUNTIF('Respuestas '!$D$3:$D$330,I$27) -> 0.14285714 | J31: =COUNTIFS('Respuestas '!$H$3:$H$330,$B31,'Respuestas '!$D$3:$D$330,J$27)/COUNTIF('Respuestas '!$D$3:$D$330,J$27) -> 0.090909091 | ... V31: =COUNTIFS('Respuestas '!$H$3:$H$330,$B31,'Respuestas '!$D$3:$D$330,V$27)/COUNTIF('Respuestas '!$D$3:$D$330,V$27) -> 0 | AB31: Limpieza/orden | AC31: =AVERAGEIF($C$26:$V$26,AC$27,$C31:$V31) -> 0.066045066 | AD31: =AVERAGEIF($C$26:$V$26,AD$27,$C31:$V31) -> 0.094093407 | AE31: =AVERAGEIF($C$26:$V$26,AE$27,$C31:$V31) -> 0.11688312 | AF31: =AVERAGEIF($C$26:$V$26,AF$27,$C31:$V31) -> 0.08361244 | AG31: =AVERAGEIF($C$26:$V$26,AG$27,$C31:$V31) -> 0.048013664 | AH31: =AVERAGEIF($C$26:$V$26,AH$27,$C31:$V31) -> 0.10609244
B32: Precio | C32: =COUNTIFS('Respuestas '!$H$3:$H$330,$B32,'Respuestas '!$D$3:$D$330,C$27)/COUNTIF('Respuestas '!$D$3:$D$330,C$27) -> 0.18181818 | D32: =COUNTIFS('Respuestas '!$H$3:$H$330,$B32,'Respuestas '!$D$3:$D$330,D$27)/COUNTIF('Respuestas '!$D$3:$D$330,D$27) -> 0.076923077 | E32: =COUNTIFS('Respuestas '!$H$3:$H$330,$B32,'Respuestas '!$D$3:$D$330,E$27)/COUNTIF('Respuestas '!$D$3:$D$330,E$27) -> 0.125 | F32: =COUNTIFS('Respuestas '!$H$3:$H$330,$B32,'Respuestas '!$D$3:$D$330,F$27)/COUNTIF('Respuestas '!$D$3:$D$330,F$27) -> 0.28571429 | G32: =COUNTIFS('Respuestas '!$H$3:$H$330,$B32,'Respuestas '!$D$3:$D$330,G$27)/COUNTIF('Respuestas '!$D$3:$D$330,G$27) -> 0.23076923 | H32: =COUNTIFS('Respuestas '!$H$3:$H$330,$B32,'Respuestas '!$D$3:$D$330,H$27)/COUNTIF('Respuestas '!$D$3:$D$330,H$27) -> 0.0625 | I32: =COUNTIFS('Respuestas '!$H$3:$H$330,$B32,'Respuestas '!$D$3:$D$330,I$27)/COUNTIF('Respuestas '!$D$3:$D$330,I$27) -> 0.071428571 | J32: =COUNTIFS('Respuestas '!$H$3:$H$330,$B32,'Respuestas '!$D$3:$D$330,J$27)/COUNTIF('Respuestas '!$D$3:$D$330,J$27) -> 0.090909091 | ... V32: =COUNTIFS('Respuestas '!$H$3:$H$330,$B32,'Respuestas '!$D$3:$D$330,V$27)/COUNTIF('Respuestas '!$D$3:$D$330,V$27) -> 0.055555556 | AB32: Precio | AC32: =AVERAGEIF($C$26:$V$26,AC$27,$C32:$V32) -> 0.12791375 | AD32: =AVERAGEIF($C$26:$V$26,AD$27,$C32:$V32) -> 0.19299451 | AE32: =AVERAGEIF($C$26:$V$26,AE$27,$C32:$V32) -> 0.081168831 | AF32: =AVERAGEIF($C$26:$V$26,AF$27,$C32:$V32) -> 0.17543625 | AG32: =AVERAGEIF($C$26:$V$26,AG$27,$C32:$V32) -> 0.16675101 | AH32: =AVERAGEIF($C$26:$V$26,AH$27,$C32:$V32) -> 0.028594771
B33: Calidad | C33: =COUNTIFS('Respuestas '!$H$3:$H$330,$B33,'Respuestas '!$D$3:$D$330,C$27)/COUNTIF('Respuestas '!$D$3:$D$330,C$27) -> 0.090909091 | D33: =COUNTIFS('Respuestas '!$H$3:$H$330,$B33,'Respuestas '!$D$3:$D$330,D$27)/COUNTIF('Respuestas '!$D$3:$D$330,D$27) -> 0.15384615 | E33: =COUNTIFS('Respuestas '!$H$3:$H$330,$B33,'Respuestas '!$D$3:$D$330,E$27)/COUNTIF('Respuestas '!$D$3:$D$330,E$27) -> 0.25 | F33: =COUNTIFS('Respuestas '!$H$3:$H$330,$B33,'Respuestas '!$D$3:$D$330,F$27)/COUNTIF('Respuestas '!$D$3:$D$330,F$27) -> 0.071428571 | G33: =COUNTIFS('Respuestas '!$H$3:$H$330,$B33,'Respuestas '!$D$3:$D$330,G$27)/COUNTIF('Respuestas '!$D$3:$D$330,G$27) -> 0 | H33: =COUNTIFS('Respuestas '!$H$3:$H$330,$B33,'Respuestas '!$D$3:$D$330,H$27)/COUNTIF('Respuestas '!$D$3:$D$330,H$27) -> 0 | I33: =COUNTIFS('Respuestas '!$H$3:$H$330,$B33,'Respuestas '!$D$3:$D$330,I$27)/COUNTIF('Respuestas '!$D$3:$D$330,I$27) -> 0.071428571 | J33: =COUNTIFS('Respuestas '!$H$3:$H$330,$B33,'Respuestas '!$D$3:$D$330,J$27)/COUNTIF('Respuestas '!$D$3:$D$330,J$27) -> 0.090909091 | ... V33: =COUNTIFS('Respuestas '!$H$3:$H$330,$B33,'Respuestas '!$D$3:$D$330,V$27)/COUNTIF('Respuestas '!$D$3:$D$330,V$27) -> 0.11111111 | AB33: Calidad | AC33: =AVERAGEIF($C$26:$V$26,AC$27,$C33:$V33) -> 0.16491841 | AD33: =AVERAGEIF($C$26:$V$26,AD$27,$C33:$V33) -> 0.023809524 | AE33: =AVERAGEIF($C$26:$V$26,AE$27,$C33:$V33) -> 0.081168831 | AF33: =AVERAGEIF($C$26:$V$26,AF$27,$C33:$V33) -> 0.053521672 | AG33: =AVERAGEIF($C$26:$V$26,AG$27,$C33:$V33) -> 0.12335526 | AH33: =AVERAGEIF($C$26:$V$26,AH$27,$C33:$V33) -> 0.063316993
B34: Tamaño | C34: =COUNTIFS('Respuestas '!$H$3:$H$330,$B34,'Respuestas '!$D$3:$D$330,C$27)/COUNTIF('Respuestas '!$D$3:$D$330,C$27) -> 0 | D34: =COUNTIFS('Respuestas '!$H$3:$H$330,$B34,'Respuestas '!$D$3:$D$330,D$27)/COUNTIF('Respuestas '!$D$3:$D$330,D$27) -> 0.076923077 | E34: =COUNTIFS('Respuestas '!$H$3:$H$330,$B34,'Respuestas '!$D$3:$D$330,E$27)/COUNTIF('Respuestas '!$D$3:$D$330,E$27) -> 0.125 | F34: =COUNTIFS('Respuestas '!$H$3:$H$330,$B34,'Respuestas '!$D$3:$D$330,F$27)/COUNTIF('Respuestas '!$D$3:$D$330,F$27) -> 0.071428571 | G34: =COUNTIFS('Respuestas '!$H$3:$H$330,$B34,'Respuestas '!$D$3:$D$330,G$27)/COUNTIF('Respuestas '!$D$3:$D$330,G$27) -> 0 | H34: =COUNTIFS('Respuestas '!$H$3:$H$330,$B34,'Respuestas '!$D$3:$D$330,H$27)/COUNTIF('Respuestas '!$D$3:$D$330,H$27) -> 0.0625 | I34: =COUNTIFS('Respuestas '!$H$3:$H$330,$B34,'Respuestas '!$D$3:$D$330,I$27)/COUNTIF('Respuestas '!$D$3:$D$330,I$27) -> 0.21428571 | J34: =COUNTIFS('Respuestas '!$H$3:$H$330,$B34,'Respuestas '!$D$3:$D$330,J$27)/COUNTIF('Respuestas '!$D$3:$D$330,J$27) -> 0.045454545 | ... V34: =COUNTIFS('Respuestas '!$H$3:$H$330,$B34,'Respuestas '!$D$3:$D$330,V$27)/COUNTIF('Respuestas '!$D$3:$D$330,V$27) -> 0.055555556 | AB34: Tamaño | AC34: =AVERAGEIF($C$26:$V$26,AC$27,$C34:$V34) -> 0.067307692 | AD34: =AVERAGEIF($C$26:$V$26,AD$27,$C34:$V34) -> 0.044642857 | AE34: =AVERAGEIF($C$26:$V$26,AE$27,$C34:$V34) -> 0.12987013 | AF34: =AVERAGEIF($C$26:$V$26,AF$27,$C34:$V34) -> 0.093227554 | AG34: =AVERAGEIF($C$26:$V$26,AG$27,$C34:$V34) -> 0.048013664 | AH34: =AVERAGEIF($C$26:$V$26,AH$27,$C34:$V34) -> 0.08199113
B35: Calidad del servicio | C35: =COUNTIFS('Respuestas '!$H$3:$H$330,$B35,'Respuestas '!$D$3:$D$330,C$27)/COUNTIF('Respuestas '!$D$3:$D$330,C$27) -> 0.03030303 | D35: =COUNTIFS('Respuestas '!$H$3:$H$330,$B35,'Respuestas '!$D$3:$D$330,D$27)/COUNTIF('Respuestas '!$D$3:$D$330,D$27) -> 0.076923077 | E35: =COUNTIFS('Respuestas '!$H$3:$H$330,$B35,'Respuestas '!$D$3:$D$330,E$27)/COUNTIF('Respuestas '!$D$3:$D$330,E$27) -> 0 | F35: =COUNTIFS('Respuestas '!$H$3:$H$330,$B35,'Respuestas '!$D$3:$D$330,F$27)/COUNTIF('Respuestas '!$D$3:$D$330,F$27) -> 0.071428571 | G35: =COUNTIFS('Respuestas '!$H$3:$H$330,$B35,'Respuestas '!$D$3:$D$330,G$27)/COUNTIF('Respuestas '!$D$3:$D$330,G$27) -> 0.076923077 | H35: =COUNTIFS('Respuestas '!$H$3:$H$330,$B35,'Respuestas '!$D$3:$D$330,H$27)/COUNTIF('Respuestas '!$D$3:$D$330,H$27) -> 0.1875 | I35: =COUNTIFS('Respuestas '!$H$3:$H$330,$B35,'Respuestas '!$D$3:$D$330,I$27)/COUNTIF('Respuestas '!$D$3:$D$330,I$27) -> 0.071428571 | J35: =COUNTIFS('Respuestas '!$H$3:$H$330,$B35,'Respuestas '!$D$3:$D$330,J$27)/COUNTIF('Respuestas '!$D$3:$D$330,J$27) -> 0.045454545 | ... V35: =COUNTIFS('Respuestas '!$H$3:$H$330,$B35,'Respuestas '!$D$3:$D$330,V$27)/COUNTIF('Respuestas '!$D$3:$D$330,V$27) -> 0.16666667 | AB35: Calidad del servicio | AC35: =AVERAGEIF($C$26:$V$26,AC$27,$C35:$V35) -> 0.035742036 | AD35: =AVERAGEIF($C$26:$V$26,AD$27,$C35:$V35) -> 0.11195055 | AE35: =AVERAGEIF($C$26:$V$26,AE$27,$C35:$V35) -> 0.058441558 | AF35: =AVERAGEIF($C$26:$V$26,AF$27,$C35:$V35) -> 0.045454545 | AG35: =AVERAGEIF($C$26:$V$26,AG$27,$C35:$V35) -> 0.098494433 | AH35: =AVERAGEIF($C$26:$V$26,AH$27,$C35:$V35) -> 0.074229692
B36: Domicilios | C36: =COUNTIFS('Respuestas '!$H$3:$H$330,$B36,'Respuestas '!$D$3:$D$330,C$27)/COUNTIF('Respuestas '!$D$3:$D$330,C$27) -> 0 | D36: =COUNTIFS('Respuestas '!$H$3:$H$330,$B36,'Respuestas '!$D$3:$D$330,D$27)/COUNTIF('Respuestas '!$D$3:$D$330,D$27) -> 0.076923077 | E36: =COUNTIFS('Respuestas '!$H$3:$H$330,$B36,'Respuestas '!$D$3:$D$330,E$27)/COUNTIF('Respuestas '!$D$3:$D$330,E$27) -> 0 | F36: =COUNTIFS('Respuestas '!$H$3:$H$330,$B36,'Respuestas '!$D$3:$D$330,F$27)/COUNTIF('Respuestas '!$D$3:$D$330,F$27) -> 0 | G36: =COUNTIFS('Respuestas '!$H$3:$H$330,$B36,'Respuestas '!$D$3:$D$330,G$27)/COUNTIF('Respuestas '!$D$3:$D$330,G$27) -> 0.15384615 | H36: =COUNTIFS('Respuestas '!$H$3:$H$330,$B36,'Respuestas '!$D$3:$D$330,H$27)/COUNTIF('Respuestas '!$D$3:$D$330,H$27) -> 0.0625 | I36: =COUNTIFS('Respuestas '!$H$3:$H$330,$B36,'Respuestas '!$D$3:$D$330,I$27)/COUNTIF('Respuestas '!$D$3:$D$330,I$27) -> 0 | J36: =COUNTIFS('Respuestas '!$H$3:$H$330,$B36,'Respuestas '!$D$3:$D$330,J$27)/COUNTIF('Respuestas '!$D$3:$D$330,J$27) -> 0.045454545 | ... V36: =COUNTIFS('Respuestas '!$H$3:$H$330,$B36,'Respuestas '!$D$3:$D$330,V$27)/COUNTIF('Respuestas '!$D$3:$D$330,V$27) -> 0 | AB36: Domicilios | AC36: =AVERAGEIF($C$26:$V$26,AC$27,$C36:$V36) -> 0.025641026 | AD36: =AVERAGEIF($C$26:$V$26,AD$27,$C36:$V36) -> 0.072115385 | AE36: =AVERAGEIF($C$26:$V$26,AE$27,$C36:$V36) -> 0.022727273 | AF36: =AVERAGEIF($C$26:$V$26,AF$27,$C36:$V36) -> 0.08809105 | AG36: =AVERAGEIF($C$26:$V$26,AG$27,$C36:$V36) -> 0.067244433 | AH36: =AVERAGEIF($C$26:$V$26,AH$27,$C36:$V36) -> 0.035714286
B37: Parqueadero | C37: =COUNTIFS('Respuestas '!$H$3:$H$330,$B37,'Respuestas '!$D$3:$D$330,C$27)/COUNTIF('Respuestas '!$D$3:$D$330,C$27) -> 0.03030303 | D37: =COUNTIFS('Respuestas '!$H$3:$H$330,$B37,'Respuestas '!$D$3:$D$330,D$27)/COUNTIF('Respuestas '!$D$3:$D$330,D$27) -> 0 | E37: =COUNTIFS('Respuestas '!$H$3:$H$330,$B37,'Respuestas '!$D$3:$D$330,E$27)/COUNTIF('Respuestas '!$D$3:$D$330,E$27) -> 0 | F37: =COUNTIFS('Respuestas '!$H$3:$H$330,$B37,'Respuestas '!$D$3:$D$330,F$27)/COUNTIF('Respuestas '!$D$3:$D$330,F$27) -> 0 | G37: =COUNTIFS('Respuestas '!$H$3:$H$330,$B37,'Respuestas '!$D$3:$D$330,G$27)/COUNTIF('Respuestas '!$D$3:$D$330,G$27) -> 0.076923077 | H37: =COUNTIFS('Respuestas '!$H$3:$H$330,$B37,'Respuestas '!$D$3:$D$330,H$27)/COUNTIF('Respuestas '!$D$3:$D$330,H$27) -> 0.125 | I37: =COUNTIFS('Respuestas '!$H$3:$H$330,$B37,'Respuestas '!$D$3:$D$330,I$27)/COUNTIF('Respuestas '!$D$3:$D$330,I$27) -> 0 | J37: =COUNTIFS('Respuestas '!$H$3:$H$330,$B37,'Respuestas '!$D$3:$D$330,J$27)/COUNTIF('Respuestas '!$D$3:$D$330,J$27) -> 0.045454545 | ... V37: =COUNTIFS('Respuestas '!$H$3:$H$330,$B37,'Respuestas '!$D$3:$D$330,V$27)/COUNTIF('Respuestas '!$D$3:$D$330,V$27) -> 0.11111111 | AB37: Parqueadero | AC37: =AVERAGEIF($C$26:$V$26,AC$27,$C37:$V37) -> 0.01010101 | AD37: =AVERAGEIF($C$26:$V$26,AD$27,$C37:$V37) -> 0.067307692 | AE37: =AVERAGEIF($C$26:$V$26,AE$27,$C37:$V37) -> 0.022727273 | AF37: =AVERAGEIF($C$26:$V$26,AF$27,$C37:$V37) -> 0.072660428 | AG37: =AVERAGEIF($C$26:$V$26,AG$27,$C37:$V37) -> 0.039473684 | AH37: =AVERAGEIF($C$26:$V$26,AH$27,$C37:$V37) -> 0.048611111
B38: Cercania con el personal | C38: =COUNTIFS('Respuestas '!$H$3:$H$330,$B38,'Respuestas '!$D$3:$D$330,C$27)/COUNTIF('Respuestas '!$D$3:$D$330,C$27) -> 0.03030303 | D38: =COUNTIFS('Respuestas '!$H$3:$H$330,$B38,'Respuestas '!$D$3:$D$330,D$27)/COUNTIF('Respuestas '!$D$3:$D$330,D$27) -> 0 | E38: =COUNTIFS('Respuestas '!$H$3:$H$330,$B38,'Respuestas '!$D$3:$D$330,E$27)/COUNTIF('Respuestas '!$D$3:$D$330,E$27) -> 0 | F38: =COUNTIFS('Respuestas '!$H$3:$H$330,$B38,'Respuestas '!$D$3:$D$330,F$27)/COUNTIF('Respuestas '!$D$3:$D$330,F$27) -> 0 | G38: =COUNTIFS('Respuestas '!$H$3:$H$330,$B38,'Respuestas '!$D$3:$D$330,G$27)/COUNTIF('Respuestas '!$D$3:$D$330,G$27) -> 0.15384615 | H38: =COUNTIFS('Respuestas '!$H$3:$H$330,$B38,'Respuestas '!$D$3:$D$330,H$27)/COUNTIF('Respuestas '!$D$3:$D$330,H$27) -> 0.0625 | I38: =COUNTIFS('Respuestas '!$H$3:$H$330,$B38,'Respuestas '!$D$3:$D$330,I$27)/COUNTIF('Respuestas '!$D$3:$D$330,I$27) -> 0 | J38: =COUNTIFS('Respuestas '!$H$3:$H$330,$B38,'Respuestas '!$D$3:$D$330,J$27)/COUNTIF('Respuestas '!$D$3:$D$330,J$27) -> 0 | ... V38: =COUNTIFS('Respuestas '!$H$3:$H$330,$B38,'Respuestas '!$D$3:$D$330,V$27)/COUNTIF('Respuestas '!$D$3:$D$330,V$27) -> 0.055555556 | AB38: Cercania con el personal | AC38: =AVERAGEIF($C$26:$V$26,AC$27,$C38:$V38) -> 0.01010101 | AD38: =AVERAGEIF($C$26:$V$26,AD$27,$C38:$V38) -> 0.072115385 | AE38: =AVERAGEIF($C$26:$V$26,AE$27,$C38:$V38) -> 0 | AF38: =AVERAGEIF($C$26:$V$26,AF$27,$C38:$V38) -> 0.074700957 | AG38: =AVERAGEIF($C$26:$V$26,AG$27,$C38:$V38) -> 0.12234312 | AH38: =AVERAGEIF($C$26:$V$26,AH$27,$C38:$V38) -> 0.14764239
B39: Total | C39: =SUM(C28:C38) -> 1 | D39: =SUM(D28:D38) -> 1 | E39: =SUM(E28:E38) -> 1 | F39: =SUM(F28:F38) -> 1 | G39: =SUM(G28:G38) -> 1 | H39: =SUM(H28:H38) -> 1 | I39: =SUM(I28:I38) -> 1 | J39: =SUM(J28:J38) -> 1 | ... V39: =SUM(V28:V38) -> 1 | AB39: Total | AC39: =SUM(AC28:AC38) -> 1 | AD39: =SUM(AD28:AD38) -> 1 | AE39: =SUM(AE28:AE38) -> 1 | AF39: =SUM(AF28:AF38) -> 1 | AG39: =SUM(AG28:AG38) -> 1 | AH39: =SUM(AH28:AH38) -> 1
B42: ¿Cuáles son los principales factores que lo motivan a comprar en Ara o D1 en lugar de en uno tradicional? | C42: Cajicá | D42: Chía | E42: Cota | F42: Gachancipá | G42: Briceño | H42: Tocancipá | I42: Cogua | J42: Zipaquirá | K42: Sesquilé | L42: Suesca | M42: Nemocón | N42: Chocontá | O42: Subachoque | P42: Tenjo | Q42: El Rosal | R42: Tabio | S42: Madrid | T42: Mosquera | U42: Facatativá | V42: Funza | AB42: ¿Qué aspectos de la disposición de la tienda influyen en su decisión de compra? | AC42: 1 | AD42: 2 | AE42: 3 | AF42: 4 | AG42: 5 | AH42: 6
B43: Precios | C43: =COUNTIFS('Respuestas '!$I$3:$I$330,$B43,'Respuestas '!$D$3:$D$330,C$27)/COUNTIF('Respuestas '!$D$3:$D$330,C$27) -> 0.51515152 | D43: =COUNTIFS('Respuestas '!$I$3:$I$330,$B43,'Respuestas '!$D$3:$D$330,D$27)/COUNTIF('Respuestas '!$D$3:$D$330,D$27) -> 0.46153846 | E43: =COUNTIFS('Respuestas '!$I$3:$I$330,$B43,'Respuestas '!$D$3:$D$330,E$27)/COUNTIF('Respuestas '!$D$3:$D$330,E$27) -> 0.25 | F43: =COUNTIFS('Respuestas '!$I$3:$I$330,$B43,'Respuestas '!$D$3:$D$330,F$27)/COUNTIF('Respuestas '!$D$3:$D$330,F$27) -> 0.71428571 | G43: =COUNTIFS('Respuestas '!$I$3:$I$330,$B43,'Respuestas '!$D$3:$D$330,G$27)/COUNTIF('Respuestas '!$D$3:$D$330,G$27) -> 0.46153846 | H43: =COUNTIFS('Respuestas '!$I$3:$I$330,$B43,'Respuestas '!$D$3:$D$330,H$27)/COUNTIF('Respuestas '!$D$3:$D$330,H$27) -> 0.375 | I43: =COUNTIFS('Respuestas '!$I$3:$I$330,$B43,'Respuestas '!$D$3:$D$330,I$27)/COUNTIF('Respuestas '!$D$3:$D$330,I$27) -> 0.42857143 | J43: =COUNTIFS('Respuestas '!$I$3:$I$330,$B43,'Respuestas '!$D$3:$D$330,J$27)/COUNTIF('Respuestas '!$D$3:$D$330,J$27) -> 0.31818182 | ... V43: =COUNTIFS('Respuestas '!$I$3:$I$330,$B43,'Respuestas '!$D$3:$D$330,V$27)/COUNTIF('Respuestas '!$D$3:$D$330,V$27) -> 0.5 | AB43: Precios | AC43: =AVERAGEIF($C$26:$V$26,AC$27,$C43:$V43) -> 0.40889666 | AD43: =AVERAGEIF($C$26:$V$26,AD$27,$C43:$V43) -> 0.51694139 | AE43: =AVERAGEIF($C$26:$V$26,AE$27,$C43:$V43) -> 0.37337662 | AF43: =AVERAGEIF($C$26:$V$26,AF$27,$C43:$V43) -> 0.52750141 | AG43: =AVERAGEIF($C$26:$V$26,AG$27,$C43:$V43) -> 0.4173836 | AH43: =AVERAGEIF($C$26:$V$26,AH$27,$C43:$V43) -> 0.37377451
B44: Ubicación | C44: =COUNTIFS('Respuestas '!$I$3:$I$330,$B44,'Respuestas '!$D$3:$D$330,C$27)/COUNTIF('Respuestas '!$D$3:$D$330,C$27) -> 0.36363636 | D44: =COUNTIFS('Respuestas '!$I$3:$I$330,$B44,'Respuestas '!$D$3:$D$330,D$27)/COUNTIF('Respuestas '!$D$3:$D$330,D$27) -> 0.38461538 | E44: =COUNTIFS('Respuestas '!$I$3:$I$330,$B44,'Respuestas '!$D$3:$D$330,E$27)/COUNTIF('Respuestas '!$D$3:$D$330,E$27) -> 0.5 | F44: =COUNTIFS('Respuestas '!$I$3:$I$330,$B44,'Respuestas '!$D$3:$D$330,F$27)/COUNTIF('Respuestas '!$D$3:$D$330,F$27) -> 0.14285714 | G44: =COUNTIFS('Respuestas '!$I$3:$I$330,$B44,'Respuestas '!$D$3:$D$330,G$27)/COUNTIF('Respuestas '!$D$3:$D$330,G$27) -> 0.46153846 | H44: =COUNTIFS('Respuestas '!$I$3:$I$330,$B44,'Respuestas '!$D$3:$D$330,H$27)/COUNTIF('Respuestas '!$D$3:$D$330,H$27) -> 0.375 | I44: =COUNTIFS('Respuestas '!$I$3:$I$330,$B44,'Respuestas '!$D$3:$D$330,I$27)/COUNTIF('Respuestas '!$D$3:$D$330,I$27) -> 0.42857143 | J44: =COUNTIFS('Respuestas '!$I$3:$I$330,$B44,'Respuestas '!$D$3:$D$330,J$27)/COUNTIF('Respuestas '!$D$3:$D$330,J$27) -> 0.31818182 | ... V44: =COUNTIFS('Respuestas '!$I$3:$I$330,$B44,'Respuestas '!$D$3:$D$330,V$27)/COUNTIF('Respuestas '!$D$3:$D$330,V$27) -> 0.38888889 | AB44: Ubicación | AC44: =AVERAGEIF($C$26:$V$26,AC$27,$C44:$V44) -> 0.41608392 | AD44: =AVERAGEIF($C$26:$V$26,AD$27,$C44:$V44) -> 0.3264652 | AE44: =AVERAGEIF($C$26:$V$26,AE$27,$C44:$V44) -> 0.37337662 | AF44: =AVERAGEIF($C$26:$V$26,AF$27,$C44:$V44) -> 0.22316352 | AG44: =AVERAGEIF($C$26:$V$26,AG$27,$C44:$V44) -> 0.26739626 | AH44: =AVERAGEIF($C$26:$V$26,AH$27,$C44:$V44) -> 0.46224323
B45: Productos unicos del retailer | C45: =COUNTIFS('Respuestas '!$I$3:$I$330,$B45,'Respuestas '!$D$3:$D$330,C$27)/COUNTIF('Respuestas '!$D$3:$D$330,C$27) -> 0.090909091 | D45: =COUNTIFS('Respuestas '!$I$3:$I$330,$B45,'Respuestas '!$D$3:$D$330,D$27)/COUNTIF('Respuestas '!$D$3:$D$330,D$27) -> 0 | E45: =COUNTIFS('Respuestas '!$I$3:$I$330,$B45,'Respuestas '!$D$3:$D$330,E$27)/COUNTIF('Respuestas '!$D$3:$D$330,E$27) -> 0 | F45: =COUNTIFS('Respuestas '!$I$3:$I$330,$B45,'Respuestas '!$D$3:$D$330,F$27)/COUNTIF('Respuestas '!$D$3:$D$330,F$27) -> 0 | G45: =COUNTIFS('Respuestas '!$I$3:$I$330,$B45,'Respuestas '!$D$3:$D$330,G$27)/COUNTIF('Respuestas '!$D$3:$D$330,G$27) -> 0.076923077 | H45: =COUNTIFS('Respuestas '!$I$3:$I$330,$B45,'Respuestas '!$D$3:$D$330,H$27)/COUNTIF('Respuestas '!$D$3:$D$330,H$27) -> 0.125 | I45: =COUNTIFS('Respuestas '!$I$3:$I$330,$B45,'Respuestas '!$D$3:$D$330,I$27)/COUNTIF('Respuestas '!$D$3:$D$330,I$27) -> 0.14285714 | J45: =COUNTIFS('Respuestas '!$I$3:$I$330,$B45,'Respuestas '!$D$3:$D$330,J$27)/COUNTIF('Respuestas '!$D$3:$D$330,J$27) -> 0.13636364 | ... V45: =COUNTIFS('Respuestas '!$I$3:$I$330,$B45,'Respuestas '!$D$3:$D$330,V$27)/COUNTIF('Respuestas '!$D$3:$D$330,V$27) -> 0.11111111 | AB45: Productos unicos del retailer | AC45: =AVERAGEIF($C$26:$V$26,AC$27,$C45:$V45) -> 0.03030303 | AD45: =AVERAGEIF($C$26:$V$26,AD$27,$C45:$V45) -> 0.067307692 | AE45: =AVERAGEIF($C$26:$V$26,AE$27,$C45:$V45) -> 0.13961039 | AF45: =AVERAGEIF($C$26:$V$26,AF$27,$C45:$V45) -> 0.076248945 | AG45: =AVERAGEIF($C$26:$V$26,AG$27,$C45:$V45) -> 0.16542257 | AH45: =AVERAGEIF($C$26:$V$26,AH$27,$C45:$V45) -> 0.075046685
B46: Variedad | C46: =COUNTIFS('Respuestas '!$I$3:$I$330,$B46,'Respuestas '!$D$3:$D$330,C$27)/COUNTIF('Respuestas '!$D$3:$D$330,C$27) -> 0.03030303 | D46: =COUNTIFS('Respuestas '!$I$3:$I$330,$B46,'Respuestas '!$D$3:$D$330,D$27)/COUNTIF('Respuestas '!$D$3:$D$330,D$27) -> 0.15384615 | E46: =COUNTIFS('Respuestas '!$I$3:$I$330,$B46,'Respuestas '!$D$3:$D$330,E$27)/COUNTIF('Respuestas '!$D$3:$D$330,E$27) -> 0.25 | F46: =COUNTIFS('Respuestas '!$I$3:$I$330,$B46,'Respuestas '!$D$3:$D$330,F$27)/COUNTIF('Respuestas '!$D$3:$D$330,F$27) -> 0.14285714 | G46: =COUNTIFS('Respuestas '!$I$3:$I$330,$B46,'Respuestas '!$D$3:$D$330,G$27)/COUNTIF('Respuestas '!$D$3:$D$330,G$27) -> 0 | H46: =COUNTIFS('Respuestas '!$I$3:$I$330,$B46,'Respuestas '!$D$3:$D$330,H$27)/COUNTIF('Respuestas '!$D$3:$D$330,H$27) -> 0.125 | I46: =COUNTIFS('Respuestas '!$I$3:$I$330,$B46,'Respuestas '!$D$3:$D$330,I$27)/COUNTIF('Respuestas '!$D$3:$D$330,I$27) -> 0 | J46: =COUNTIFS('Respuestas '!$I$3:$I$330,$B46,'Respuestas '!$D$3:$D$330,J$27)/COUNTIF('Respuestas '!$D$3:$D$330,J$27) -> 0.22727273 | ... V46: =COUNTIFS('Respuestas '!$I$3:$I$330,$B46,'Respuestas '!$D$3:$D$330,V$27)/COUNTIF('Respuestas '!$D$3:$D$330,V$27) -> 0 | AB46: Variedad | AC46: =AVERAGEIF($C$26:$V$26,AC$27,$C46:$V46) -> 0.14471639 | AD46: =AVERAGEIF($C$26:$V$26,AD$27,$C46:$V46) -> 0.089285714 | AE46: =AVERAGEIF($C$26:$V$26,AE$27,$C46:$V46) -> 0.11363636 | AF46: =AVERAGEIF($C$26:$V$26,AF$27,$C46:$V46) -> 0.17308612 | AG46: =AVERAGEIF($C$26:$V$26,AG$27,$C46:$V46) -> 0.14979757 | AH46: =AVERAGEIF($C$26:$V$26,AH$27,$C46:$V46) -> 0.088935574
C47: =SUM(C43:C46) -> 1 | D47: =SUM(D43:D46) -> 1 | E47: =SUM(E43:E46) -> 1 | F47: =SUM(F43:F46) -> 1 | G47: =SUM(G43:G46) -> 1 | H47: =SUM(H43:H46) -> 1 | I47: =SUM(I43:I46) -> 1 | J47: =SUM(J43:J46) -> 1 | ... V47: =SUM(V43:V46) -> 1 | AB47: Total | AC47: =AVERAGEIF($C$26:$V$26,AC$27,$C47:$V47) -> 1 | AD47: =AVERAGEIF($C$26:$V$26,AD$27,$C47:$V47) -> 1 | AE47: =AVERAGEIF($C$26:$V$26,AE$27,$C47:$V47) -> 1 | AF47: =AVERAGEIF($C$26:$V$26,AF$27,$C47:$V47) -> 1 | AG47: =AVERAGEIF($C$26:$V$26,AG$27,$C47:$V47) -> 1 | AH47: =AVERAGEIF($C$26:$V$26,AH$27,$C47:$V47) -> 1
B54: ¿Cuál es la principal desventaja que encuentra en los supermercados Ara y D1? | C54: Cajicá | D54: Chía | E54: Cota | F54: Gachancipá | G54: Briceño | H54: Tocancipá | I54: Cogua | J54: Zipaquirá | K54: Sesquilé | L54: Suesca | M54: Nemocón | N54: Chocontá | O54: Subachoque | P54: Tenjo | Q54: El Rosal | R54: Tabio | S54: Madrid | T54: Mosquera | U54: Facatativá | V54: Funza | AB54: ¿Qué aspectos de la disposición de la tienda influyen en su decisión de compra? | AC54: 1 | AD54: 2 | AE54: 3 | AF54: 4 | AG54: 5 | AH54: 6
B55: Calidad de los Productos | C55: =COUNTIFS('Respuestas '!$K$3:$K$330,$B55,'Respuestas '!$D$3:$D$330,C$27)/COUNTIF('Respuestas '!$D$3:$D$330,C$27) -> 0.12121212 | D55: =COUNTIFS('Respuestas '!$K$3:$K$330,$B55,'Respuestas '!$D$3:$D$330,D$27)/COUNTIF('Respuestas '!$D$3:$D$330,D$27) -> 0.076923077 | E55: =COUNTIFS('Respuestas '!$K$3:$K$330,$B55,'Respuestas '!$D$3:$D$330,E$27)/COUNTIF('Respuestas '!$D$3:$D$330,E$27) -> 0 | F55: =COUNTIFS('Respuestas '!$K$3:$K$330,$B55,'Respuestas '!$D$3:$D$330,F$27)/COUNTIF('Respuestas '!$D$3:$D$330,F$27) -> 0.071428571 | G55: =COUNTIFS('Respuestas '!$K$3:$K$330,$B55,'Respuestas '!$D$3:$D$330,G$27)/COUNTIF('Respuestas '!$D$3:$D$330,G$27) -> 0 | H55: =COUNTIFS('Respuestas '!$K$3:$K$330,$B55,'Respuestas '!$D$3:$D$330,H$27)/COUNTIF('Respuestas '!$D$3:$D$330,H$27) -> 0.125 | I55: =COUNTIFS('Respuestas '!$K$3:$K$330,$B55,'Respuestas '!$D$3:$D$330,I$27)/COUNTIF('Respuestas '!$D$3:$D$330,I$27) -> 0 | J55: =COUNTIFS('Respuestas '!$K$3:$K$330,$B55,'Respuestas '!$D$3:$D$330,J$27)/COUNTIF('Respuestas '!$D$3:$D$330,J$27) -> 0.045454545 | ... V55: =COUNTIFS('Respuestas '!$K$3:$K$330,$B55,'Respuestas '!$D$3:$D$330,V$27)/COUNTIF('Respuestas '!$D$3:$D$330,V$27) -> 0.11111111 | AB55: Calidad de los Productos | AC55: =AVERAGEIF($C$26:$V$26,AC$27,$C55:$V55) -> 0.066045066 | AD55: =AVERAGEIF($C$26:$V$26,AD$27,$C55:$V55) -> 0.06547619 | AE55: =AVERAGEIF($C$26:$V$26,AE$27,$C55:$V55) -> 0.022727273 | AF55: =AVERAGEIF($C$26:$V$26,AF$27,$C55:$V55) -> 0.074043062 | AG55: =AVERAGEIF($C$26:$V$26,AG$27,$C55:$V55) -> 0.087487348 | AH55: =AVERAGEIF($C$26:$V$26,AH$27,$C55:$V55) -> 0.12826797
B56: Compras Impulsivas y Dificultad para Hacer un Mercado Completo | C56: =COUNTIFS('Respuestas '!$K$3:$K$330,$B56,'Respuestas '!$D$3:$D$330,C$27)/COUNTIF('Respuestas '!$D$3:$D$330,C$27) -> 0.060606061 | D56: =COUNTIFS('Respuestas '!$K$3:$K$330,$B56,'Respuestas '!$D$3:$D$330,D$27)/COUNTIF('Respuestas '!$D$3:$D$330,D$27) -> 0.15384615 | E56: =COUNTIFS('Respuestas '!$K$3:$K$330,$B56,'Respuestas '!$D$3:$D$330,E$27)/COUNTIF('Respuestas '!$D$3:$D$330,E$27) -> 0 | F56: =COUNTIFS('Respuestas '!$K$3:$K$330,$B56,'Respuestas '!$D$3:$D$330,F$27)/COUNTIF('Respuestas '!$D$3:$D$330,F$27) -> 0.21428571 | G56: =COUNTIFS('Respuestas '!$K$3:$K$330,$B56,'Respuestas '!$D$3:$D$330,G$27)/COUNTIF('Respuestas '!$D$3:$D$330,G$27) -> 0.23076923 | H56: =COUNTIFS('Respuestas '!$K$3:$K$330,$B56,'Respuestas '!$D$3:$D$330,H$27)/COUNTIF('Respuestas '!$D$3:$D$330,H$27) -> 0.1875 | I56: =COUNTIFS('Respuestas '!$K$3:$K$330,$B56,'Respuestas '!$D$3:$D$330,I$27)/COUNTIF('Respuestas '!$D$3:$D$330,I$27) -> 0.071428571 | J56: =COUNTIFS('Respuestas '!$K$3:$K$330,$B56,'Respuestas '!$D$3:$D$330,J$27)/COUNTIF('Respuestas '!$D$3:$D$330,J$27) -> 0.090909091 | ... V56: =COUNTIFS('Respuestas '!$K$3:$K$330,$B56,'Respuestas '!$D$3:$D$330,V$27)/COUNTIF('Respuestas '!$D$3:$D$330,V$27) -> 0.055555556 | AB56: Compras Impulsivas y Dificultad para Hacer un Mercado Completo | AC56: =AVERAGEIF($C$26:$V$26,AC$27,$C56:$V56) -> 0.071484071 | AD56: =AVERAGEIF($C$26:$V$26,AD$27,$C56:$V56) -> 0.21085165 | AE56: =AVERAGEIF($C$26:$V$26,AE$27,$C56:$V56) -> 0.081168831 | AF56: =AVERAGEIF($C$26:$V$26,AF$27,$C56:$V56) -> 0.077796932 | AG56: =AVERAGEIF($C$26:$V$26,AG$27,$C56:$V56) -> 0.14505314 | AH56: =AVERAGEIF($C$26:$V$26,AH$27,$C56:$V56) -> 0.12068161
B57: Presentación de la Tienda y Productos | C57: =COUNTIFS('Respuestas '!$K$3:$K$330,$B57,'Respuestas '!$D$3:$D$330,C$27)/COUNTIF('Respuestas '!$D$3:$D$330,C$27) -> 0.090909091 | D57: =COUNTIFS('Respuestas '!$K$3:$K$330,$B57,'Respuestas '!$D$3:$D$330,D$27)/COUNTIF('Respuestas '!$D$3:$D$330,D$27) -> 0.076923077 | E57: =COUNTIFS('Respuestas '!$K$3:$K$330,$B57,'Respuestas '!$D$3:$D$330,E$27)/COUNTIF('Respuestas '!$D$3:$D$330,E$27) -> 0 | F57: =COUNTIFS('Respuestas '!$K$3:$K$330,$B57,'Respuestas '!$D$3:$D$330,F$27)/COUNTIF('Respuestas '!$D$3:$D$330,F$27) -> 0.21428571 | G57: =COUNTIFS('Respuestas '!$K$3:$K$330,$B57,'Respuestas '!$D$3:$D$330,G$27)/COUNTIF('Respuestas '!$D$3:$D$330,G$27) -> 0.30769231 | H57: =COUNTIFS('Respuestas '!$K$3:$K$330,$B57,'Respuestas '!$D$3:$D$330,H$27)/COUNTIF('Respuestas '!$D$3:$D$330,H$27) -> 0.125 | I57: =COUNTIFS('Respuestas '!$K$3:$K$330,$B57,'Respuestas '!$D$3:$D$330,I$27)/COUNTIF('Respuestas '!$D$3:$D$330,I$27) -> 0.071428571 | J57: =COUNTIFS('Respuestas '!$K$3:$K$330,$B57,'Respuestas '!$D$3:$D$330,J$27)/COUNTIF('Respuestas '!$D$3:$D$330,J$27) -> 0.090909091 | ... V57: =COUNTIFS('Respuestas '!$K$3:$K$330,$B57,'Respuestas '!$D$3:$D$330,V$27)/COUNTIF('Respuestas '!$D$3:$D$330,V$27) -> 0.16666667 | AB57: Presentación de la Tienda y Productos | AC57: =AVERAGEIF($C$26:$V$26,AC$27,$C57:$V57) -> 0.055944056 | AD57: =AVERAGEIF($C$26:$V$26,AD$27,$C57:$V57) -> 0.21565934 | AE57: =AVERAGEIF($C$26:$V$26,AE$27,$C57:$V57) -> 0.081168831 | AF57: =AVERAGEIF($C$26:$V$26,AF$27,$C57:$V57) -> 0.20690965 | AG57: =AVERAGEIF($C$26:$V$26,AG$27,$C57:$V57) -> 0.20274545 | AH57: =AVERAGEIF($C$26:$V$26,AH$27,$C57:$V57) -> 0.17244398
B58: Variedad y Disponibilidad de Productos | C58: =COUNTIFS('Respuestas '!$K$3:$K$330,$B58,'Respuestas '!$D$3:$D$330,C$27)/COUNTIF('Respuestas '!$D$3:$D$330,C$27) -> 0.33333333 | D58: =COUNTIFS('Respuestas '!$K$3:$K$330,$B58,'Respuestas '!$D$3:$D$330,D$27)/COUNTIF('Respuestas '!$D$3:$D$330,D$27) -> 0.23076923 | E58: =COUNTIFS('Respuestas '!$K$3:$K$330,$B58,'Respuestas '!$D$3:$D$330,E$27)/COUNTIF('Respuestas '!$D$3:$D$330,E$27) -> 0.25 | F58: =COUNTIFS('Respuestas '!$K$3:$K$330,$B58,'Respuestas '!$D$3:$D$330,F$27)/COUNTIF('Respuestas '!$D$3:$D$330,F$27) -> 0 | G58: =COUNTIFS('Respuestas '!$K$3:$K$330,$B58,'Respuestas '!$D$3:$D$330,G$27)/COUNTIF('Respuestas '!$D$3:$D$330,G$27) -> 0 | H58: =COUNTIFS('Respuestas '!$K$3:$K$330,$B58,'Respuestas '!$D$3:$D$330,H$27)/COUNTIF('Respuestas '!$D$3:$D$330,H$27) -> 0.0625 | I58: =COUNTIFS('Respuestas '!$K$3:$K$330,$B58,'Respuestas '!$D$3:$D$330,I$27)/COUNTIF('Respuestas '!$D$3:$D$330,I$27) -> 0.14285714 | J58: =COUNTIFS('Respuestas '!$K$3:$K$330,$B58,'Respuestas '!$D$3:$D$330,J$27)/COUNTIF('Respuestas '!$D$3:$D$330,J$27) -> 0.36363636 | ... V58: =COUNTIFS('Respuestas '!$K$3:$K$330,$B58,'Respuestas '!$D$3:$D$330,V$27)/COUNTIF('Respuestas '!$D$3:$D$330,V$27) -> 0.16666667 | AB58: Variedad y Disponibilidad de Productos | AC58: =AVERAGEIF($C$26:$V$26,AC$27,$C58:$V58) -> 0.27136752 | AD58: =AVERAGEIF($C$26:$V$26,AD$27,$C58:$V58) -> 0.020833333 | AE58: =AVERAGEIF($C$26:$V$26,AE$27,$C58:$V58) -> 0.25324675 | AF58: =AVERAGEIF($C$26:$V$26,AF$27,$C58:$V58) -> 0.2523642 | AG58: =AVERAGEIF($C$26:$V$26,AG$27,$C58:$V58) -> 0.17035678 | AH58: =AVERAGEIF($C$26:$V$26,AH$27,$C58:$V58) -> 0.14548319
B59: Falta de fruver | C59: =COUNTIFS('Respuestas '!$K$3:$K$330,$B59,'Respuestas '!$D$3:$D$330,C$27)/COUNTIF('Respuestas '!$D$3:$D$330,C$27) -> 0.060606061 | D59: =COUNTIFS('Respuestas '!$K$3:$K$330,$B59,'Respuestas '!$D$3:$D$330,D$27)/COUNTIF('Respuestas '!$D$3:$D$330,D$27) -> 0 | E59: =COUNTIFS('Respuestas '!$K$3:$K$330,$B59,'Respuestas '!$D$3:$D$330,E$27)/COUNTIF('Respuestas '!$D$3:$D$330,E$27) -> 0 | F59: =COUNTIFS('Respuestas '!$K$3:$K$330,$B59,'Respuestas '!$D$3:$D$330,F$27)/COUNTIF('Respuestas '!$D$3:$D$330,F$27) -> 0 | G59: =COUNTIFS('Respuestas '!$K$3:$K$330,$B59,'Respuestas '!$D$3:$D$330,G$27)/COUNTIF('Respuestas '!$D$3:$D$330,G$27) -> 0.23076923 | H59: =COUNTIFS('Respuestas '!$K$3:$K$330,$B59,'Respuestas '!$D$3:$D$330,H$27)/COUNTIF('Respuestas '!$D$3:$D$330,H$27) -> 0.125 | I59: =COUNTIFS('Respuestas '!$K$3:$K$330,$B59,'Respuestas '!$D$3:$D$330,I$27)/COUNTIF('Respuestas '!$D$3:$D$330,I$27) -> 0.14285714 | J59: =COUNTIFS('Respuestas '!$K$3:$K$330,$B59,'Respuestas '!$D$3:$D$330,J$27)/COUNTIF('Respuestas '!$D$3:$D$330,J$27) -> 0.045454545 | ... V59: =COUNTIFS('Respuestas '!$K$3:$K$330,$B59,'Respuestas '!$D$3:$D$330,V$27)/COUNTIF('Respuestas '!$D$3:$D$330,V$27) -> 0.055555556 | AB59: Falta de fruver | AC59: =AVERAGEIF($C$26:$V$26,AC$27,$C59:$V59) -> 0.02020202 | AD59: =AVERAGEIF($C$26:$V$26,AD$27,$C59:$V59) -> 0.11858974 | AE59: =AVERAGEIF($C$26:$V$26,AE$27,$C59:$V59) -> 0.094155844 | AF59: =AVERAGEIF($C$26:$V$26,AF$27,$C59:$V59) -> 0.041021672 | AG59: =AVERAGEIF($C$26:$V$26,AG$27,$C59:$V59) -> 0.041940789 | AH59: =AVERAGEIF($C$26:$V$26,AH$27,$C59:$V59) -> 0.046451914
B60: Filas y Tiempo de Espera en Caja | C60: =COUNTIFS('Respuestas '!$K$3:$K$330,$B60,'Respuestas '!$D$3:$D$330,C$27)/COUNTIF('Respuestas '!$D$3:$D$330,C$27) -> 0.12121212 | D60: =COUNTIFS('Respuestas '!$K$3:$K$330,$B60,'Respuestas '!$D$3:$D$330,D$27)/COUNTIF('Respuestas '!$D$3:$D$330,D$27) -> 0.23076923 | E60: =COUNTIFS('Respuestas '!$K$3:$K$330,$B60,'Respuestas '!$D$3:$D$330,E$27)/COUNTIF('Respuestas '!$D$3:$D$330,E$27) -> 0.125 | F60: =COUNTIFS('Respuestas '!$K$3:$K$330,$B60,'Respuestas '!$D$3:$D$330,F$27)/COUNTIF('Respuestas '!$D$3:$D$330,F$27) -> 0.35714286 | G60: =COUNTIFS('Respuestas '!$K$3:$K$330,$B60,'Respuestas '!$D$3:$D$330,G$27)/COUNTIF('Respuestas '!$D$3:$D$330,G$27) -> 0.076923077 | H60: =COUNTIFS('Respuestas '!$K$3:$K$330,$B60,'Respuestas '!$D$3:$D$330,H$27)/COUNTIF('Respuestas '!$D$3:$D$330,H$27) -> 0.125 | I60: =COUNTIFS('Respuestas '!$K$3:$K$330,$B60,'Respuestas '!$D$3:$D$330,I$27)/COUNTIF('Respuestas '!$D$3:$D$330,I$27) -> 0.28571429 | J60: =COUNTIFS('Respuestas '!$K$3:$K$330,$B60,'Respuestas '!$D$3:$D$330,J$27)/COUNTIF('Respuestas '!$D$3:$D$330,J$27) -> 0.13636364 | ... V60: =COUNTIFS('Respuestas '!$K$3:$K$330,$B60,'Respuestas '!$D$3:$D$330,V$27)/COUNTIF('Respuestas '!$D$3:$D$330,V$27) -> 0.16666667 | AB60: Filas y Tiempo de Espera en Caja | AC60: =AVERAGEIF($C$26:$V$26,AC$27,$C60:$V60) -> 0.15899378 | AD60: =AVERAGEIF($C$26:$V$26,AD$27,$C60:$V60) -> 0.18635531 | AE60: =AVERAGEIF($C$26:$V$26,AE$27,$C60:$V60) -> 0.21103896 | AF60: =AVERAGEIF($C$26:$V$26,AF$27,$C60:$V60) -> 0.13424923 | AG60: =AVERAGEIF($C$26:$V$26,AG$27,$C60:$V60) -> 0.11627024 | AH60: =AVERAGEIF($C$26:$V$26,AH$27,$C60:$V60) -> 0.14233193
B61: Atención al Cliente y Servicio | C61: =COUNTIFS('Respuestas '!$K$3:$K$330,$B61,'Respuestas '!$D$3:$D$330,C$27)/COUNTIF('Respuestas '!$D$3:$D$330,C$27) -> 0.060606061 | D61: =COUNTIFS('Respuestas '!$K$3:$K$330,$B61,'Respuestas '!$D$3:$D$330,D$27)/COUNTIF('Respuestas '!$D$3:$D$330,D$27) -> 0.076923077 | E61: =COUNTIFS('Respuestas '!$K$3:$K$330,$B61,'Respuestas '!$D$3:$D$330,E$27)/COUNTIF('Respuestas '!$D$3:$D$330,E$27) -> 0.375 | F61: =COUNTIFS('Respuestas '!$K$3:$K$330,$B61,'Respuestas '!$D$3:$D$330,F$27)/COUNTIF('Respuestas '!$D$3:$D$330,F$27) -> 0 | G61: =COUNTIFS('Respuestas '!$K$3:$K$330,$B61,'Respuestas '!$D$3:$D$330,G$27)/COUNTIF('Respuestas '!$D$3:$D$330,G$27) -> 0.076923077 | H61: =COUNTIFS('Respuestas '!$K$3:$K$330,$B61,'Respuestas '!$D$3:$D$330,H$27)/COUNTIF('Respuestas '!$D$3:$D$330,H$27) -> 0.0625 | I61: =COUNTIFS('Respuestas '!$K$3:$K$330,$B61,'Respuestas '!$D$3:$D$330,I$27)/COUNTIF('Respuestas '!$D$3:$D$330,I$27) -> 0.071428571 | J61: =COUNTIFS('Respuestas '!$K$3:$K$330,$B61,'Respuestas '!$D$3:$D$330,J$27)/COUNTIF('Respuestas '!$D$3:$D$330,J$27) -> 0.13636364 | ... V61: =COUNTIFS('Respuestas '!$K$3:$K$330,$B61,'Respuestas '!$D$3:$D$330,V$27)/COUNTIF('Respuestas '!$D$3:$D$330,V$27) -> 0.055555556 | AB61: Atención al Cliente y Servicio | AC61: =AVERAGEIF($C$26:$V$26,AC$27,$C61:$V61) -> 0.17084305 | AD61: =AVERAGEIF($C$26:$V$26,AD$27,$C61:$V61) -> 0.046474359 | AE61: =AVERAGEIF($C$26:$V$26,AE$27,$C61:$V61) -> 0.1038961 | AF61: =AVERAGEIF($C$26:$V$26,AF$27,$C61:$V61) -> 0.067569659 | AG61: =AVERAGEIF($C$26:$V$26,AG$27,$C61:$V61) -> 0.097039474 | AH61: =AVERAGEIF($C$26:$V$26,AH$27,$C61:$V61) -> 0.091269841
B62: Ubicación y Tamaño de las Tiendas | C62: =COUNTIFS('Respuestas '!$K$3:$K$330,$B62,'Respuestas '!$D$3:$D$330,C$27)/COUNTIF('Respuestas '!$D$3:$D$330,C$27) -> 0.090909091 | D62: =COUNTIFS('Respuestas '!$K$3:$K$330,$B62,'Respuestas '!$D$3:$D$330,D$27)/COUNTIF('Respuestas '!$D$3:$D$330,D$27) -> 0.15384615 | E62: =COUNTIFS('Respuestas '!$K$3:$K$330,$B62,'Respuestas '!$D$3:$D$330,E$27)/COUNTIF('Respuestas '!$D$3:$D$330,E$27) -> 0.125 | F62: =COUNTIFS('Respuestas '!$K$3:$K$330,$B62,'Respuestas '!$D$3:$D$330,F$27)/COUNTIF('Respuestas '!$D$3:$D$330,F$27) -> 0 | G62: =COUNTIFS('Respuestas '!$K$3:$K$330,$B62,'Respuestas '!$D$3:$D$330,G$27)/COUNTIF('Respuestas '!$D$3:$D$330,G$27) -> 0.076923077 | H62: =COUNTIFS('Respuestas '!$K$3:$K$330,$B62,'Respuestas '!$D$3:$D$330,H$27)/COUNTIF('Respuestas '!$D$3:$D$330,H$27) -> 0.125 | I62: =COUNTIFS('Respuestas '!$K$3:$K$330,$B62,'Respuestas '!$D$3:$D$330,I$27)/COUNTIF('Respuestas '!$D$3:$D$330,I$27) -> 0.14285714 | J62: =COUNTIFS('Respuestas '!$K$3:$K$330,$B62,'Respuestas '!$D$3:$D$330,J$27)/COUNTIF('Respuestas '!$D$3:$D$330,J$27) -> 0.045454545 | ... V62: =COUNTIFS('Respuestas '!$K$3:$K$330,$B62,'Respuestas '!$D$3:$D$330,V$27)/COUNTIF('Respuestas '!$D$3:$D$330,V$27) -> 0.11111111 | AB62: Ubicación y Tamaño de las Tiendas | AC62: =AVERAGEIF($C$26:$V$26,AC$27,$C62:$V62) -> 0.12325175 | AD62: =AVERAGEIF($C$26:$V$26,AD$27,$C62:$V62) -> 0.067307692 | AE62: =AVERAGEIF($C$26:$V$26,AE$27,$C62:$V62) -> 0.094155844 | AF62: =AVERAGEIF($C$26:$V$26,AF$27,$C62:$V62) -> 0.070454545 | AG62: =AVERAGEIF($C$26:$V$26,AG$27,$C62:$V62) -> 0.093560223 | AH62: =AVERAGEIF($C$26:$V$26,AH$27,$C62:$V62) -> 0.057189542
B63: Domicilios | C63: =COUNTIFS('Respuestas '!$K$3:$K$330,$B63,'Respuestas '!$D$3:$D$330,C$27)/COUNTIF('Respuestas '!$D$3:$D$330,C$27) -> 0.060606061 | D63: =COUNTIFS('Respuestas '!$K$3:$K$330,$B63,'Respuestas '!$D$3:$D$330,D$27)/COUNTIF('Respuestas '!$D$3:$D$330,D$27) -> 0 | E63: =COUNTIFS('Respuestas '!$K$3:$K$330,$B63,'Respuestas '!$D$3:$D$330,E$27)/COUNTIF('Respuestas '!$D$3:$D$330,E$27) -> 0.125 | F63: =COUNTIFS('Respuestas '!$K$3:$K$330,$B63,'Respuestas '!$D$3:$D$330,F$27)/COUNTIF('Respuestas '!$D$3:$D$330,F$27) -> 0.14285714 | G63: =COUNTIFS('Respuestas '!$K$3:$K$330,$B63,'Respuestas '!$D$3:$D$330,G$27)/COUNTIF('Respuestas '!$D$3:$D$330,G$27) -> 0 | H63: =COUNTIFS('Respuestas '!$K$3:$K$330,$B63,'Respuestas '!$D$3:$D$330,H$27)/COUNTIF('Respuestas '!$D$3:$D$330,H$27) -> 0.0625 | I63: =COUNTIFS('Respuestas '!$K$3:$K$330,$B63,'Respuestas '!$D$3:$D$330,I$27)/COUNTIF('Respuestas '!$D$3:$D$330,I$27) -> 0.071428571 | J63: =COUNTIFS('Respuestas '!$K$3:$K$330,$B63,'Respuestas '!$D$3:$D$330,J$27)/COUNTIF('Respuestas '!$D$3:$D$330,J$27) -> 0.045454545 | ... V63: =COUNTIFS('Respuestas '!$K$3:$K$330,$B63,'Respuestas '!$D$3:$D$330,V$27)/COUNTIF('Respuestas '!$D$3:$D$330,V$27) -> 0.11111111 | AB63: Domicilios | AC63: =AVERAGEIF($C$26:$V$26,AC$27,$C63:$V63) -> 0.061868687 | AD63: =AVERAGEIF($C$26:$V$26,AD$27,$C63:$V63) -> 0.068452381 | AE63: =AVERAGEIF($C$26:$V$26,AE$27,$C63:$V63) -> 0.058441558 | AF63: =AVERAGEIF($C$26:$V$26,AF$27,$C63:$V63) -> 0.07559105 | AG63: =AVERAGEIF($C$26:$V$26,AG$27,$C63:$V63) -> 0.045546559 | AH63: =AVERAGEIF($C$26:$V$26,AH$27,$C63:$V63) -> 0.095880019
C64: =SUM(C55:C63) -> 1 | D64: =SUM(D55:D63) -> 1 | E64: =SUM(E55:E63) -> 1 | F64: =SUM(F55:F63) -> 1 | G64: =SUM(G55:G63) -> 1 | H64: =SUM(H55:H63) -> 1 | I64: =SUM(I55:I63) -> 1 | J64: =SUM(J55:J63) -> 1 | ... V64: =SUM(V55:V63) -> 1 | AB64: Total | AC64: =AVERAGEIF($C$26:$V$26,AC$27,$C64:$V64) -> 1 | AD64: =AVERAGEIF($C$26:$V$26,AD$27,$C64:$V64) -> 1 | AE64: =AVERAGEIF($C$26:$V$26,AE$27,$C64:$V64) -> 1 | AF64: =AVERAGEIF($C$26:$V$26,AF$27,$C64:$V64) -> 1 | AG64: =AVERAGEIF($C$26:$V$26,AG$27,$C64:$V64) -> 1 | AH64: =AVERAGEIF($C$26:$V$26,AH$27,$C64:$V64) -> 1
B66: ¿Qué incentivos o promociones cree que podrían atraerlo a comprar más en Ara o D1? | C66: Cajicá | D66: Chía | E66: Cota | F66: Gachancipá | G66: Briceño | H66: Tocancipá | I66: Cogua | J66: Zipaquirá | K66: Sesquilé | L66: Suesca | M66: Nemocón | N66: Chocontá | O66: Subachoque | P66: Tenjo | Q66: El Rosal | R66: Tabio | S66: Madrid | T66: Mosquera | U66: Facatativá | V66: Funza | AB66: ¿Qué aspectos de la disposición de la tienda influyen en su decisión de compra? | AC66: 1 | AD66: 2 | AE66: 3 | AF66: 4 | AG66: 5 | AH66: 6
B67: Cupones | C67: =COUNTIFS('Respuestas '!$M$3:$M$330,$B67,'Respuestas '!$D$3:$D$330,C$27)/COUNTIF('Respuestas '!$D$3:$D$330,C$27) -> 0.15151515 | D67: =COUNTIFS('Respuestas '!$M$3:$M$330,$B67,'Respuestas '!$D$3:$D$330,D$27)/COUNTIF('Respuestas '!$D$3:$D$330,D$27) -> 0.15384615 | E67: =COUNTIFS('Respuestas '!$M$3:$M$330,$B67,'Respuestas '!$D$3:$D$330,E$27)/COUNTIF('Respuestas '!$D$3:$D$330,E$27) -> 0.25 | F67: =COUNTIFS('Respuestas '!$M$3:$M$330,$B67,'Respuestas '!$D$3:$D$330,F$27)/COUNTIF('Respuestas '!$D$3:$D$330,F$27) -> 0.14285714 | G67: =COUNTIFS('Respuestas '!$M$3:$M$330,$B67,'Respuestas '!$D$3:$D$330,G$27)/COUNTIF('Respuestas '!$D$3:$D$330,G$27) -> 0.23076923 | H67: =COUNTIFS('Respuestas '!$M$3:$M$330,$B67,'Respuestas '!$D$3:$D$330,H$27)/COUNTIF('Respuestas '!$D$3:$D$330,H$27) -> 0.125 | I67: =COUNTIFS('Respuestas '!$M$3:$M$330,$B67,'Respuestas '!$D$3:$D$330,I$27)/COUNTIF('Respuestas '!$D$3:$D$330,I$27) -> 0 | J67: =COUNTIFS('Respuestas '!$M$3:$M$330,$B67,'Respuestas '!$D$3:$D$330,J$27)/COUNTIF('Respuestas '!$D$3:$D$330,J$27) -> 0.090909091 | ... V67: =COUNTIFS('Respuestas '!$M$3:$M$330,$B67,'Respuestas '!$D$3:$D$330,V$27)/COUNTIF('Respuestas '!$D$3:$D$330,V$27) -> 0.27777778 | AB67: Cupones | AC67: =AVERAGEIF($C$26:$V$26,AC$27,$C67:$V67) -> 0.18512044 | AD67: =AVERAGEIF($C$26:$V$26,AD$27,$C67:$V67) -> 0.16620879 | AE67: =AVERAGEIF($C$26:$V$26,AE$27,$C67:$V67) -> 0.045454545 | AF67: =AVERAGEIF($C$26:$V$26,AF$27,$C67:$V67) -> 0.1813186 | AG67: =AVERAGEIF($C$26:$V$26,AG$27,$C67:$V67) -> 0.11987601 | AH67: =AVERAGEIF($C$26:$V$26,AH$27,$C67:$V67) -> 0.10515873
B68: Descuentos pronto a vencer | C68: =COUNTIFS('Respuestas '!$M$3:$M$330,$B68,'Respuestas '!$D$3:$D$330,C$27)/COUNTIF('Respuestas '!$D$3:$D$330,C$27) -> 0.39393939 | D68: =COUNTIFS('Respuestas '!$M$3:$M$330,$B68,'Respuestas '!$D$3:$D$330,D$27)/COUNTIF('Respuestas '!$D$3:$D$330,D$27) -> 0.076923077 | E68: =COUNTIFS('Respuestas '!$M$3:$M$330,$B68,'Respuestas '!$D$3:$D$330,E$27)/COUNTIF('Respuestas '!$D$3:$D$330,E$27) -> 0.375 | F68: =COUNTIFS('Respuestas '!$M$3:$M$330,$B68,'Respuestas '!$D$3:$D$330,F$27)/COUNTIF('Respuestas '!$D$3:$D$330,F$27) -> 0.28571429 | G68: =COUNTIFS('Respuestas '!$M$3:$M$330,$B68,'Respuestas '!$D$3:$D$330,G$27)/COUNTIF('Respuestas '!$D$3:$D$330,G$27) -> 0.46153846 | H68: =COUNTIFS('Respuestas '!$M$3:$M$330,$B68,'Respuestas '!$D$3:$D$330,H$27)/COUNTIF('Respuestas '!$D$3:$D$330,H$27) -> 0.1875 | I68: =COUNTIFS('Respuestas '!$M$3:$M$330,$B68,'Respuestas '!$D$3:$D$330,I$27)/COUNTIF('Respuestas '!$D$3:$D$330,I$27) -> 0.21428571 | J68: =COUNTIFS('Respuestas '!$M$3:$M$330,$B68,'Respuestas '!$D$3:$D$330,J$27)/COUNTIF('Respuestas '!$D$3:$D$330,J$27) -> 0.18181818 | ... V68: =COUNTIFS('Respuestas '!$M$3:$M$330,$B68,'Respuestas '!$D$3:$D$330,V$27)/COUNTIF('Respuestas '!$D$3:$D$330,V$27) -> 0.38888889 | AB68: Descuentos pronto a vencer | AC68: =AVERAGEIF($C$26:$V$26,AC$27,$C68:$V68) -> 0.28195416 | AD68: =AVERAGEIF($C$26:$V$26,AD$27,$C68:$V68) -> 0.31158425 | AE68: =AVERAGEIF($C$26:$V$26,AE$27,$C68:$V68) -> 0.19805195 | AF68: =AVERAGEIF($C$26:$V$26,AF$27,$C68:$V68) -> 0.35851745 | AG68: =AVERAGEIF($C$26:$V$26,AG$27,$C68:$V68) -> 0.27941549 | AH68: =AVERAGEIF($C$26:$V$26,AH$27,$C68:$V68) -> 0.28682306
B69: Acumulación de puntos | C69: =COUNTIFS('Respuestas '!$M$3:$M$330,$B69,'Respuestas '!$D$3:$D$330,C$27)/COUNTIF('Respuestas '!$D$3:$D$330,C$27) -> 0.12121212 | D69: =COUNTIFS('Respuestas '!$M$3:$M$330,$B69,'Respuestas '!$D$3:$D$330,D$27)/COUNTIF('Respuestas '!$D$3:$D$330,D$27) -> 0.30769231 | E69: =COUNTIFS('Respuestas '!$M$3:$M$330,$B69,'Respuestas '!$D$3:$D$330,E$27)/COUNTIF('Respuestas '!$D$3:$D$330,E$27) -> 0.125 | F69: =COUNTIFS('Respuestas '!$M$3:$M$330,$B69,'Respuestas '!$D$3:$D$330,F$27)/COUNTIF('Respuestas '!$D$3:$D$330,F$27) -> 0.14285714 | G69: =COUNTIFS('Respuestas '!$M$3:$M$330,$B69,'Respuestas '!$D$3:$D$330,G$27)/COUNTIF('Respuestas '!$D$3:$D$330,G$27) -> 0.076923077 | H69: =COUNTIFS('Respuestas '!$M$3:$M$330,$B69,'Respuestas '!$D$3:$D$330,H$27)/COUNTIF('Respuestas '!$D$3:$D$330,H$27) -> 0.125 | I69: =COUNTIFS('Respuestas '!$M$3:$M$330,$B69,'Respuestas '!$D$3:$D$330,I$27)/COUNTIF('Respuestas '!$D$3:$D$330,I$27) -> 0.21428571 | J69: =COUNTIFS('Respuestas '!$M$3:$M$330,$B69,'Respuestas '!$D$3:$D$330,J$27)/COUNTIF('Respuestas '!$D$3:$D$330,J$27) -> 0.27272727 | ... V69: =COUNTIFS('Respuestas '!$M$3:$M$330,$B69,'Respuestas '!$D$3:$D$330,V$27)/COUNTIF('Respuestas '!$D$3:$D$330,V$27) -> 0.055555556 | AB69: Acumulación de puntos | AC69: =AVERAGEIF($C$26:$V$26,AC$27,$C69:$V69) -> 0.18463481 | AD69: =AVERAGEIF($C$26:$V$26,AD$27,$C69:$V69) -> 0.11492674 | AE69: =AVERAGEIF($C$26:$V$26,AE$27,$C69:$V69) -> 0.24350649 | AF69: =AVERAGEIF($C$26:$V$26,AF$27,$C69:$V69) -> 0.10345483 | AG69: =AVERAGEIF($C$26:$V$26,AG$27,$C69:$V69) -> 0.13796812 | AH69: =AVERAGEIF($C$26:$V$26,AH$27,$C69:$V69) -> 0.22975023
B70: Promociones de productos | C70: =COUNTIFS('Respuestas '!$M$3:$M$330,$B70,'Respuestas '!$D$3:$D$330,C$27)/COUNTIF('Respuestas '!$D$3:$D$330,C$27) -> 0.33333333 | D70: =COUNTIFS('Respuestas '!$M$3:$M$330,$B70,'Respuestas '!$D$3:$D$330,D$27)/COUNTIF('Respuestas '!$D$3:$D$330,D$27) -> 0.46153846 | E70: =COUNTIFS('Respuestas '!$M$3:$M$330,$B70,'Respuestas '!$D$3:$D$330,E$27)/COUNTIF('Respuestas '!$D$3:$D$330,E$27) -> 0.125 | F70: =COUNTIFS('Respuestas '!$M$3:$M$330,$B70,'Respuestas '!$D$3:$D$330,F$27)/COUNTIF('Respuestas '!$D$3:$D$330,F$27) -> 0.42857143 | G70: =COUNTIFS('Respuestas '!$M$3:$M$330,$B70,'Respuestas '!$D$3:$D$330,G$27)/COUNTIF('Respuestas '!$D$3:$D$330,G$27) -> 0.23076923 | H70: =COUNTIFS('Respuestas '!$M$3:$M$330,$B70,'Respuestas '!$D$3:$D$330,H$27)/COUNTIF('Respuestas '!$D$3:$D$330,H$27) -> 0.5625 | I70: =COUNTIFS('Respuestas '!$M$3:$M$330,$B70,'Respuestas '!$D$3:$D$330,I$27)/COUNTIF('Respuestas '!$D$3:$D$330,I$27) -> 0.57142857 | J70: =COUNTIFS('Respuestas '!$M$3:$M$330,$B70,'Respuestas '!$D$3:$D$330,J$27)/COUNTIF('Respuestas '!$D$3:$D$330,J$27) -> 0.40909091 | ... V70: =COUNTIFS('Respuestas '!$M$3:$M$330,$B70,'Respuestas '!$D$3:$D$330,V$27)/COUNTIF('Respuestas '!$D$3:$D$330,V$27) -> 0.27777778 | AB70: Promociones de productos | AC70: =AVERAGEIF($C$26:$V$26,AC$27,$C70:$V70) -> 0.30662393 | AD70: =AVERAGEIF($C$26:$V$26,AD$27,$C70:$V70) -> 0.40728022 | AE70: =AVERAGEIF($C$26:$V$26,AE$27,$C70:$V70) -> 0.49025974 | AF70: =AVERAGEIF($C$26:$V$26,AF$27,$C70:$V70) -> 0.33398185 | AG70: =AVERAGEIF($C$26:$V$26,AG$27,$C70:$V70) -> 0.40156883 | AH70: =AVERAGEIF($C$26:$V$26,AH$27,$C70:$V70) -> 0.37826797
B71: Fiar | C71: =COUNTIFS('Respuestas '!$M$3:$M$330,$B71,'Respuestas '!$D$3:$D$330,C$27)/COUNTIF('Respuestas '!$D$3:$D$330,C$27) -> 0 | D71: =COUNTIFS('Respuestas '!$M$3:$M$330,$B71,'Respuestas '!$D$3:$D$330,D$27)/COUNTIF('Respuestas '!$D$3:$D$330,D$27) -> 0 | E71: =COUNTIFS('Respuestas '!$M$3:$M$330,$B71,'Respuestas '!$D$3:$D$330,E$27)/COUNTIF('Respuestas '!$D$3:$D$330,E$27) -> 0.125 | F71: =COUNTIFS('Respuestas '!$M$3:$M$330,$B71,'Respuestas '!$D$3:$D$330,F$27)/COUNTIF('Respuestas '!$D$3:$D$330,F$27) -> 0 | G71: =COUNTIFS('Respuestas '!$M$3:$M$330,$B71,'Respuestas '!$D$3:$D$330,G$27)/COUNTIF('Respuestas '!$D$3:$D$330,G$27) -> 0 | H71: =COUNTIFS('Respuestas '!$M$3:$M$330,$B71,'Respuestas '!$D$3:$D$330,H$27)/COUNTIF('Respuestas '!$D$3:$D$330,H$27) -> 0 | I71: =COUNTIFS('Respuestas '!$M$3:$M$330,$B71,'Respuestas '!$D$3:$D$330,I$27)/COUNTIF('Respuestas '!$D$3:$D$330,I$27) -> 0 | J71: =COUNTIFS('Respuestas '!$M$3:$M$330,$B71,'Respuestas '!$D$3:$D$330,J$27)/COUNTIF('Respuestas '!$D$3:$D$330,J$27) -> 0 | ... V71: =COUNTIFS('Respuestas '!$M$3:$M$330,$B71,'Respuestas '!$D$3:$D$330,V$27)/COUNTIF('Respuestas '!$D$3:$D$330,V$27) -> 0 | AB71: Fiar | AC71: =AVERAGEIF($C$26:$V$26,AC$27,$C71:$V71) -> 0.041666667 | AD71: =AVERAGEIF($C$26:$V$26,AD$27,$C71:$V71) -> 0 | AE71: =AVERAGEIF($C$26:$V$26,AE$27,$C71:$V71) -> 0 | AF71: =AVERAGEIF($C$26:$V$26,AF$27,$C71:$V71) -> 0 | AG71: =AVERAGEIF($C$26:$V$26,AG$27,$C71:$V71) -> 0.019230769 | AH71: =AVERAGEIF($C$26:$V$26,AH$27,$C71:$V71) -> 0
B72: Premios/ rifas | C72: =COUNTIFS('Respuestas '!$M$3:$M$330,$B72,'Respuestas '!$D$3:$D$330,C$27)/COUNTIF('Respuestas '!$D$3:$D$330,C$27) -> 0 | D72: =COUNTIFS('Respuestas '!$M$3:$M$330,$B72,'Respuestas '!$D$3:$D$330,D$27)/COUNTIF('Respuestas '!$D$3:$D$330,D$27) -> 0 | E72: =COUNTIFS('Respuestas '!$M$3:$M$330,$B72,'Respuestas '!$D$3:$D$330,E$27)/COUNTIF('Respuestas '!$D$3:$D$330,E$27) -> 0 | F72: =COUNTIFS('Respuestas '!$M$3:$M$330,$B72,'Respuestas '!$D$3:$D$330,F$27)/COUNTIF('Respuestas '!$D$3:$D$330,F$27) -> 0 | G72: =COUNTIFS('Respuestas '!$M$3:$M$330,$B72,'Respuestas '!$D$3:$D$330,G$27)/COUNTIF('Respuestas '!$D$3:$D$330,G$27) -> 0 | H72: =COUNTIFS('Respuestas '!$M$3:$M$330,$B72,'Respuestas '!$D$3:$D$330,H$27)/COUNTIF('Respuestas '!$D$3:$D$330,H$27) -> 0 | I72: =COUNTIFS('Respuestas '!$M$3:$M$330,$B72,'Respuestas '!$D$3:$D$330,I$27)/COUNTIF('Respuestas '!$D$3:$D$330,I$27) -> 0 | J72: =COUNTIFS('Respuestas '!$M$3:$M$330,$B72,'Respuestas '!$D$3:$D$330,J$27)/COUNTIF('Respuestas '!$D$3:$D$330,J$27) -> 0.045454545 | ... V72: =COUNTIFS('Respuestas '!$M$3:$M$330,$B72,'Respuestas '!$D$3:$D$330,V$27)/COUNTIF('Respuestas '!$D$3:$D$330,V$27) -> 0 | AB72: Premios/ rifas | AC72: =AVERAGEIF($C$26:$V$26,AC$27,$C72:$V72) -> 0 | AD72: =AVERAGEIF($C$26:$V$26,AD$27,$C72:$V72) -> 0 | AE72: =AVERAGEIF($C$26:$V$26,AE$27,$C72:$V72) -> 0.022727273 | AF72: =AVERAGEIF($C$26:$V$26,AF$27,$C72:$V72) -> 0.022727273 | AG72: =AVERAGEIF($C$26:$V$26,AG$27,$C72:$V72) -> 0.041940789 | AH72: =AVERAGEIF($C$26:$V$26,AH$27,$C72:$V72) -> 0
AB73: Total | AC73: =SUM(AC67:AC72) -> 1 | AD73: =SUM(AD67:AD72) -> 1 | AE73: =SUM(AE67:AE72) -> 1 | AF73: =SUM(AF67:AF72) -> 1 | AG73: =SUM(AG67:AG72) -> 1 | AH73: =SUM(AH67:AH72) -> 1
B75: ¿Cree que los supermercados tradicionales podrían adoptar algunas prácticas de Ara o D1 para mejorar su oferta y competir mejor? ¿Cuáles? | C75: Cajicá | D75: Chía | E75: Cota | F75: Gachancipá | G75: Briceño | H75: Tocancipá | I75: Cogua | J75: Zipaquirá | K75: Sesquilé | L75: Suesca | M75: Nemocón | N75: Chocontá | O75: Subachoque | P75: Tenjo | Q75: El Rosal | R75: Tabio | S75: Madrid | T75: Mosquera | U75: Facatativá | V75: Funza | AB75: ¿Qué aspectos de la disposición de la tienda influyen en su decisión de compra? | AC75: 1 | AD75: 2 | AE75: 3 | AF75: 4 | AG75: 5 | AH75: 6
B76: Precios competitivos | C76: =COUNTIFS('Respuestas '!$N$3:$N$330,$B76,'Respuestas '!$D$3:$D$330,C$27)/COUNTIF('Respuestas '!$D$3:$D$330,C$27) -> 0.48484848 | D76: =COUNTIFS('Respuestas '!$N$3:$N$330,$B76,'Respuestas '!$D$3:$D$330,D$27)/COUNTIF('Respuestas '!$D$3:$D$330,D$27) -> 0.46153846 | E76: =COUNTIFS('Respuestas '!$N$3:$N$330,$B76,'Respuestas '!$D$3:$D$330,E$27)/COUNTIF('Respuestas '!$D$3:$D$330,E$27) -> 0.25 | F76: =COUNTIFS('Respuestas '!$N$3:$N$330,$B76,'Respuestas '!$D$3:$D$330,F$27)/COUNTIF('Respuestas '!$D$3:$D$330,F$27) -> 0.57142857 | G76: =COUNTIFS('Respuestas '!$N$3:$N$330,$B76,'Respuestas '!$D$3:$D$330,G$27)/COUNTIF('Respuestas '!$D$3:$D$330,G$27) -> 0.46153846 | H76: =COUNTIFS('Respuestas '!$N$3:$N$330,$B76,'Respuestas '!$D$3:$D$330,H$27)/COUNTIF('Respuestas '!$D$3:$D$330,H$27) -> 0.4375 | I76: =COUNTIFS('Respuestas '!$N$3:$N$330,$B76,'Respuestas '!$D$3:$D$330,I$27)/COUNTIF('Respuestas '!$D$3:$D$330,I$27) -> 0.64285714 | J76: =COUNTIFS('Respuestas '!$N$3:$N$330,$B76,'Respuestas '!$D$3:$D$330,J$27)/COUNTIF('Respuestas '!$D$3:$D$330,J$27) -> 0.31818182 | ... V76: =COUNTIFS('Respuestas '!$N$3:$N$330,$B76,'Respuestas '!$D$3:$D$330,V$27)/COUNTIF('Respuestas '!$D$3:$D$330,V$27) -> 0.33333333 | AB76: Precios competitivos | AC76: =AVERAGEIF($C$26:$V$26,AC$27,$C76:$V76) -> 0.39879565 | AD76: =AVERAGEIF($C$26:$V$26,AD$27,$C76:$V76) -> 0.49015568 | AE76: =AVERAGEIF($C$26:$V$26,AE$27,$C76:$V76) -> 0.48051948 | AF76: =AVERAGEIF($C$26:$V$26,AF$27,$C76:$V76) -> 0.48448494 | AG76: =AVERAGEIF($C$26:$V$26,AG$27,$C76:$V76) -> 0.41605516 | AH76: =AVERAGEIF($C$26:$V$26,AH$27,$C76:$V76) -> 0.43312325
B77: Variedad de Productos | C77: =COUNTIFS('Respuestas '!$N$3:$N$330,$B77,'Respuestas '!$D$3:$D$330,C$27)/COUNTIF('Respuestas '!$D$3:$D$330,C$27) -> 0.12121212 | D77: =COUNTIFS('Respuestas '!$N$3:$N$330,$B77,'Respuestas '!$D$3:$D$330,D$27)/COUNTIF('Respuestas '!$D$3:$D$330,D$27) -> 0.076923077 | E77: =COUNTIFS('Respuestas '!$N$3:$N$330,$B77,'Respuestas '!$D$3:$D$330,E$27)/COUNTIF('Respuestas '!$D$3:$D$330,E$27) -> 0.25 | F77: =COUNTIFS('Respuestas '!$N$3:$N$330,$B77,'Respuestas '!$D$3:$D$330,F$27)/COUNTIF('Respuestas '!$D$3:$D$330,F$27) -> 0 | G77: =COUNTIFS('Respuestas '!$N$3:$N$330,$B77,'Respuestas '!$D$3:$D$330,G$27)/COUNTIF('Respuestas '!$D$3:$D$330,G$27) -> 0.076923077 | H77: =COUNTIFS('Respuestas '!$N$3:$N$330,$B77,'Respuestas '!$D$3:$D$330,H$27)/COUNTIF('Respuestas '!$D$3:$D$330,H$27) -> 0.125 | I77: =COUNTIFS('Respuestas '!$N$3:$N$330,$B77,'Respuestas '!$D$3:$D$330,I$27)/COUNTIF('Respuestas '!$D$3:$D$330,I$27) -> 0.071428571 | J77: =COUNTIFS('Respuestas '!$N$3:$N$330,$B77,'Respuestas '!$D$3:$D$330,J$27)/COUNTIF('Respuestas '!$D$3:$D$330,J$27) -> 0.18181818 | ... V77: =COUNTIFS('Respuestas '!$N$3:$N$330,$B77,'Respuestas '!$D$3:$D$330,V$27)/COUNTIF('Respuestas '!$D$3:$D$330,V$27) -> 0.33333333 | AB77: Variedad de Productos | AC77: =AVERAGEIF($C$26:$V$26,AC$27,$C77:$V77) -> 0.1493784 | AD77: =AVERAGEIF($C$26:$V$26,AD$27,$C77:$V77) -> 0.067307692 | AE77: =AVERAGEIF($C$26:$V$26,AE$27,$C77:$V77) -> 0.12662338 | AF77: =AVERAGEIF($C$26:$V$26,AF$27,$C77:$V77) -> 0.12756473 | AG77: =AVERAGEIF($C$26:$V$26,AG$27,$C77:$V77) -> 0.1618168 | AH77: =AVERAGEIF($C$26:$V$26,AH$27,$C77:$V77) -> 0.18714986
B78: Ubicación y Accesibilidad | C78: =COUNTIFS('Respuestas '!$N$3:$N$330,$B78,'Respuestas '!$D$3:$D$330,C$27)/COUNTIF('Respuestas '!$D$3:$D$330,C$27) -> 0.3030303 | D78: =COUNTIFS('Respuestas '!$N$3:$N$330,$B78,'Respuestas '!$D$3:$D$330,D$27)/COUNTIF('Respuestas '!$D$3:$D$330,D$27) -> 0.38461538 | E78: =COUNTIFS('Respuestas '!$N$3:$N$330,$B78,'Respuestas '!$D$3:$D$330,E$27)/COUNTIF('Respuestas '!$D$3:$D$330,E$27) -> 0.25 | F78: =COUNTIFS('Respuestas '!$N$3:$N$330,$B78,'Respuestas '!$D$3:$D$330,F$27)/COUNTIF('Respuestas '!$D$3:$D$330,F$27) -> 0.14285714 | G78: =COUNTIFS('Respuestas '!$N$3:$N$330,$B78,'Respuestas '!$D$3:$D$330,G$27)/COUNTIF('Respuestas '!$D$3:$D$330,G$27) -> 0.30769231 | H78: =COUNTIFS('Respuestas '!$N$3:$N$330,$B78,'Respuestas '!$D$3:$D$330,H$27)/COUNTIF('Respuestas '!$D$3:$D$330,H$27) -> 0.3125 | I78: =COUNTIFS('Respuestas '!$N$3:$N$330,$B78,'Respuestas '!$D$3:$D$330,I$27)/COUNTIF('Respuestas '!$D$3:$D$330,I$27) -> 0.21428571 | J78: =COUNTIFS('Respuestas '!$N$3:$N$330,$B78,'Respuestas '!$D$3:$D$330,J$27)/COUNTIF('Respuestas '!$D$3:$D$330,J$27) -> 0.31818182 | ... V78: =COUNTIFS('Respuestas '!$N$3:$N$330,$B78,'Respuestas '!$D$3:$D$330,V$27)/COUNTIF('Respuestas '!$D$3:$D$330,V$27) -> 0.16666667 | AB78: Ubicación y Accesibilidad | AC78: =AVERAGEIF($C$26:$V$26,AC$27,$C78:$V78) -> 0.31254856 | AD78: =AVERAGEIF($C$26:$V$26,AD$27,$C78:$V78) -> 0.25434982 | AE78: =AVERAGEIF($C$26:$V$26,AE$27,$C78:$V78) -> 0.26623377 | AF78: =AVERAGEIF($C$26:$V$26,AF$27,$C78:$V78) -> 0.18999789 | AG78: =AVERAGEIF($C$26:$V$26,AG$27,$C78:$V78) -> 0.31294281 | AH78: =AVERAGEIF($C$26:$V$26,AH$27,$C78:$V78) -> 0.24597339
B79: Atención al cliente | C79: =COUNTIFS('Respuestas '!$N$3:$N$330,$B79,'Respuestas '!$D$3:$D$330,C$27)/COUNTIF('Respuestas '!$D$3:$D$330,C$27) -> 0.090909091 | D79: =COUNTIFS('Respuestas '!$N$3:$N$330,$B79,'Respuestas '!$D$3:$D$330,D$27)/COUNTIF('Respuestas '!$D$3:$D$330,D$27) -> 0.076923077 | E79: =COUNTIFS('Respuestas '!$N$3:$N$330,$B79,'Respuestas '!$D$3:$D$330,E$27)/COUNTIF('Respuestas '!$D$3:$D$330,E$27) -> 0.25 | F79: =COUNTIFS('Respuestas '!$N$3:$N$330,$B79,'Respuestas '!$D$3:$D$330,F$27)/COUNTIF('Respuestas '!$D$3:$D$330,F$27) -> 0.28571429 | G79: =COUNTIFS('Respuestas '!$N$3:$N$330,$B79,'Respuestas '!$D$3:$D$330,G$27)/COUNTIF('Respuestas '!$D$3:$D$330,G$27) -> 0.15384615 | H79: =COUNTIFS('Respuestas '!$N$3:$N$330,$B79,'Respuestas '!$D$3:$D$330,H$27)/COUNTIF('Respuestas '!$D$3:$D$330,H$27) -> 0.125 | I79: =COUNTIFS('Respuestas '!$N$3:$N$330,$B79,'Respuestas '!$D$3:$D$330,I$27)/COUNTIF('Respuestas '!$D$3:$D$330,I$27) -> 0.071428571 | J79: =COUNTIFS('Respuestas '!$N$3:$N$330,$B79,'Respuestas '!$D$3:$D$330,J$27)/COUNTIF('Respuestas '!$D$3:$D$330,J$27) -> 0.18181818 | ... V79: =COUNTIFS('Respuestas '!$N$3:$N$330,$B79,'Respuestas '!$D$3:$D$330,V$27)/COUNTIF('Respuestas '!$D$3:$D$330,V$27) -> 0.16666667 | AB79: Atención al cliente | AC79: =AVERAGEIF($C$26:$V$26,AC$27,$C79:$V79) -> 0.13927739 | AD79: =AVERAGEIF($C$26:$V$26,AD$27,$C79:$V79) -> 0.18818681 | AE79: =AVERAGEIF($C$26:$V$26,AE$27,$C79:$V79) -> 0.12662338 | AF79: =AVERAGEIF($C$26:$V$26,AF$27,$C79:$V79) -> 0.19795243 | AG79: =AVERAGEIF($C$26:$V$26,AG$27,$C79:$V79) -> 0.10918522 | AH79: =AVERAGEIF($C$26:$V$26,AH$27,$C79:$V79) -> 0.1337535
AB80: total | AC80: =SUM(AC76:AC79) -> 1 | AD80: =SUM(AD76:AD79) -> 1 | AE80: =SUM(AE76:AE79) -> 1 | AF80: =SUM(AF76:AF79) -> 1 | AG80: =SUM(AG76:AG79) -> 1 | AH80: =SUM(AH76:AH79) -> 1

Sheet Tablas 
D7: Numero | E7: Calificación | F7: Satifacción del cliente | H7: Segmento | I7: Expextativa | J7: Realidad | K7: Satisfacción
D8: 1. | E8: 3 | F8: Excelente | H8: 1 | I8: 0.46115644 | J8: 0.74966006 | K8: 0.28850363
D9: 2. | E9: 2.7 | F9: Sobresaliente | H9: 2 | I9: 0.50253358 | J9: 0.73869048 | K9: 0.2361569
D10: 3. | E10: 2.4 | F10: Muy bueno | H10: 3 | I10: 0.46493506 | J10: 0.71071429 | K10: 0.24577922
D11: 4. | E11: 2.1 | F11: Bueno | H11: 4 | I11: 0.49597453 | J11: 0.71352906 | K11: 0.21755453
D12: 5. | E12: 1.8 | F12: Aceptable | H12: 5 | I12: 0.4817392 | J12: 0.70457047 | K12: 0.22283127
D13: 6. | E13: 1.5 | F13: Regular | H13: 6 | I13: 0.45958217 | J13: 0.73045051 | K13: 0.27086835
D14: 7. | E14: 1.2 | F14: Insatisfactorio
D15: 8. | E15: 0.9 | F15: Malo
D16: 9. | E16: 0.6 | F16: Muy malo
D17: 10. | E17: 0.3 | F17: Pésimo
